| Back to Multiple platform build/check report for BioC 3.18: simplified long |
|
This page was generated on 2024-04-17 11:38:00 -0400 (Wed, 17 Apr 2024).
| Hostname | OS | Arch (*) | R version | Installed pkgs |
|---|---|---|---|---|
| nebbiolo2 | Linux (Ubuntu 22.04.3 LTS) | x86_64 | 4.3.3 (2024-02-29) -- "Angel Food Cake" | 4676 |
| palomino4 | Windows Server 2022 Datacenter | x64 | 4.3.3 (2024-02-29 ucrt) -- "Angel Food Cake" | 4414 |
| merida1 | macOS 12.7.1 Monterey | x86_64 | 4.3.3 (2024-02-29) -- "Angel Food Cake" | 4437 |
| Click on any hostname to see more info about the system (e.g. compilers) (*) as reported by 'uname -p', except on Windows and Mac OS X | ||||
| Package 1413/2266 | Hostname | OS / Arch | INSTALL | BUILD | CHECK | BUILD BIN | ||||||||
| ngsReports 2.4.0 (landing page) Stevie Pederson
| nebbiolo2 | Linux (Ubuntu 22.04.3 LTS) / x86_64 | OK | OK | OK | |||||||||
| palomino4 | Windows Server 2022 Datacenter / x64 | OK | OK | OK | OK | |||||||||
| merida1 | macOS 12.7.1 Monterey / x86_64 | OK | OK | OK | OK | |||||||||
| kjohnson1 | macOS 13.6.1 Ventura / arm64 | see weekly results here | ||||||||||||
|
To the developers/maintainers of the ngsReports package: - Allow up to 24 hours (and sometimes 48 hours) for your latest push to git@git.bioconductor.org:packages/ngsReports.git to reflect on this report. See Troubleshooting Build Report for more information. - Use the following Renviron settings to reproduce errors and warnings. - If 'R CMD check' started to fail recently on the Linux builder(s) over a missing dependency, add the missing dependency to 'Suggests:' in your DESCRIPTION file. See Renviron.bioc for more information. |
| Package: ngsReports |
| Version: 2.4.0 |
| Command: /Library/Frameworks/R.framework/Resources/bin/R CMD check --install=check:ngsReports.install-out.txt --library=/Library/Frameworks/R.framework/Resources/library --no-vignettes --timings ngsReports_2.4.0.tar.gz |
| StartedAt: 2024-04-16 06:14:48 -0400 (Tue, 16 Apr 2024) |
| EndedAt: 2024-04-16 06:21:37 -0400 (Tue, 16 Apr 2024) |
| EllapsedTime: 408.8 seconds |
| RetCode: 0 |
| Status: OK |
| CheckDir: ngsReports.Rcheck |
| Warnings: 0 |
##############################################################################
##############################################################################
###
### Running command:
###
### /Library/Frameworks/R.framework/Resources/bin/R CMD check --install=check:ngsReports.install-out.txt --library=/Library/Frameworks/R.framework/Resources/library --no-vignettes --timings ngsReports_2.4.0.tar.gz
###
##############################################################################
##############################################################################
* using log directory ‘/Users/biocbuild/bbs-3.18-bioc/meat/ngsReports.Rcheck’
* using R version 4.3.3 (2024-02-29)
* using platform: x86_64-apple-darwin20 (64-bit)
* R was compiled by
Apple clang version 14.0.0 (clang-1400.0.29.202)
GNU Fortran (GCC) 12.2.0
* running under: macOS Monterey 12.7.1
* using session charset: UTF-8
* using option ‘--no-vignettes’
* checking for file ‘ngsReports/DESCRIPTION’ ... OK
* this is package ‘ngsReports’ version ‘2.4.0’
* package encoding: UTF-8
* checking package namespace information ... OK
* checking package dependencies ... OK
* checking if this is a source package ... OK
* checking if there is a namespace ... OK
* checking for hidden files and directories ... OK
* checking for portable file names ... OK
* checking for sufficient/correct file permissions ... OK
* checking whether package ‘ngsReports’ can be installed ... OK
* checking installed package size ... OK
* checking package directory ... OK
* checking ‘build’ directory ... OK
* checking DESCRIPTION meta-information ... OK
* checking top-level files ... OK
* checking for left-over files ... OK
* checking index information ... OK
* checking package subdirectories ... OK
* checking R files for non-ASCII characters ... OK
* checking R files for syntax errors ... OK
* checking whether the package can be loaded ... OK
* checking whether the package can be loaded with stated dependencies ... OK
* checking whether the package can be unloaded cleanly ... OK
* checking whether the namespace can be loaded with stated dependencies ... OK
* checking whether the namespace can be unloaded cleanly ... OK
* checking dependencies in R code ... OK
* checking S3 generic/method consistency ... OK
* checking replacement functions ... OK
* checking foreign function calls ... OK
* checking R code for possible problems ... OK
* checking Rd files ... OK
* checking Rd metadata ... OK
* checking Rd cross-references ... OK
* checking for missing documentation entries ... OK
* checking for code/documentation mismatches ... OK
* checking Rd \usage sections ... OK
* checking Rd contents ... OK
* checking for unstated dependencies in examples ... OK
* checking contents of ‘data’ directory ... OK
* checking data for non-ASCII characters ... OK
* checking LazyData ... OK
* checking data for ASCII and uncompressed saves ... OK
* checking files in ‘vignettes’ ... OK
* checking examples ... OK
Examples with CPU (user + system) or elapsed time > 5s
user system elapsed
plotAdapterContent-methods 5.724 0.186 6.436
* checking for unstated dependencies in ‘tests’ ... OK
* checking tests ...
Running ‘testthat.R’
OK
* checking for unstated dependencies in vignettes ... OK
* checking package vignettes in ‘inst/doc’ ... OK
* checking running R code from vignettes ... SKIPPED
* checking re-building of vignette outputs ... SKIPPED
* checking PDF version of manual ... OK
* DONE
Status: OK
ngsReports.Rcheck/00install.out
############################################################################## ############################################################################## ### ### Running command: ### ### /Library/Frameworks/R.framework/Resources/bin/R CMD INSTALL ngsReports ### ############################################################################## ############################################################################## * installing to library ‘/Library/Frameworks/R.framework/Versions/4.3-x86_64/Resources/library’ * installing *source* package ‘ngsReports’ ... ** using staged installation ** R ** data *** moving datasets to lazyload DB ** inst ** byte-compile and prepare package for lazy loading ** help *** installing help indices *** copying figures ** building package indices ** installing vignettes ** testing if installed package can be loaded from temporary location ** testing if installed package can be loaded from final location ** testing if installed package keeps a record of temporary installation path * DONE (ngsReports)
ngsReports.Rcheck/tests/testthat.Rout
R version 4.3.3 (2024-02-29) -- "Angel Food Cake"
Copyright (C) 2024 The R Foundation for Statistical Computing
Platform: x86_64-apple-darwin20 (64-bit)
R is free software and comes with ABSOLUTELY NO WARRANTY.
You are welcome to redistribute it under certain conditions.
Type 'license()' or 'licence()' for distribution details.
R is a collaborative project with many contributors.
Type 'contributors()' for more information and
'citation()' on how to cite R or R packages in publications.
Type 'demo()' for some demos, 'help()' for on-line help, or
'help.start()' for an HTML browser interface to help.
Type 'q()' to quit R.
> library(testthat)
> library(ngsReports)
Loading required package: BiocGenerics
Attaching package: 'BiocGenerics'
The following objects are masked from 'package:stats':
IQR, mad, sd, var, xtabs
The following objects are masked from 'package:base':
Filter, Find, Map, Position, Reduce, anyDuplicated, aperm, append,
as.data.frame, basename, cbind, colnames, dirname, do.call,
duplicated, eval, evalq, get, grep, grepl, intersect, is.unsorted,
lapply, mapply, match, mget, order, paste, pmax, pmax.int, pmin,
pmin.int, rank, rbind, rownames, sapply, setdiff, sort, table,
tapply, union, unique, unsplit, which.max, which.min
Loading required package: ggplot2
Loading required package: patchwork
Loading required package: tibble
>
> test_check("ngsReports")
2024-04-16 06:20:59.165 R[7120:2548193267] XType: com.apple.fonts is not accessible.
2024-04-16 06:20:59.166 R[7120:2548193267] XType: XTFontStaticRegistry is enabled.
[ FAIL 0 | WARN 1 | SKIP 0 | PASS 372 ]
[ FAIL 0 | WARN 1 | SKIP 0 | PASS 372 ]
>
> proc.time()
user system elapsed
95.611 2.769 107.420
ngsReports.Rcheck/ngsReports-Ex.timings
| name | user | system | elapsed | |
| FastqcData | 0.158 | 0.010 | 0.180 | |
| FastqcDataList | 0.706 | 0.031 | 0.792 | |
| TheoreticalGC-class | 0.138 | 0.006 | 0.150 | |
| dot-FastqcFile-class | 0.005 | 0.002 | 0.007 | |
| dot-addPercent | 0.000 | 0.001 | 0.001 | |
| dot-emptyPlot | 0.288 | 0.009 | 0.314 | |
| dot-makeDendro | 0.746 | 0.029 | 0.823 | |
| dot-makeLabels | 0.002 | 0.000 | 0.002 | |
| dot-splitByTab | 0.007 | 0.001 | 0.008 | |
| estGcDistn | 0.044 | 0.002 | 0.048 | |
| extract-methods | 0.709 | 0.023 | 0.793 | |
| fqName-methods | 0.686 | 0.023 | 0.756 | |
| fqcVersion | 0.742 | 0.021 | 0.802 | |
| gcAvail | 0.044 | 0.001 | 0.046 | |
| gcTheoretical | 0.079 | 0.001 | 0.080 | |
| getColours-methods | 0.003 | 0.000 | 0.004 | |
| getGC | 0.038 | 0.001 | 0.039 | |
| getModule | 0.805 | 0.020 | 0.850 | |
| getSummary | 0.716 | 0.021 | 0.799 | |
| importNgsLogs | 0.062 | 0.002 | 0.075 | |
| importSJ | 0.012 | 0.001 | 0.021 | |
| isCompressed | 0.003 | 0.002 | 0.004 | |
| mData | 0.045 | 0.000 | 0.050 | |
| maxAdapterContent | 0.958 | 0.024 | 1.116 | |
| overRep2Fasta-methods | 0.735 | 0.022 | 0.809 | |
| path | 0.709 | 0.022 | 0.781 | |
| plotAdapterContent-methods | 5.724 | 0.186 | 6.436 | |
| plotAlignmentSummary | 0.502 | 0.005 | 0.556 | |
| plotAssemblyStats | 1.205 | 0.009 | 1.331 | |
| plotBaseQuals-methods | 3.006 | 0.042 | 3.346 | |
| plotDupLevels-methods | 2.233 | 0.036 | 2.527 | |
| plotFastqcPCA-methods | 1.233 | 0.043 | 1.434 | |
| plotGcContent-methods | 1.788 | 0.030 | 2.042 | |
| plotInsertSize-methods | 1.160 | 0.010 | 1.265 | |
| plotKmers-methods | 2.944 | 0.045 | 3.262 | |
| plotNContent-methods | 1.587 | 0.011 | 1.734 | |
| plotOverrep-methods | 1.462 | 0.025 | 1.608 | |
| plotReadTotals-methods | 1.466 | 0.025 | 1.635 | |
| plotSeqContent-methods | 3.299 | 0.039 | 3.667 | |
| plotSeqLengthDistn-methods | 2.190 | 0.029 | 2.427 | |
| plotSeqQuals-methods | 2.455 | 0.029 | 2.719 | |
| plotSummary-methods | 1.063 | 0.021 | 1.168 | |
| pwf | 0.007 | 0.002 | 0.009 | |
| readTotals | 0.700 | 0.022 | 0.795 | |
| writeHtmlReport | 0.000 | 0.001 | 0.001 | |