| Back to Multiple platform build/check report for BioC 3.18: simplified long |
|
This page was generated on 2024-04-17 11:36:11 -0400 (Wed, 17 Apr 2024).
| Hostname | OS | Arch (*) | R version | Installed pkgs |
|---|---|---|---|---|
| nebbiolo2 | Linux (Ubuntu 22.04.3 LTS) | x86_64 | 4.3.3 (2024-02-29) -- "Angel Food Cake" | 4676 |
| palomino4 | Windows Server 2022 Datacenter | x64 | 4.3.3 (2024-02-29 ucrt) -- "Angel Food Cake" | 4414 |
| merida1 | macOS 12.7.1 Monterey | x86_64 | 4.3.3 (2024-02-29) -- "Angel Food Cake" | 4437 |
| Click on any hostname to see more info about the system (e.g. compilers) (*) as reported by 'uname -p', except on Windows and Mac OS X | ||||
| Package 1413/2266 | Hostname | OS / Arch | INSTALL | BUILD | CHECK | BUILD BIN | ||||||||
| ngsReports 2.4.0 (landing page) Stevie Pederson
| nebbiolo2 | Linux (Ubuntu 22.04.3 LTS) / x86_64 | OK | OK | OK | |||||||||
| palomino4 | Windows Server 2022 Datacenter / x64 | OK | OK | OK | OK | |||||||||
| merida1 | macOS 12.7.1 Monterey / x86_64 | OK | OK | OK | OK | |||||||||
| kjohnson1 | macOS 13.6.1 Ventura / arm64 | see weekly results here | ||||||||||||
|
To the developers/maintainers of the ngsReports package: - Allow up to 24 hours (and sometimes 48 hours) for your latest push to git@git.bioconductor.org:packages/ngsReports.git to reflect on this report. See Troubleshooting Build Report for more information. - Use the following Renviron settings to reproduce errors and warnings. - If 'R CMD check' started to fail recently on the Linux builder(s) over a missing dependency, add the missing dependency to 'Suggests:' in your DESCRIPTION file. See Renviron.bioc for more information. |
| Package: ngsReports |
| Version: 2.4.0 |
| Command: /home/biocbuild/bbs-3.18-bioc/R/bin/R CMD check --install=check:ngsReports.install-out.txt --library=/home/biocbuild/bbs-3.18-bioc/R/site-library --timings ngsReports_2.4.0.tar.gz |
| StartedAt: 2024-04-16 01:32:46 -0400 (Tue, 16 Apr 2024) |
| EndedAt: 2024-04-16 01:36:25 -0400 (Tue, 16 Apr 2024) |
| EllapsedTime: 218.5 seconds |
| RetCode: 0 |
| Status: OK |
| CheckDir: ngsReports.Rcheck |
| Warnings: 0 |
##############################################################################
##############################################################################
###
### Running command:
###
### /home/biocbuild/bbs-3.18-bioc/R/bin/R CMD check --install=check:ngsReports.install-out.txt --library=/home/biocbuild/bbs-3.18-bioc/R/site-library --timings ngsReports_2.4.0.tar.gz
###
##############################################################################
##############################################################################
* using log directory ‘/home/biocbuild/bbs-3.18-bioc/meat/ngsReports.Rcheck’
* using R version 4.3.3 (2024-02-29)
* using platform: x86_64-pc-linux-gnu (64-bit)
* R was compiled by
gcc (Ubuntu 11.4.0-1ubuntu1~22.04) 11.4.0
GNU Fortran (Ubuntu 11.4.0-1ubuntu1~22.04) 11.4.0
* running under: Ubuntu 22.04.4 LTS
* using session charset: UTF-8
* checking for file ‘ngsReports/DESCRIPTION’ ... OK
* this is package ‘ngsReports’ version ‘2.4.0’
* package encoding: UTF-8
* checking package namespace information ... OK
* checking package dependencies ... OK
* checking if this is a source package ... OK
* checking if there is a namespace ... OK
* checking for hidden files and directories ... OK
* checking for portable file names ... OK
* checking for sufficient/correct file permissions ... OK
* checking whether package ‘ngsReports’ can be installed ... OK
* checking installed package size ... OK
* checking package directory ... OK
* checking ‘build’ directory ... OK
* checking DESCRIPTION meta-information ... OK
* checking top-level files ... OK
* checking for left-over files ... OK
* checking index information ... OK
* checking package subdirectories ... OK
* checking R files for non-ASCII characters ... OK
* checking R files for syntax errors ... OK
* checking whether the package can be loaded ... OK
* checking whether the package can be loaded with stated dependencies ... OK
* checking whether the package can be unloaded cleanly ... OK
* checking whether the namespace can be loaded with stated dependencies ... OK
* checking whether the namespace can be unloaded cleanly ... OK
* checking loading without being on the library search path ... OK
* checking dependencies in R code ... OK
* checking S3 generic/method consistency ... OK
* checking replacement functions ... OK
* checking foreign function calls ... OK
* checking R code for possible problems ... OK
* checking Rd files ... OK
* checking Rd metadata ... OK
* checking Rd cross-references ... OK
* checking for missing documentation entries ... OK
* checking for code/documentation mismatches ... OK
* checking Rd \usage sections ... OK
* checking Rd contents ... OK
* checking for unstated dependencies in examples ... OK
* checking contents of ‘data’ directory ... OK
* checking data for non-ASCII characters ... OK
* checking LazyData ... OK
* checking data for ASCII and uncompressed saves ... OK
* checking files in ‘vignettes’ ... OK
* checking examples ... OK
* checking for unstated dependencies in ‘tests’ ... OK
* checking tests ...
Running ‘testthat.R’
OK
* checking for unstated dependencies in vignettes ... OK
* checking package vignettes in ‘inst/doc’ ... OK
* checking running R code from vignettes ...
‘ngsReportsIntroduction.Rmd’ using ‘UTF-8’... OK
OK
* checking re-building of vignette outputs ... OK
* checking PDF version of manual ... OK
* DONE
Status: OK
ngsReports.Rcheck/00install.out
############################################################################## ############################################################################## ### ### Running command: ### ### /home/biocbuild/bbs-3.18-bioc/R/bin/R CMD INSTALL ngsReports ### ############################################################################## ############################################################################## * installing to library ‘/home/biocbuild/bbs-3.18-bioc/R/site-library’ * installing *source* package ‘ngsReports’ ... ** using staged installation ** R ** data *** moving datasets to lazyload DB ** inst ** byte-compile and prepare package for lazy loading ** help *** installing help indices *** copying figures ** building package indices ** installing vignettes ** testing if installed package can be loaded from temporary location ** testing if installed package can be loaded from final location ** testing if installed package keeps a record of temporary installation path * DONE (ngsReports)
ngsReports.Rcheck/tests/testthat.Rout
R version 4.3.3 (2024-02-29) -- "Angel Food Cake"
Copyright (C) 2024 The R Foundation for Statistical Computing
Platform: x86_64-pc-linux-gnu (64-bit)
R is free software and comes with ABSOLUTELY NO WARRANTY.
You are welcome to redistribute it under certain conditions.
Type 'license()' or 'licence()' for distribution details.
R is a collaborative project with many contributors.
Type 'contributors()' for more information and
'citation()' on how to cite R or R packages in publications.
Type 'demo()' for some demos, 'help()' for on-line help, or
'help.start()' for an HTML browser interface to help.
Type 'q()' to quit R.
> library(testthat)
> library(ngsReports)
Loading required package: BiocGenerics
Attaching package: 'BiocGenerics'
The following objects are masked from 'package:stats':
IQR, mad, sd, var, xtabs
The following objects are masked from 'package:base':
Filter, Find, Map, Position, Reduce, anyDuplicated, aperm, append,
as.data.frame, basename, cbind, colnames, dirname, do.call,
duplicated, eval, evalq, get, grep, grepl, intersect, is.unsorted,
lapply, mapply, match, mget, order, paste, pmax, pmax.int, pmin,
pmin.int, rank, rbind, rownames, sapply, setdiff, sort, table,
tapply, union, unique, unsplit, which.max, which.min
Loading required package: ggplot2
Loading required package: patchwork
Loading required package: tibble
>
> test_check("ngsReports")
[ FAIL 0 | WARN 1 | SKIP 0 | PASS 372 ]
[ FAIL 0 | WARN 1 | SKIP 0 | PASS 372 ]
>
> proc.time()
user system elapsed
45.277 0.989 46.248
ngsReports.Rcheck/ngsReports-Ex.timings
| name | user | system | elapsed | |
| FastqcData | 0.076 | 0.000 | 0.077 | |
| FastqcDataList | 0.325 | 0.012 | 0.346 | |
| TheoreticalGC-class | 0.069 | 0.000 | 0.069 | |
| dot-FastqcFile-class | 0.002 | 0.000 | 0.002 | |
| dot-addPercent | 0.000 | 0.000 | 0.001 | |
| dot-emptyPlot | 0.136 | 0.000 | 0.136 | |
| dot-makeDendro | 0.335 | 0.000 | 0.335 | |
| dot-makeLabels | 0.001 | 0.000 | 0.001 | |
| dot-splitByTab | 0.003 | 0.000 | 0.003 | |
| estGcDistn | 0.018 | 0.000 | 0.018 | |
| extract-methods | 0.320 | 0.008 | 0.328 | |
| fqName-methods | 0.338 | 0.012 | 0.350 | |
| fqcVersion | 0.345 | 0.032 | 0.377 | |
| gcAvail | 0.02 | 0.00 | 0.02 | |
| gcTheoretical | 0.031 | 0.004 | 0.035 | |
| getColours-methods | 0.002 | 0.000 | 0.002 | |
| getGC | 0.018 | 0.000 | 0.019 | |
| getModule | 0.368 | 0.008 | 0.376 | |
| getSummary | 0.332 | 0.000 | 0.332 | |
| importNgsLogs | 0.033 | 0.000 | 0.034 | |
| importSJ | 0.007 | 0.000 | 0.007 | |
| isCompressed | 0.002 | 0.000 | 0.002 | |
| mData | 0.022 | 0.000 | 0.021 | |
| maxAdapterContent | 0.516 | 0.000 | 0.515 | |
| overRep2Fasta-methods | 0.335 | 0.012 | 0.346 | |
| path | 0.324 | 0.004 | 0.328 | |
| plotAdapterContent-methods | 2.671 | 0.140 | 2.811 | |
| plotAlignmentSummary | 0.224 | 0.000 | 0.224 | |
| plotAssemblyStats | 0.487 | 0.004 | 0.492 | |
| plotBaseQuals-methods | 1.261 | 0.016 | 1.278 | |
| plotDupLevels-methods | 1.002 | 0.052 | 1.054 | |
| plotFastqcPCA-methods | 0.547 | 0.000 | 0.547 | |
| plotGcContent-methods | 0.777 | 0.004 | 0.781 | |
| plotInsertSize-methods | 0.498 | 0.004 | 0.503 | |
| plotKmers-methods | 1.312 | 0.012 | 1.324 | |
| plotNContent-methods | 0.683 | 0.000 | 0.683 | |
| plotOverrep-methods | 0.676 | 0.000 | 0.676 | |
| plotReadTotals-methods | 0.657 | 0.028 | 0.685 | |
| plotSeqContent-methods | 1.486 | 0.020 | 1.506 | |
| plotSeqLengthDistn-methods | 1.045 | 0.000 | 1.045 | |
| plotSeqQuals-methods | 1.116 | 0.052 | 1.168 | |
| plotSummary-methods | 0.456 | 0.016 | 0.472 | |
| pwf | 0.005 | 0.000 | 0.005 | |
| readTotals | 0.352 | 0.000 | 0.352 | |
| writeHtmlReport | 0 | 0 | 0 | |