| Back to Multiple platform build/check report for BioC 3.18: simplified long |
|
This page was generated on 2023-11-02 11:41:00 -0400 (Thu, 02 Nov 2023).
| Hostname | OS | Arch (*) | R version | Installed pkgs |
|---|---|---|---|---|
| nebbiolo2 | Linux (Ubuntu 22.04.2 LTS) | x86_64 | 4.3.1 (2023-06-16) -- "Beagle Scouts" | 4729 |
| palomino4 | Windows Server 2022 Datacenter | x64 | 4.3.1 (2023-06-16 ucrt) -- "Beagle Scouts" | 4463 |
| lconway | macOS 12.6.5 Monterey | x86_64 | 4.3.1 Patched (2023-06-17 r84564) -- "Beagle Scouts" | 4478 |
| kunpeng2 | Linux (openEuler 22.03 LTS-SP1) | aarch64 | 4.3.1 (2023-06-16) -- "Beagle Scouts" | 4464 |
| Click on any hostname to see more info about the system (e.g. compilers) (*) as reported by 'uname -p', except on Windows and Mac OS X | ||||
| Package 1404/2266 | Hostname | OS / Arch | INSTALL | BUILD | CHECK | BUILD BIN | ||||||||
| netOmics 1.8.0 (landing page) Antoine Bodein
| nebbiolo2 | Linux (Ubuntu 22.04.2 LTS) / x86_64 | OK | OK | OK | |||||||||
| palomino4 | Windows Server 2022 Datacenter / x64 | OK | OK | OK | OK | |||||||||
| lconway | macOS 12.6.5 Monterey / x86_64 | OK | OK | OK | OK | |||||||||
| kjohnson1 | macOS 13.6.1 Ventura / arm64 | see weekly results here | ||||||||||||
| kunpeng2 | Linux (openEuler 22.03 LTS-SP1) / aarch64 | OK | OK | OK | ||||||||||
|
To the developers/maintainers of the netOmics package: - Allow up to 24 hours (and sometimes 48 hours) for your latest push to git@git.bioconductor.org:packages/netOmics.git to reflect on this report. See Troubleshooting Build Report for more information. - Use the following Renviron settings to reproduce errors and warnings. - If 'R CMD check' started to fail recently on the Linux builder(s) over a missing dependency, add the missing dependency to 'Suggests:' in your DESCRIPTION file. See Renviron.bioc for more information. - See Martin Grigorov's blog post for how to debug Linux ARM64 related issues on a x86_64 host. |
| Package: netOmics |
| Version: 1.8.0 |
| Command: /home/biocbuild/R/R-4.3.1/bin/R CMD check --install=check:netOmics.install-out.txt --library=/home/biocbuild/R/R-4.3.1/site-library --no-vignettes --timings netOmics_1.8.0.tar.gz |
| StartedAt: 2023-11-02 12:39:36 -0000 (Thu, 02 Nov 2023) |
| EndedAt: 2023-11-02 12:44:20 -0000 (Thu, 02 Nov 2023) |
| EllapsedTime: 283.7 seconds |
| RetCode: 0 |
| Status: OK |
| CheckDir: netOmics.Rcheck |
| Warnings: 0 |
##############################################################################
##############################################################################
###
### Running command:
###
### /home/biocbuild/R/R-4.3.1/bin/R CMD check --install=check:netOmics.install-out.txt --library=/home/biocbuild/R/R-4.3.1/site-library --no-vignettes --timings netOmics_1.8.0.tar.gz
###
##############################################################################
##############################################################################
* using log directory ‘/home/biocbuild/bbs-3.18-bioc/meat/netOmics.Rcheck’
* using R version 4.3.1 (2023-06-16)
* using platform: aarch64-unknown-linux-gnu (64-bit)
* R was compiled by
gcc (GCC) 10.3.1
GNU Fortran (GCC) 10.3.1
* running under: openEuler 22.03 (LTS-SP1)
* using session charset: UTF-8
* using option ‘--no-vignettes’
* checking for file ‘netOmics/DESCRIPTION’ ... OK
* this is package ‘netOmics’ version ‘1.8.0’
* package encoding: UTF-8
* checking package namespace information ... OK
* checking package dependencies ... OK
* checking if this is a source package ... OK
* checking if there is a namespace ... OK
* checking for hidden files and directories ... OK
* checking for portable file names ... OK
* checking for sufficient/correct file permissions ... OK
* checking whether package ‘netOmics’ can be installed ... OK
* checking installed package size ... OK
* checking package directory ... OK
* checking ‘build’ directory ... OK
* checking DESCRIPTION meta-information ... OK
* checking top-level files ... OK
* checking for left-over files ... OK
* checking index information ... OK
* checking package subdirectories ... NOTE
Problems with news in ‘NEWS.md’:
No news entries found.
* checking R files for non-ASCII characters ... OK
* checking R files for syntax errors ... OK
* checking whether the package can be loaded ... OK
* checking whether the package can be loaded with stated dependencies ... OK
* checking whether the package can be unloaded cleanly ... OK
* checking whether the namespace can be loaded with stated dependencies ... OK
* checking whether the namespace can be unloaded cleanly ... OK
* checking loading without being on the library search path ... OK
* checking dependencies in R code ... OK
* checking S3 generic/method consistency ... OK
* checking replacement functions ... OK
* checking foreign function calls ... OK
* checking R code for possible problems ... NOTE
.interaction_from_dataframe: no visible binding for global variable ‘.’
.rwr_find_closest: no visible binding for global variable ‘SeedName’
.rwr_find_closest: no visible binding for global variable ‘NodeNames’
.rwr_find_closest: no visible binding for global variable ‘Score’
.rwr_find_closest: no visible binding for global variable ‘attribute’
.rwr_find_closest: no visible binding for global variable ‘value’
combine_layers: no visible binding for global variable ‘.’
get_grn: no visible binding for global variable ‘.’
get_interaction_from_ORA: no visible binding for global variable
‘significant’
get_interaction_from_ORA: no visible binding for global variable
‘term_id’
get_interaction_from_ORA: no visible binding for global variable
‘target’
get_interaction_from_ORA: no visible binding for global variable
‘input’
plot_rwr_subnetwork: no visible binding for global variable ‘rwr’
plot_rwr_subnetwork: no visible binding for global variable ‘type’
plot_rwr_subnetwork: no visible binding for global variable ‘N’
plot_rwr_subnetwork: no visible global function definition for ‘title’
plot_rwr_subnetwork: no visible binding for global variable ‘name’
rwr_top_k_graph: no visible binding for global variable ‘SeedName’
rwr_top_k_graph: no visible binding for global variable ‘Score’
rwr_top_k_graph: no visible binding for global variable ‘NodeNames’
summary_plot_rwr_attributes: no visible binding for global variable
‘seed’
summary_plot_rwr_attributes: no visible binding for global variable ‘N’
summary_plot_rwr_attributes: no visible binding for global variable
‘type’
Undefined global functions or variables:
. N NodeNames Score SeedName attribute input name rwr seed
significant target term_id title type value
Consider adding
importFrom("graphics", "title")
to your NAMESPACE file.
* checking Rd files ... OK
* checking Rd metadata ... OK
* checking Rd cross-references ... OK
* checking for missing documentation entries ... OK
* checking for code/documentation mismatches ... OK
* checking Rd \usage sections ... OK
* checking Rd contents ... OK
* checking for unstated dependencies in examples ... OK
* checking contents of ‘data’ directory ... OK
* checking data for non-ASCII characters ... OK
* checking data for ASCII and uncompressed saves ... OK
* checking files in ‘vignettes’ ... OK
* checking examples ... OK
Examples with CPU (user + system) or elapsed time > 5s
user system elapsed
get_interaction_from_ORA 0.251 0.072 18.805
* checking for unstated dependencies in ‘tests’ ... OK
* checking tests ...
Running ‘testthat.R’
OK
* checking for unstated dependencies in vignettes ... OK
* checking package vignettes in ‘inst/doc’ ... OK
* checking running R code from vignettes ... SKIPPED
* checking re-building of vignette outputs ... SKIPPED
* checking PDF version of manual ... OK
* DONE
Status: 2 NOTEs
See
‘/home/biocbuild/bbs-3.18-bioc/meat/netOmics.Rcheck/00check.log’
for details.
netOmics.Rcheck/00install.out
############################################################################## ############################################################################## ### ### Running command: ### ### /home/biocbuild/R/R-4.3.1/bin/R CMD INSTALL netOmics ### ############################################################################## ############################################################################## * installing to library ‘/home/biocbuild/R/R-4.3.1/site-library’ * installing *source* package ‘netOmics’ ... ** using staged installation ** R ** data ** inst ** byte-compile and prepare package for lazy loading ** help *** installing help indices ** building package indices ** installing vignettes ** testing if installed package can be loaded from temporary location ** testing if installed package can be loaded from final location ** testing if installed package keeps a record of temporary installation path * DONE (netOmics)
netOmics.Rcheck/tests/testthat.Rout
R version 4.3.1 (2023-06-16) -- "Beagle Scouts"
Copyright (C) 2023 The R Foundation for Statistical Computing
Platform: aarch64-unknown-linux-gnu (64-bit)
R is free software and comes with ABSOLUTELY NO WARRANTY.
You are welcome to redistribute it under certain conditions.
Type 'license()' or 'licence()' for distribution details.
R is a collaborative project with many contributors.
Type 'contributors()' for more information and
'citation()' on how to cite R or R packages in publications.
Type 'demo()' for some demos, 'help()' for on-line help, or
'help.start()' for an HTML browser interface to help.
Type 'q()' to quit R.
> library(testthat)
> library(netOmics)
>
> test_check("netOmics")
[ FAIL 0 | WARN 0 | SKIP 0 | PASS 140 ]
>
> proc.time()
user system elapsed
27.353 1.557 71.885
netOmics.Rcheck/netOmics-Ex.timings
| name | user | system | elapsed | |
| combine_layers | 0.057 | 0.005 | 0.074 | |
| get_graph_stats | 0.055 | 0.000 | 0.055 | |
| get_grn | 4.250 | 0.087 | 4.364 | |
| get_interaction_from_ORA | 0.251 | 0.072 | 18.805 | |
| get_interaction_from_correlation | 0.021 | 0.014 | 0.035 | |
| get_interaction_from_database | 0.015 | 0.016 | 0.031 | |
| plot_rwr_subnetwork | 0.285 | 0.135 | 0.428 | |
| random_walk_restart | 0.343 | 0.048 | 0.391 | |
| rwr_find_closest_type | 0.410 | 0.132 | 0.545 | |
| rwr_find_seeds_between_attributes | 0.411 | 0.100 | 0.512 | |
| summary_plot_rwr_attributes | 1.055 | 0.155 | 1.218 | |