| Back to Multiple platform build/check report for BioC 3.18: simplified long |
|
This page was generated on 2023-11-02 11:41:00 -0400 (Thu, 02 Nov 2023).
| Hostname | OS | Arch (*) | R version | Installed pkgs |
|---|---|---|---|---|
| nebbiolo2 | Linux (Ubuntu 22.04.2 LTS) | x86_64 | 4.3.1 (2023-06-16) -- "Beagle Scouts" | 4729 |
| palomino4 | Windows Server 2022 Datacenter | x64 | 4.3.1 (2023-06-16 ucrt) -- "Beagle Scouts" | 4463 |
| lconway | macOS 12.6.5 Monterey | x86_64 | 4.3.1 Patched (2023-06-17 r84564) -- "Beagle Scouts" | 4478 |
| kunpeng2 | Linux (openEuler 22.03 LTS-SP1) | aarch64 | 4.3.1 (2023-06-16) -- "Beagle Scouts" | 4464 |
| Click on any hostname to see more info about the system (e.g. compilers) (*) as reported by 'uname -p', except on Windows and Mac OS X | ||||
| Package 1394/2266 | Hostname | OS / Arch | INSTALL | BUILD | CHECK | BUILD BIN | ||||||||
| ndexr 1.24.0 (landing page) Florian Auer
| nebbiolo2 | Linux (Ubuntu 22.04.2 LTS) / x86_64 | OK | OK | OK | |||||||||
| palomino4 | Windows Server 2022 Datacenter / x64 | OK | OK | OK | OK | |||||||||
| lconway | macOS 12.6.5 Monterey / x86_64 | OK | OK | OK | OK | |||||||||
| kjohnson1 | macOS 13.6.1 Ventura / arm64 | see weekly results here | ||||||||||||
| kunpeng2 | Linux (openEuler 22.03 LTS-SP1) / aarch64 | OK | OK | OK | ||||||||||
|
To the developers/maintainers of the ndexr package: - Allow up to 24 hours (and sometimes 48 hours) for your latest push to git@git.bioconductor.org:packages/ndexr.git to reflect on this report. See Troubleshooting Build Report for more information. - Use the following Renviron settings to reproduce errors and warnings. - If 'R CMD check' started to fail recently on the Linux builder(s) over a missing dependency, add the missing dependency to 'Suggests:' in your DESCRIPTION file. See Renviron.bioc for more information. - See Martin Grigorov's blog post for how to debug Linux ARM64 related issues on a x86_64 host. |
| Package: ndexr |
| Version: 1.24.0 |
| Command: /home/biocbuild/R/R-4.3.1/bin/R CMD check --install=check:ndexr.install-out.txt --library=/home/biocbuild/R/R-4.3.1/site-library --no-vignettes --timings ndexr_1.24.0.tar.gz |
| StartedAt: 2023-11-02 12:38:26 -0000 (Thu, 02 Nov 2023) |
| EndedAt: 2023-11-02 12:39:57 -0000 (Thu, 02 Nov 2023) |
| EllapsedTime: 91.2 seconds |
| RetCode: 0 |
| Status: OK |
| CheckDir: ndexr.Rcheck |
| Warnings: 0 |
##############################################################################
##############################################################################
###
### Running command:
###
### /home/biocbuild/R/R-4.3.1/bin/R CMD check --install=check:ndexr.install-out.txt --library=/home/biocbuild/R/R-4.3.1/site-library --no-vignettes --timings ndexr_1.24.0.tar.gz
###
##############################################################################
##############################################################################
* using log directory ‘/home/biocbuild/bbs-3.18-bioc/meat/ndexr.Rcheck’
* using R version 4.3.1 (2023-06-16)
* using platform: aarch64-unknown-linux-gnu (64-bit)
* R was compiled by
gcc (GCC) 10.3.1
GNU Fortran (GCC) 10.3.1
* running under: openEuler 22.03 (LTS-SP1)
* using session charset: UTF-8
* using option ‘--no-vignettes’
* checking for file ‘ndexr/DESCRIPTION’ ... OK
* checking extension type ... Package
* this is package ‘ndexr’ version ‘1.24.0’
* package encoding: UTF-8
* checking package namespace information ... OK
* checking package dependencies ... OK
* checking if this is a source package ... OK
* checking if there is a namespace ... OK
* checking for hidden files and directories ... OK
* checking for portable file names ... OK
* checking for sufficient/correct file permissions ... OK
* checking whether package ‘ndexr’ can be installed ... OK
* checking installed package size ... OK
* checking package directory ... OK
* checking ‘build’ directory ... OK
* checking DESCRIPTION meta-information ... OK
* checking top-level files ... OK
* checking for left-over files ... OK
* checking index information ... OK
* checking package subdirectories ... OK
* checking R files for non-ASCII characters ... OK
* checking R files for syntax errors ... OK
* checking whether the package can be loaded ... OK
* checking whether the package can be loaded with stated dependencies ... OK
* checking whether the package can be unloaded cleanly ... OK
* checking whether the namespace can be loaded with stated dependencies ... OK
* checking whether the namespace can be unloaded cleanly ... OK
* checking loading without being on the library search path ... OK
* checking dependencies in R code ... NOTE
Namespaces in Imports field not imported from:
‘plyr’ ‘tidyr’
All declared Imports should be used.
Package in Depends field not imported from: ‘RCX’
These packages need to be imported from (in the NAMESPACE file)
for when this namespace is loaded but not attached.
Unexported object imported by a ':::' call: ‘httr:::default_ua’
See the note in ?`:::` about the use of this operator.
* checking S3 generic/method consistency ... OK
* checking replacement functions ... OK
* checking foreign function calls ... OK
* checking R code for possible problems ... NOTE
ndex_create_network: no visible global function definition for ‘tail’
ndex_rest_DELETE: no visible global function definition for
‘packageVersion’
ndex_rest_GET: no visible global function definition for
‘packageVersion’
ndex_rest_POST: no visible global function definition for
‘packageVersion’
ndex_rest_PUT: no visible global function definition for
‘packageVersion’
Undefined global functions or variables:
packageVersion tail
Consider adding
importFrom("utils", "packageVersion", "tail")
to your NAMESPACE file.
* checking Rd files ... OK
* checking Rd metadata ... OK
* checking Rd cross-references ... OK
* checking for missing documentation entries ... OK
* checking for code/documentation mismatches ... OK
* checking Rd \usage sections ... OK
* checking Rd contents ... OK
* checking for unstated dependencies in examples ... OK
* checking files in ‘vignettes’ ... OK
* checking examples ... OK
* checking for unstated dependencies in ‘tests’ ... OK
* checking tests ...
Running ‘testthat.R’
OK
* checking for unstated dependencies in vignettes ... OK
* checking package vignettes in ‘inst/doc’ ... OK
* checking running R code from vignettes ... SKIPPED
* checking re-building of vignette outputs ... SKIPPED
* checking PDF version of manual ... OK
* DONE
Status: 2 NOTEs
See
‘/home/biocbuild/bbs-3.18-bioc/meat/ndexr.Rcheck/00check.log’
for details.
ndexr.Rcheck/00install.out
############################################################################## ############################################################################## ### ### Running command: ### ### /home/biocbuild/R/R-4.3.1/bin/R CMD INSTALL ndexr ### ############################################################################## ############################################################################## * installing to library ‘/home/biocbuild/R/R-4.3.1/site-library’ * installing *source* package ‘ndexr’ ... ** using staged installation ** R ** byte-compile and prepare package for lazy loading ** help *** installing help indices ** building package indices ** installing vignettes ** testing if installed package can be loaded from temporary location ** testing if installed package can be loaded from final location ** testing if installed package keeps a record of temporary installation path * DONE (ndexr)
ndexr.Rcheck/tests/testthat.Rout
R version 4.3.1 (2023-06-16) -- "Beagle Scouts"
Copyright (C) 2023 The R Foundation for Statistical Computing
Platform: aarch64-unknown-linux-gnu (64-bit)
R is free software and comes with ABSOLUTELY NO WARRANTY.
You are welcome to redistribute it under certain conditions.
Type 'license()' or 'licence()' for distribution details.
R is a collaborative project with many contributors.
Type 'contributors()' for more information and
'citation()' on how to cite R or R packages in publications.
Type 'demo()' for some demos, 'help()' for on-line help, or
'help.start()' for an HTML browser interface to help.
Type 'q()' to quit R.
> library(testthat)
> library(ndexr)
Loading required package: RCX
>
> test_check("ndexr")
[ FAIL 0 | WARN 0 | SKIP 0 | PASS 124 ]
>
> proc.time()
user system elapsed
22.801 0.362 56.089
ndexr.Rcheck/ndexr-Ex.timings
| name | user | system | elapsed | |
| listToRCode | 0.000 | 0.000 | 0.001 | |
| ndex_conf_header | 0 | 0 | 0 | |
| ndex_config | 0.001 | 0.000 | 0.001 | |
| ndex_connect | 0.039 | 0.009 | 2.530 | |
| ndex_create_group | 0.000 | 0.000 | 0.001 | |
| ndex_create_network | 0 | 0 | 0 | |
| ndex_create_user | 0 | 0 | 0 | |
| ndex_delete_group | 0 | 0 | 0 | |
| ndex_delete_network | 0 | 0 | 0 | |
| ndex_delete_user | 0.001 | 0.000 | 0.000 | |
| ndex_find_groups | 0.048 | 0.000 | 0.420 | |
| ndex_find_networks | 0.069 | 0.003 | 1.182 | |
| ndex_find_user_byId | 0.026 | 0.000 | 0.572 | |
| ndex_find_user_byName | 0.016 | 0.000 | 0.380 | |
| ndex_find_users | 0.019 | 0.001 | 0.384 | |
| ndex_get_group | 0.033 | 0.000 | 0.580 | |
| ndex_get_network | 0.782 | 0.044 | 1.555 | |
| ndex_group_delete_membership | 0 | 0 | 0 | |
| ndex_group_list_networks | 0.039 | 0.000 | 0.787 | |
| ndex_group_list_users | 0.018 | 0.000 | 0.390 | |
| ndex_group_network_get_permission | 0.028 | 0.000 | 0.577 | |
| ndex_group_set_membership | 0 | 0 | 0 | |
| ndex_helper_encodeParams | 0.001 | 0.000 | 0.001 | |
| ndex_helper_getApi | 0.006 | 0.000 | 0.188 | |
| ndex_helper_httpResponseHandler | 0.013 | 0.000 | 0.197 | |
| ndex_network_aspect_get_metadata | 0.025 | 0.003 | 0.590 | |
| ndex_network_delete_permission | 0 | 0 | 0 | |
| ndex_network_get_aspect | 0.065 | 0.004 | 0.815 | |
| ndex_network_get_metadata | 0.03 | 0.00 | 0.59 | |
| ndex_network_get_permission | 0 | 0 | 0 | |
| ndex_network_get_provenance | 0.028 | 0.000 | 0.573 | |
| ndex_network_get_summary | 0.024 | 0.004 | 0.579 | |
| ndex_network_set_systemProperties | 0 | 0 | 0 | |
| ndex_network_update_aspect | 0 | 0 | 0 | |
| ndex_network_update_permission | 0 | 0 | 0 | |
| ndex_network_update_profile | 0 | 0 | 0 | |
| ndex_rest_DELETE | 0.006 | 0.000 | 0.187 | |
| ndex_rest_GET | 0.002 | 0.004 | 0.191 | |
| ndex_rest_POST | 0.005 | 0.000 | 0.187 | |
| ndex_rest_PUT | 0.005 | 0.000 | 0.195 | |
| ndex_update_group | 0 | 0 | 0 | |
| ndex_update_network | 0.001 | 0.000 | 0.000 | |
| ndex_update_user | 0 | 0 | 0 | |
| ndex_user_change_password | 0.000 | 0.000 | 0.001 | |
| ndex_user_forgot_password | 0 | 0 | 0 | |
| ndex_user_get_networksummary | 0 | 0 | 0 | |
| ndex_user_get_showcase | 0.029 | 0.001 | 0.592 | |
| ndex_user_list_groups | 0.000 | 0.001 | 0.000 | |
| ndex_user_list_permissions | 0 | 0 | 0 | |
| ndex_user_mail_password | 0 | 0 | 0 | |
| ndex_user_show_group | 0.000 | 0.001 | 0.000 | |
| ndex_user_show_permission | 0 | 0 | 0 | |
| ndex_verify_user | 0.000 | 0.000 | 0.001 | |
| ndexr-package | 0 | 0 | 0 | |
| print.NDExConnection | 0.009 | 0.004 | 0.381 | |