| Back to Multiple platform build/check report for BioC 3.18: simplified long |
|
This page was generated on 2023-11-02 11:40:59 -0400 (Thu, 02 Nov 2023).
| Hostname | OS | Arch (*) | R version | Installed pkgs |
|---|---|---|---|---|
| nebbiolo2 | Linux (Ubuntu 22.04.2 LTS) | x86_64 | 4.3.1 (2023-06-16) -- "Beagle Scouts" | 4729 |
| palomino4 | Windows Server 2022 Datacenter | x64 | 4.3.1 (2023-06-16 ucrt) -- "Beagle Scouts" | 4463 |
| lconway | macOS 12.6.5 Monterey | x86_64 | 4.3.1 Patched (2023-06-17 r84564) -- "Beagle Scouts" | 4478 |
| kunpeng2 | Linux (openEuler 22.03 LTS-SP1) | aarch64 | 4.3.1 (2023-06-16) -- "Beagle Scouts" | 4464 |
| Click on any hostname to see more info about the system (e.g. compilers) (*) as reported by 'uname -p', except on Windows and Mac OS X | ||||
| Package 1358/2266 | Hostname | OS / Arch | INSTALL | BUILD | CHECK | BUILD BIN | ||||||||
| multicrispr 1.12.0 (landing page) Aditya Bhagwat
| nebbiolo2 | Linux (Ubuntu 22.04.2 LTS) / x86_64 | OK | OK | OK | |||||||||
| palomino4 | Windows Server 2022 Datacenter / x64 | OK | OK | OK | OK | |||||||||
| lconway | macOS 12.6.5 Monterey / x86_64 | OK | OK | OK | OK | |||||||||
| kjohnson1 | macOS 13.6.1 Ventura / arm64 | see weekly results here | ||||||||||||
| kunpeng2 | Linux (openEuler 22.03 LTS-SP1) / aarch64 | OK | OK | OK | ||||||||||
|
To the developers/maintainers of the multicrispr package: - Allow up to 24 hours (and sometimes 48 hours) for your latest push to git@git.bioconductor.org:packages/multicrispr.git to reflect on this report. See Troubleshooting Build Report for more information. - Use the following Renviron settings to reproduce errors and warnings. - If 'R CMD check' started to fail recently on the Linux builder(s) over a missing dependency, add the missing dependency to 'Suggests:' in your DESCRIPTION file. See Renviron.bioc for more information. - See Martin Grigorov's blog post for how to debug Linux ARM64 related issues on a x86_64 host. |
| Package: multicrispr |
| Version: 1.12.0 |
| Command: /home/biocbuild/R/R-4.3.1/bin/R CMD check --install=check:multicrispr.install-out.txt --library=/home/biocbuild/R/R-4.3.1/site-library --no-vignettes --timings multicrispr_1.12.0.tar.gz |
| StartedAt: 2023-11-02 12:32:29 -0000 (Thu, 02 Nov 2023) |
| EndedAt: 2023-11-02 12:41:12 -0000 (Thu, 02 Nov 2023) |
| EllapsedTime: 522.5 seconds |
| RetCode: 0 |
| Status: OK |
| CheckDir: multicrispr.Rcheck |
| Warnings: 0 |
##############################################################################
##############################################################################
###
### Running command:
###
### /home/biocbuild/R/R-4.3.1/bin/R CMD check --install=check:multicrispr.install-out.txt --library=/home/biocbuild/R/R-4.3.1/site-library --no-vignettes --timings multicrispr_1.12.0.tar.gz
###
##############################################################################
##############################################################################
* using log directory ‘/home/biocbuild/bbs-3.18-bioc/meat/multicrispr.Rcheck’
* using R version 4.3.1 (2023-06-16)
* using platform: aarch64-unknown-linux-gnu (64-bit)
* R was compiled by
gcc (GCC) 10.3.1
GNU Fortran (GCC) 10.3.1
* running under: openEuler 22.03 (LTS-SP1)
* using session charset: UTF-8
* using option ‘--no-vignettes’
* checking for file ‘multicrispr/DESCRIPTION’ ... OK
* this is package ‘multicrispr’ version ‘1.12.0’
* package encoding: UTF-8
* checking package namespace information ... OK
* checking package dependencies ... OK
* checking if this is a source package ... OK
* checking if there is a namespace ... OK
* checking for hidden files and directories ... OK
* checking for portable file names ... OK
* checking for sufficient/correct file permissions ... OK
* checking whether package ‘multicrispr’ can be installed ... OK
* checking installed package size ... OK
* checking package directory ... OK
* checking ‘build’ directory ... OK
* checking DESCRIPTION meta-information ... OK
* checking top-level files ... OK
* checking for left-over files ... OK
* checking index information ... OK
* checking package subdirectories ... OK
* checking R files for non-ASCII characters ... OK
* checking R files for syntax errors ... OK
* checking whether the package can be loaded ... OK
* checking whether the package can be loaded with stated dependencies ... OK
* checking whether the package can be unloaded cleanly ... OK
* checking whether the namespace can be loaded with stated dependencies ... OK
* checking whether the namespace can be unloaded cleanly ... OK
* checking loading without being on the library search path ... OK
* checking dependencies in R code ... OK
* checking S3 generic/method consistency ... OK
* checking replacement functions ... OK
* checking foreign function calls ... OK
* checking R code for possible problems ... OK
* checking Rd files ... OK
* checking Rd metadata ... OK
* checking Rd cross-references ... OK
* checking for missing documentation entries ... OK
* checking for code/documentation mismatches ... OK
* checking Rd \usage sections ... OK
* checking Rd contents ... OK
* checking for unstated dependencies in examples ... OK
* checking files in ‘vignettes’ ... OK
* checking examples ... OK
Examples with CPU (user + system) or elapsed time > 5s
user system elapsed
score_ontargets 23.972 1.302 25.313
find_primespacers 21.758 1.024 22.821
index_genome 18.452 0.358 18.914
up_flank 15.452 0.211 15.693
find_spacers 14.602 0.915 15.558
add_target_matches 12.605 0.534 12.939
add_genome_matches 12.372 0.380 13.425
plot_intervals 11.693 0.694 12.655
extend_for_pe 10.867 0.401 11.327
* checking for unstated dependencies in ‘tests’ ... OK
* checking tests ...
Running ‘testthat.R’
OK
* checking for unstated dependencies in vignettes ... OK
* checking package vignettes in ‘inst/doc’ ... OK
* checking running R code from vignettes ... SKIPPED
* checking re-building of vignette outputs ... SKIPPED
* checking PDF version of manual ... OK
* DONE
Status: OK
multicrispr.Rcheck/00install.out
############################################################################## ############################################################################## ### ### Running command: ### ### /home/biocbuild/R/R-4.3.1/bin/R CMD INSTALL multicrispr ### ############################################################################## ############################################################################## * installing to library ‘/home/biocbuild/R/R-4.3.1/site-library’ * installing *source* package ‘multicrispr’ ... ** using staged installation ** R ** inst ** byte-compile and prepare package for lazy loading ** help *** installing help indices ** building package indices ** installing vignettes ** testing if installed package can be loaded from temporary location ** testing if installed package can be loaded from final location ** testing if installed package keeps a record of temporary installation path * DONE (multicrispr)
multicrispr.Rcheck/tests/testthat.Rout
R version 4.3.1 (2023-06-16) -- "Beagle Scouts"
Copyright (C) 2023 The R Foundation for Statistical Computing
Platform: aarch64-unknown-linux-gnu (64-bit)
R is free software and comes with ABSOLUTELY NO WARRANTY.
You are welcome to redistribute it under certain conditions.
Type 'license()' or 'licence()' for distribution details.
R is a collaborative project with many contributors.
Type 'contributors()' for more information and
'citation()' on how to cite R or R packages in publications.
Type 'demo()' for some demos, 'help()' for on-line help, or
'help.start()' for an HTML browser interface to help.
Type 'q()' to quit R.
> library(testthat)
> library(multicrispr)
>
> test_check("multicrispr")
[ FAIL 0 | WARN 0 | SKIP 0 | PASS 13 ]
Warning messages:
1: In for (i in seq_len(n)) { :
closing unused connection 5 (/home/biocbuild/R/R-4.3.1/site-library/multicrispr/extdata/SRF.bed)
2: In for (i in seq_len(n)) { :
closing unused connection 4 (/home/biocbuild/R/R-4.3.1/site-library/multicrispr/extdata/SRF.bed)
>
> proc.time()
user system elapsed
17.438 1.202 18.727
multicrispr.Rcheck/multicrispr-Ex.timings
| name | user | system | elapsed | |
| add_genome_matches | 12.372 | 0.380 | 13.425 | |
| add_inverse_strand | 2.634 | 0.024 | 2.664 | |
| add_seq | 2.983 | 0.115 | 3.108 | |
| add_target_matches | 12.605 | 0.534 | 12.939 | |
| bed_to_granges | 0.966 | 0.008 | 0.976 | |
| char_to_granges | 1.166 | 0.000 | 1.170 | |
| double_flank | 4.701 | 0.020 | 4.729 | |
| extend_for_pe | 10.867 | 0.401 | 11.327 | |
| extend_pe_to_gg | 0.608 | 0.004 | 0.613 | |
| extract_matchranges | 3.800 | 0.255 | 4.056 | |
| extract_subranges | 0.701 | 0.000 | 0.705 | |
| find_gg | 1.344 | 0.040 | 1.388 | |
| find_primespacers | 21.758 | 1.024 | 22.821 | |
| find_spacers | 14.602 | 0.915 | 15.558 | |
| genes_to_granges | 4.374 | 0.293 | 4.763 | |
| gr2dt | 0.229 | 0.008 | 0.237 | |
| has_been_indexed | 0 | 0 | 0 | |
| index_genome | 18.452 | 0.358 | 18.914 | |
| index_targets | 2.898 | 0.362 | 3.889 | |
| plot_intervals | 11.693 | 0.694 | 12.655 | |
| plot_karyogram | 1.628 | 0.040 | 1.676 | |
| score_ontargets | 23.972 | 1.302 | 25.313 | |
| up_flank | 15.452 | 0.211 | 15.693 | |
| write_ranges | 0.223 | 0.000 | 0.223 | |