| Back to Multiple platform build/check report for BioC 3.18: simplified long |
|
This page was generated on 2024-04-17 11:37:01 -0400 (Wed, 17 Apr 2024).
| Hostname | OS | Arch (*) | R version | Installed pkgs |
|---|---|---|---|---|
| nebbiolo2 | Linux (Ubuntu 22.04.3 LTS) | x86_64 | 4.3.3 (2024-02-29) -- "Angel Food Cake" | 4676 |
| palomino4 | Windows Server 2022 Datacenter | x64 | 4.3.3 (2024-02-29 ucrt) -- "Angel Food Cake" | 4414 |
| merida1 | macOS 12.7.1 Monterey | x86_64 | 4.3.3 (2024-02-29) -- "Angel Food Cake" | 4437 |
| Click on any hostname to see more info about the system (e.g. compilers) (*) as reported by 'uname -p', except on Windows and Mac OS X | ||||
| Package 1314/2266 | Hostname | OS / Arch | INSTALL | BUILD | CHECK | BUILD BIN | ||||||||
| motifStack 1.46.0 (landing page) Jianhong Ou
| nebbiolo2 | Linux (Ubuntu 22.04.3 LTS) / x86_64 | OK | OK | OK | |||||||||
| palomino4 | Windows Server 2022 Datacenter / x64 | OK | OK | OK | OK | |||||||||
| merida1 | macOS 12.7.1 Monterey / x86_64 | OK | OK | OK | OK | |||||||||
| kjohnson1 | macOS 13.6.1 Ventura / arm64 | see weekly results here | ||||||||||||
|
To the developers/maintainers of the motifStack package: - Allow up to 24 hours (and sometimes 48 hours) for your latest push to git@git.bioconductor.org:packages/motifStack.git to reflect on this report. See Troubleshooting Build Report for more information. - Use the following Renviron settings to reproduce errors and warnings. - If 'R CMD check' started to fail recently on the Linux builder(s) over a missing dependency, add the missing dependency to 'Suggests:' in your DESCRIPTION file. See Renviron.bioc for more information. |
| Package: motifStack |
| Version: 1.46.0 |
| Command: F:\biocbuild\bbs-3.18-bioc\R\bin\R.exe CMD check --no-multiarch --install=check:motifStack.install-out.txt --library=F:\biocbuild\bbs-3.18-bioc\R\library --no-vignettes --timings motifStack_1.46.0.tar.gz |
| StartedAt: 2024-04-16 02:53:02 -0400 (Tue, 16 Apr 2024) |
| EndedAt: 2024-04-16 02:58:53 -0400 (Tue, 16 Apr 2024) |
| EllapsedTime: 350.8 seconds |
| RetCode: 0 |
| Status: OK |
| CheckDir: motifStack.Rcheck |
| Warnings: 0 |
##############################################################################
##############################################################################
###
### Running command:
###
### F:\biocbuild\bbs-3.18-bioc\R\bin\R.exe CMD check --no-multiarch --install=check:motifStack.install-out.txt --library=F:\biocbuild\bbs-3.18-bioc\R\library --no-vignettes --timings motifStack_1.46.0.tar.gz
###
##############################################################################
##############################################################################
* using log directory 'F:/biocbuild/bbs-3.18-bioc/meat/motifStack.Rcheck'
* using R version 4.3.3 (2024-02-29 ucrt)
* using platform: x86_64-w64-mingw32 (64-bit)
* R was compiled by
gcc.exe (GCC) 12.3.0
GNU Fortran (GCC) 12.3.0
* running under: Windows Server 2022 x64 (build 20348)
* using session charset: UTF-8
* using option '--no-vignettes'
* checking for file 'motifStack/DESCRIPTION' ... OK
* checking extension type ... Package
* this is package 'motifStack' version '1.46.0'
* package encoding: UTF-8
* checking package namespace information ... OK
* checking package dependencies ... OK
* checking if this is a source package ... OK
* checking if there is a namespace ... OK
* checking for hidden files and directories ... OK
* checking for portable file names ... OK
* checking whether package 'motifStack' can be installed ... OK
* checking installed package size ... OK
* checking package directory ... OK
* checking 'build' directory ... OK
* checking DESCRIPTION meta-information ... OK
* checking top-level files ... OK
* checking for left-over files ... OK
* checking index information ... OK
* checking package subdirectories ... OK
* checking R files for non-ASCII characters ... OK
* checking R files for syntax errors ... OK
* checking whether the package can be loaded ... OK
* checking whether the package can be loaded with stated dependencies ... OK
* checking whether the package can be unloaded cleanly ... OK
* checking whether the namespace can be loaded with stated dependencies ... OK
* checking whether the namespace can be unloaded cleanly ... OK
* checking dependencies in R code ... OK
* checking S3 generic/method consistency ... OK
* checking replacement functions ... OK
* checking foreign function calls ... OK
* checking R code for possible problems ... OK
* checking Rd files ... OK
* checking Rd metadata ... OK
* checking Rd cross-references ... OK
* checking for missing documentation entries ... OK
* checking for code/documentation mismatches ... OK
* checking Rd \usage sections ... OK
* checking Rd contents ... OK
* checking for unstated dependencies in examples ... OK
* checking files in 'vignettes' ... OK
* checking examples ... OK
Examples with CPU (user + system) or elapsed time > 5s
user system elapsed
AAmotifAlignment 9.36 0.16 9.53
pfm2pwm 5.75 0.05 5.80
* checking for unstated dependencies in 'tests' ... OK
* checking tests ...
Running 'runTests.R'
OK
* checking for unstated dependencies in vignettes ... OK
* checking package vignettes in 'inst/doc' ... OK
* checking running R code from vignettes ... SKIPPED
* checking re-building of vignette outputs ... SKIPPED
* checking PDF version of manual ... OK
* DONE
Status: OK
motifStack.Rcheck/00install.out
############################################################################## ############################################################################## ### ### Running command: ### ### F:\biocbuild\bbs-3.18-bioc\R\bin\R.exe CMD INSTALL motifStack ### ############################################################################## ############################################################################## * installing to library 'F:/biocbuild/bbs-3.18-bioc/R/library' * installing *source* package 'motifStack' ... ** using staged installation ** R ** inst ** byte-compile and prepare package for lazy loading ** help *** installing help indices ** building package indices ** installing vignettes ** testing if installed package can be loaded from temporary location ** testing if installed package can be loaded from final location ** testing if installed package keeps a record of temporary installation path * DONE (motifStack)
motifStack.Rcheck/tests/runTests.Rout
R version 4.3.3 (2024-02-29 ucrt) -- "Angel Food Cake"
Copyright (C) 2024 The R Foundation for Statistical Computing
Platform: x86_64-w64-mingw32/x64 (64-bit)
R is free software and comes with ABSOLUTELY NO WARRANTY.
You are welcome to redistribute it under certain conditions.
Type 'license()' or 'licence()' for distribution details.
R is a collaborative project with many contributors.
Type 'contributors()' for more information and
'citation()' on how to cite R or R packages in publications.
Type 'demo()' for some demos, 'help()' for on-line help, or
'help.start()' for an HTML browser interface to help.
Type 'q()' to quit R.
> require("motifStack") || stop("unable to load Package:motifStack")
Loading required package: motifStack
Loading required package: grid
[1] TRUE
> require("TFBSTools") || stop("unable to load Package:TFBSTools")
Loading required package: TFBSTools
[1] TRUE
> #require("MotifDb") || stop("unalble to load Package::motifDb")
> BiocGenerics:::testPackage("motifStack")
RUNIT TEST PROTOCOL -- Tue Apr 16 02:58:42 2024
***********************************************
Number of test functions: 10
Number of errors: 0
Number of failures: 0
1 Test Suite :
motifStack RUnit Tests - 10 test functions, 0 errors, 0 failures
Number of test functions: 10
Number of errors: 0
Number of failures: 0
>
> proc.time()
user system elapsed
13.93 0.67 14.71
motifStack.Rcheck/motifStack-Ex.timings
| name | user | system | elapsed | |
| AAmotifAlignment | 9.36 | 0.16 | 9.53 | |
| DNAmotifAlignment | 0.06 | 0.00 | 0.12 | |
| DNAmotifToRNAmotif | 0.00 | 0.02 | 0.02 | |
| GeomMotif | 0.82 | 0.01 | 0.87 | |
| browseMotifs | 0 | 0 | 0 | |
| clusterMotifs | 0 | 0 | 0 | |
| colorset | 0 | 0 | 0 | |
| geom_motif | 0.42 | 0.00 | 0.42 | |
| getRankedUniqueMotifs | 0 | 0 | 0 | |
| highlightCol | 0 | 0 | 0 | |
| importMatrix | 0.03 | 0.00 | 0.04 | |
| marker-class | 0 | 0 | 0 | |
| matalign | 0 | 0 | 0 | |
| mergeMotifs | 0.09 | 0.00 | 0.09 | |
| motifCircos | 0 | 0 | 0 | |
| motifCloud | 0 | 0 | 0 | |
| motifGrob | 0.10 | 0.00 | 0.09 | |
| motifHclust | 0 | 0 | 0 | |
| motifPiles | 0 | 0 | 0 | |
| motifSignature | 0 | 0 | 0 | |
| motifStack | 0 | 0 | 0 | |
| ouNode-class | 0 | 0 | 0 | |
| pcm-class | 0.12 | 0.00 | 0.12 | |
| pfm-class | 0.11 | 0.01 | 0.13 | |
| pfm2pwm | 5.75 | 0.05 | 5.80 | |
| plotAffinityLogo | 0.64 | 0.09 | 0.81 | |
| plotMotifLogo | 0.19 | 0.00 | 0.19 | |
| plotMotifLogoA | 0.2 | 0.0 | 0.2 | |
| plotMotifLogoStack | 0.29 | 0.00 | 0.37 | |
| plotMotifLogoStackWithTree | 2.30 | 0.06 | 2.47 | |
| plotMotifOverMotif | 0.33 | 0.02 | 0.41 | |
| plotMotifStackWithPhylog | 0 | 0 | 0 | |
| plotMotifStackWithRadialPhylog | 0.02 | 0.00 | 0.01 | |
| psam-class | 0.67 | 0.04 | 0.81 | |
| pssm-class | 0.58 | 0.04 | 0.74 | |
| readPCM | 0.01 | 0.00 | 0.01 | |
| reorderUPGMAtree | 0 | 0 | 0 | |