| Back to Multiple platform build/check report for BioC 3.18: simplified long |
|
This page was generated on 2024-04-17 11:37:58 -0400 (Wed, 17 Apr 2024).
| Hostname | OS | Arch (*) | R version | Installed pkgs |
|---|---|---|---|---|
| nebbiolo2 | Linux (Ubuntu 22.04.3 LTS) | x86_64 | 4.3.3 (2024-02-29) -- "Angel Food Cake" | 4676 |
| palomino4 | Windows Server 2022 Datacenter | x64 | 4.3.3 (2024-02-29 ucrt) -- "Angel Food Cake" | 4414 |
| merida1 | macOS 12.7.1 Monterey | x86_64 | 4.3.3 (2024-02-29) -- "Angel Food Cake" | 4437 |
| Click on any hostname to see more info about the system (e.g. compilers) (*) as reported by 'uname -p', except on Windows and Mac OS X | ||||
| Package 1314/2266 | Hostname | OS / Arch | INSTALL | BUILD | CHECK | BUILD BIN | ||||||||
| motifStack 1.46.0 (landing page) Jianhong Ou
| nebbiolo2 | Linux (Ubuntu 22.04.3 LTS) / x86_64 | OK | OK | OK | |||||||||
| palomino4 | Windows Server 2022 Datacenter / x64 | OK | OK | OK | OK | |||||||||
| merida1 | macOS 12.7.1 Monterey / x86_64 | OK | OK | OK | OK | |||||||||
| kjohnson1 | macOS 13.6.1 Ventura / arm64 | see weekly results here | ||||||||||||
|
To the developers/maintainers of the motifStack package: - Allow up to 24 hours (and sometimes 48 hours) for your latest push to git@git.bioconductor.org:packages/motifStack.git to reflect on this report. See Troubleshooting Build Report for more information. - Use the following Renviron settings to reproduce errors and warnings. - If 'R CMD check' started to fail recently on the Linux builder(s) over a missing dependency, add the missing dependency to 'Suggests:' in your DESCRIPTION file. See Renviron.bioc for more information. |
| Package: motifStack |
| Version: 1.46.0 |
| Command: /Library/Frameworks/R.framework/Resources/bin/R CMD check --install=check:motifStack.install-out.txt --library=/Library/Frameworks/R.framework/Resources/library --no-vignettes --timings motifStack_1.46.0.tar.gz |
| StartedAt: 2024-04-16 05:43:25 -0400 (Tue, 16 Apr 2024) |
| EndedAt: 2024-04-16 05:54:31 -0400 (Tue, 16 Apr 2024) |
| EllapsedTime: 665.8 seconds |
| RetCode: 0 |
| Status: OK |
| CheckDir: motifStack.Rcheck |
| Warnings: 0 |
##############################################################################
##############################################################################
###
### Running command:
###
### /Library/Frameworks/R.framework/Resources/bin/R CMD check --install=check:motifStack.install-out.txt --library=/Library/Frameworks/R.framework/Resources/library --no-vignettes --timings motifStack_1.46.0.tar.gz
###
##############################################################################
##############################################################################
* using log directory ‘/Users/biocbuild/bbs-3.18-bioc/meat/motifStack.Rcheck’
* using R version 4.3.3 (2024-02-29)
* using platform: x86_64-apple-darwin20 (64-bit)
* R was compiled by
Apple clang version 14.0.0 (clang-1400.0.29.202)
GNU Fortran (GCC) 12.2.0
* running under: macOS Monterey 12.7.1
* using session charset: UTF-8
* using option ‘--no-vignettes’
* checking for file ‘motifStack/DESCRIPTION’ ... OK
* checking extension type ... Package
* this is package ‘motifStack’ version ‘1.46.0’
* package encoding: UTF-8
* checking package namespace information ... OK
* checking package dependencies ... OK
* checking if this is a source package ... OK
* checking if there is a namespace ... OK
* checking for hidden files and directories ... OK
* checking for portable file names ... OK
* checking for sufficient/correct file permissions ... OK
* checking whether package ‘motifStack’ can be installed ... OK
* checking installed package size ... OK
* checking package directory ... OK
* checking ‘build’ directory ... OK
* checking DESCRIPTION meta-information ... OK
* checking top-level files ... OK
* checking for left-over files ... OK
* checking index information ... OK
* checking package subdirectories ... OK
* checking R files for non-ASCII characters ... OK
* checking R files for syntax errors ... OK
* checking whether the package can be loaded ... OK
* checking whether the package can be loaded with stated dependencies ... OK
* checking whether the package can be unloaded cleanly ... OK
* checking whether the namespace can be loaded with stated dependencies ... OK
* checking whether the namespace can be unloaded cleanly ... OK
* checking dependencies in R code ... OK
* checking S3 generic/method consistency ... OK
* checking replacement functions ... OK
* checking foreign function calls ... OK
* checking R code for possible problems ... OK
* checking Rd files ... OK
* checking Rd metadata ... OK
* checking Rd cross-references ... OK
* checking for missing documentation entries ... OK
* checking for code/documentation mismatches ... OK
* checking Rd \usage sections ... OK
* checking Rd contents ... OK
* checking for unstated dependencies in examples ... OK
* checking files in ‘vignettes’ ... OK
* checking examples ... OK
Examples with CPU (user + system) or elapsed time > 5s
user system elapsed
AAmotifAlignment 24.636 0.631 26.608
pfm2pwm 10.081 0.235 10.858
plotMotifLogoStackWithTree 5.792 0.068 5.966
* checking for unstated dependencies in ‘tests’ ... OK
* checking tests ...
Running ‘runTests.R’
OK
* checking for unstated dependencies in vignettes ... OK
* checking package vignettes in ‘inst/doc’ ... OK
* checking running R code from vignettes ... SKIPPED
* checking re-building of vignette outputs ... SKIPPED
* checking PDF version of manual ... OK
* DONE
Status: OK
motifStack.Rcheck/00install.out
############################################################################## ############################################################################## ### ### Running command: ### ### /Library/Frameworks/R.framework/Resources/bin/R CMD INSTALL motifStack ### ############################################################################## ############################################################################## * installing to library ‘/Library/Frameworks/R.framework/Versions/4.3-x86_64/Resources/library’ * installing *source* package ‘motifStack’ ... ** using staged installation ** R ** inst ** byte-compile and prepare package for lazy loading ** help *** installing help indices ** building package indices ** installing vignettes ** testing if installed package can be loaded from temporary location ** testing if installed package can be loaded from final location ** testing if installed package keeps a record of temporary installation path * DONE (motifStack)
motifStack.Rcheck/tests/runTests.Rout
R version 4.3.3 (2024-02-29) -- "Angel Food Cake"
Copyright (C) 2024 The R Foundation for Statistical Computing
Platform: x86_64-apple-darwin20 (64-bit)
R is free software and comes with ABSOLUTELY NO WARRANTY.
You are welcome to redistribute it under certain conditions.
Type 'license()' or 'licence()' for distribution details.
R is a collaborative project with many contributors.
Type 'contributors()' for more information and
'citation()' on how to cite R or R packages in publications.
Type 'demo()' for some demos, 'help()' for on-line help, or
'help.start()' for an HTML browser interface to help.
Type 'q()' to quit R.
> require("motifStack") || stop("unable to load Package:motifStack")
Loading required package: motifStack
Loading required package: grid
[1] TRUE
> require("TFBSTools") || stop("unable to load Package:TFBSTools")
Loading required package: TFBSTools
[1] TRUE
> #require("MotifDb") || stop("unalble to load Package::motifDb")
> BiocGenerics:::testPackage("motifStack")
RUNIT TEST PROTOCOL -- Tue Apr 16 05:54:14 2024
***********************************************
Number of test functions: 10
Number of errors: 0
Number of failures: 0
1 Test Suite :
motifStack RUnit Tests - 10 test functions, 0 errors, 0 failures
Number of test functions: 10
Number of errors: 0
Number of failures: 0
>
> proc.time()
user system elapsed
26.105 1.359 29.792
motifStack.Rcheck/motifStack-Ex.timings
| name | user | system | elapsed | |
| AAmotifAlignment | 24.636 | 0.631 | 26.608 | |
| DNAmotifAlignment | 0.266 | 0.005 | 0.285 | |
| DNAmotifToRNAmotif | 0.016 | 0.003 | 0.020 | |
| GeomMotif | 1.359 | 0.063 | 1.495 | |
| browseMotifs | 0.002 | 0.001 | 0.003 | |
| clusterMotifs | 0.001 | 0.001 | 0.002 | |
| colorset | 0.000 | 0.000 | 0.001 | |
| geom_motif | 0.680 | 0.051 | 0.760 | |
| getRankedUniqueMotifs | 0.002 | 0.001 | 0.002 | |
| highlightCol | 0.001 | 0.001 | 0.001 | |
| importMatrix | 0.027 | 0.014 | 0.044 | |
| marker-class | 0.003 | 0.001 | 0.004 | |
| matalign | 0.000 | 0.001 | 0.001 | |
| mergeMotifs | 0.276 | 0.005 | 0.302 | |
| motifCircos | 0.005 | 0.001 | 0.008 | |
| motifCloud | 0.003 | 0.001 | 0.006 | |
| motifGrob | 0.244 | 0.002 | 0.260 | |
| motifHclust | 0.001 | 0.000 | 0.001 | |
| motifPiles | 0.006 | 0.001 | 0.007 | |
| motifSignature | 0.002 | 0.001 | 0.003 | |
| motifStack | 0.003 | 0.001 | 0.004 | |
| ouNode-class | 0.004 | 0.002 | 0.005 | |
| pcm-class | 0.228 | 0.010 | 0.242 | |
| pfm-class | 0.212 | 0.010 | 0.224 | |
| pfm2pwm | 10.081 | 0.235 | 10.858 | |
| plotAffinityLogo | 1.379 | 0.023 | 1.708 | |
| plotMotifLogo | 0.473 | 0.005 | 0.507 | |
| plotMotifLogoA | 0.431 | 0.015 | 0.460 | |
| plotMotifLogoStack | 0.544 | 0.025 | 0.584 | |
| plotMotifLogoStackWithTree | 5.792 | 0.068 | 5.966 | |
| plotMotifOverMotif | 0.591 | 0.011 | 0.645 | |
| plotMotifStackWithPhylog | 0.003 | 0.001 | 0.004 | |
| plotMotifStackWithRadialPhylog | 0.004 | 0.002 | 0.005 | |
| psam-class | 1.401 | 0.030 | 1.470 | |
| pssm-class | 0.879 | 0.026 | 0.935 | |
| readPCM | 0.049 | 0.006 | 0.063 | |
| reorderUPGMAtree | 0.002 | 0.001 | 0.003 | |