| Back to Multiple platform build/check report for BioC 3.18: simplified long |
|
This page was generated on 2023-11-02 11:40:57 -0400 (Thu, 02 Nov 2023).
| Hostname | OS | Arch (*) | R version | Installed pkgs |
|---|---|---|---|---|
| nebbiolo2 | Linux (Ubuntu 22.04.2 LTS) | x86_64 | 4.3.1 (2023-06-16) -- "Beagle Scouts" | 4729 |
| palomino4 | Windows Server 2022 Datacenter | x64 | 4.3.1 (2023-06-16 ucrt) -- "Beagle Scouts" | 4463 |
| lconway | macOS 12.6.5 Monterey | x86_64 | 4.3.1 Patched (2023-06-17 r84564) -- "Beagle Scouts" | 4478 |
| kunpeng2 | Linux (openEuler 22.03 LTS-SP1) | aarch64 | 4.3.1 (2023-06-16) -- "Beagle Scouts" | 4464 |
| Click on any hostname to see more info about the system (e.g. compilers) (*) as reported by 'uname -p', except on Windows and Mac OS X | ||||
| Package 1284/2266 | Hostname | OS / Arch | INSTALL | BUILD | CHECK | BUILD BIN | ||||||||
| mixOmics 6.26.0 (landing page) Max Bladen
| nebbiolo2 | Linux (Ubuntu 22.04.2 LTS) / x86_64 | OK | OK | OK | |||||||||
| palomino4 | Windows Server 2022 Datacenter / x64 | OK | OK | OK | OK | |||||||||
| lconway | macOS 12.6.5 Monterey / x86_64 | OK | OK | OK | OK | |||||||||
| kjohnson1 | macOS 13.6.1 Ventura / arm64 | see weekly results here | ||||||||||||
| kunpeng2 | Linux (openEuler 22.03 LTS-SP1) / aarch64 | OK | OK | OK | ||||||||||
|
To the developers/maintainers of the mixOmics package: - Allow up to 24 hours (and sometimes 48 hours) for your latest push to git@git.bioconductor.org:packages/mixOmics.git to reflect on this report. See Troubleshooting Build Report for more information. - Use the following Renviron settings to reproduce errors and warnings. - If 'R CMD check' started to fail recently on the Linux builder(s) over a missing dependency, add the missing dependency to 'Suggests:' in your DESCRIPTION file. See Renviron.bioc for more information. - See Martin Grigorov's blog post for how to debug Linux ARM64 related issues on a x86_64 host. |
| Package: mixOmics |
| Version: 6.26.0 |
| Command: /home/biocbuild/R/R-4.3.1/bin/R CMD check --install=check:mixOmics.install-out.txt --library=/home/biocbuild/R/R-4.3.1/site-library --no-vignettes --timings mixOmics_6.26.0.tar.gz |
| StartedAt: 2023-11-02 12:16:25 -0000 (Thu, 02 Nov 2023) |
| EndedAt: 2023-11-02 12:28:31 -0000 (Thu, 02 Nov 2023) |
| EllapsedTime: 725.1 seconds |
| RetCode: 0 |
| Status: OK |
| CheckDir: mixOmics.Rcheck |
| Warnings: 0 |
##############################################################################
##############################################################################
###
### Running command:
###
### /home/biocbuild/R/R-4.3.1/bin/R CMD check --install=check:mixOmics.install-out.txt --library=/home/biocbuild/R/R-4.3.1/site-library --no-vignettes --timings mixOmics_6.26.0.tar.gz
###
##############################################################################
##############################################################################
* using log directory ‘/home/biocbuild/bbs-3.18-bioc/meat/mixOmics.Rcheck’
* using R version 4.3.1 (2023-06-16)
* using platform: aarch64-unknown-linux-gnu (64-bit)
* R was compiled by
gcc (GCC) 10.3.1
GNU Fortran (GCC) 10.3.1
* running under: openEuler 22.03 (LTS-SP1)
* using session charset: UTF-8
* using option ‘--no-vignettes’
* checking for file ‘mixOmics/DESCRIPTION’ ... OK
* checking extension type ... Package
* this is package ‘mixOmics’ version ‘6.26.0’
* package encoding: UTF-8
* checking package namespace information ... OK
* checking package dependencies ... OK
* checking if this is a source package ... OK
* checking if there is a namespace ... OK
* checking for hidden files and directories ... OK
* checking for portable file names ... OK
* checking for sufficient/correct file permissions ... OK
* checking whether package ‘mixOmics’ can be installed ... OK
* checking installed package size ... NOTE
installed size is 8.2Mb
sub-directories of 1Mb or more:
R 1.4Mb
data 3.3Mb
doc 1.9Mb
* checking package directory ... OK
* checking DESCRIPTION meta-information ... OK
* checking top-level files ... OK
* checking for left-over files ... OK
* checking index information ... OK
* checking package subdirectories ... OK
* checking R files for non-ASCII characters ... OK
* checking R files for syntax errors ... OK
* checking whether the package can be loaded ... OK
* checking whether the package can be loaded with stated dependencies ... OK
* checking whether the package can be unloaded cleanly ... OK
* checking whether the namespace can be loaded with stated dependencies ... OK
* checking whether the namespace can be unloaded cleanly ... OK
* checking loading without being on the library search path ... OK
* checking startup messages can be suppressed ... OK
* checking dependencies in R code ... OK
* checking S3 generic/method consistency ... OK
* checking replacement functions ... OK
* checking foreign function calls ... OK
* checking R code for possible problems ... OK
* checking Rd files ... OK
* checking Rd metadata ... OK
* checking Rd cross-references ... OK
* checking for missing documentation entries ... OK
* checking for code/documentation mismatches ... OK
* checking Rd \usage sections ... OK
* checking Rd contents ... OK
* checking for unstated dependencies in examples ... OK
* checking contents of ‘data’ directory ... OK
* checking data for non-ASCII characters ... OK
* checking data for ASCII and uncompressed saves ... OK
* checking installed files from ‘inst/doc’ ... OK
* checking files in ‘vignettes’ ... OK
* checking examples ... OK
Examples with CPU (user + system) or elapsed time > 5s
user system elapsed
biplot 18.533 0.447 20.014
image.tune.rcc 14.859 0.079 14.967
tune.rcc 14.744 0.036 14.829
background.predict 11.430 0.124 11.576
circosPlot 10.035 0.619 11.995
block.splsda 9.405 0.028 9.456
block.spls 7.730 0.036 7.790
tune 6.634 0.103 6.764
perf 6.269 0.020 6.302
tune.splsda 6.147 0.088 6.246
pca 6.111 0.036 6.159
plotArrow 5.900 0.020 5.932
spca 5.284 0.024 5.318
* checking for unstated dependencies in ‘tests’ ... OK
* checking tests ...
Running ‘testthat.R’
OK
* checking for unstated dependencies in vignettes ... OK
* checking package vignettes in ‘inst/doc’ ... OK
* checking running R code from vignettes ... SKIPPED
* checking re-building of vignette outputs ... SKIPPED
* checking PDF version of manual ... OK
* DONE
Status: 1 NOTE
See
‘/home/biocbuild/bbs-3.18-bioc/meat/mixOmics.Rcheck/00check.log’
for details.
mixOmics.Rcheck/00install.out
############################################################################## ############################################################################## ### ### Running command: ### ### /home/biocbuild/R/R-4.3.1/bin/R CMD INSTALL mixOmics ### ############################################################################## ############################################################################## * installing to library ‘/home/biocbuild/R/R-4.3.1/site-library’ * installing *source* package ‘mixOmics’ ... ** using staged installation ** R ** data ** inst ** byte-compile and prepare package for lazy loading ** help *** installing help indices ** building package indices ** installing vignettes ** testing if installed package can be loaded from temporary location ** testing if installed package can be loaded from final location ** testing if installed package keeps a record of temporary installation path * DONE (mixOmics)
mixOmics.Rcheck/tests/testthat.Rout
R version 4.3.1 (2023-06-16) -- "Beagle Scouts"
Copyright (C) 2023 The R Foundation for Statistical Computing
Platform: aarch64-unknown-linux-gnu (64-bit)
R is free software and comes with ABSOLUTELY NO WARRANTY.
You are welcome to redistribute it under certain conditions.
Type 'license()' or 'licence()' for distribution details.
R is a collaborative project with many contributors.
Type 'contributors()' for more information and
'citation()' on how to cite R or R packages in publications.
Type 'demo()' for some demos, 'help()' for on-line help, or
'help.start()' for an HTML browser interface to help.
Type 'q()' to quit R.
> library(testthat)
> library(mixOmics)
Loading required package: MASS
Loading required package: lattice
Loading required package: ggplot2
Loaded mixOmics 6.26.0
Thank you for using mixOmics!
Tutorials: http://mixomics.org
Bookdown vignette: https://mixomicsteam.github.io/Bookdown
Questions, issues: Follow the prompts at http://mixomics.org/contact-us
Cite us: citation('mixOmics')
>
> test_check("mixOmics")
[ FAIL 0 | WARN 2 | SKIP 0 | PASS 236 ]
[ FAIL 0 | WARN 2 | SKIP 0 | PASS 236 ]
Warning messages:
1: closing unused connection 6 (<-localhost:11028)
2: closing unused connection 5 (<-localhost:11028)
>
> proc.time()
user system elapsed
361.854 7.499 401.397
mixOmics.Rcheck/mixOmics-Ex.timings
| name | user | system | elapsed | |
| S3methods-print | 0.076 | 0.000 | 0.079 | |
| auroc | 1.130 | 0.028 | 1.161 | |
| background.predict | 11.430 | 0.124 | 11.576 | |
| biplot | 18.533 | 0.447 | 20.014 | |
| block.pls | 0.809 | 0.032 | 0.844 | |
| block.plsda | 1.117 | 0.000 | 1.120 | |
| block.spls | 7.730 | 0.036 | 7.790 | |
| block.splsda | 9.405 | 0.028 | 9.456 | |
| cim | 0.050 | 0.000 | 0.052 | |
| cimDiablo | 0.382 | 0.012 | 0.401 | |
| circosPlot | 10.035 | 0.619 | 11.995 | |
| colors | 0.041 | 0.004 | 0.046 | |
| explained_variance | 0.248 | 0.000 | 0.250 | |
| get.confusion_matrix | 0.299 | 0.004 | 0.303 | |
| image.tune.rcc | 14.859 | 0.079 | 14.967 | |
| imgCor | 0.181 | 0.004 | 0.186 | |
| impute.nipals | 0.011 | 0.004 | 0.016 | |
| ipca | 1.581 | 0.020 | 1.605 | |
| logratio-transformations | 0.084 | 0.004 | 0.089 | |
| map | 0.004 | 0.000 | 0.004 | |
| mat.rank | 0.000 | 0.003 | 0.002 | |
| mint.block.pls | 0.246 | 0.000 | 0.248 | |
| mint.block.plsda | 0.185 | 0.000 | 0.185 | |
| mint.block.spls | 0.264 | 0.000 | 0.265 | |
| mint.block.splsda | 0.198 | 0.004 | 0.202 | |
| mint.pca | 0.562 | 0.000 | 0.564 | |
| mint.pls | 0.750 | 0.000 | 0.751 | |
| mint.plsda | 0.869 | 0.008 | 0.879 | |
| mint.spls | 0.767 | 0.036 | 0.804 | |
| mint.splsda | 0.901 | 0.000 | 0.902 | |
| mixOmics | 0.906 | 0.008 | 0.916 | |
| nearZeroVar | 1.200 | 0.004 | 1.206 | |
| network | 0.065 | 0.004 | 0.069 | |
| pca | 6.111 | 0.036 | 6.159 | |
| perf | 6.269 | 0.020 | 6.302 | |
| plot.rcc | 0.071 | 0.000 | 0.071 | |
| plot.tune | 0.000 | 0.000 | 0.001 | |
| plotArrow | 5.900 | 0.020 | 5.932 | |
| plotDiablo | 0.253 | 0.000 | 0.254 | |
| plotIndiv | 0.460 | 0.000 | 0.461 | |
| plotLoadings | 0.238 | 0.004 | 0.243 | |
| plotMarkers | 0 | 0 | 0 | |
| plotVar | 0.850 | 0.000 | 0.851 | |
| pls | 0.009 | 0.000 | 0.009 | |
| plsda | 0.536 | 0.000 | 0.537 | |
| predict | 0.328 | 0.000 | 0.328 | |
| rcc | 0.004 | 0.000 | 0.004 | |
| selectVar | 0.697 | 0.000 | 0.699 | |
| sipca | 0.716 | 0.004 | 0.721 | |
| spca | 5.284 | 0.024 | 5.318 | |
| spls | 0.562 | 0.000 | 0.564 | |
| splsda | 0.501 | 0.008 | 0.510 | |
| study_split | 0.007 | 0.000 | 0.007 | |
| summary | 0.085 | 0.003 | 0.089 | |
| tune | 6.634 | 0.103 | 6.764 | |
| tune.block.splsda | 0.000 | 0.000 | 0.001 | |
| tune.mint.splsda | 4.854 | 0.084 | 4.949 | |
| tune.pca | 0.291 | 0.004 | 0.295 | |
| tune.rcc | 14.744 | 0.036 | 14.829 | |
| tune.spca | 0.994 | 0.028 | 1.029 | |
| tune.spls | 0 | 0 | 0 | |
| tune.splsda | 6.147 | 0.088 | 6.246 | |
| tune.splslevel | 2.046 | 0.036 | 2.086 | |
| unmap | 0.005 | 0.000 | 0.005 | |
| vip | 0.010 | 0.004 | 0.015 | |
| withinVariation | 1.232 | 0.036 | 1.271 | |
| wrapper.rgcca | 0.102 | 0.004 | 0.106 | |
| wrapper.sgcca | 0.213 | 0.004 | 0.217 | |