| Back to Multiple platform build/check report for BioC 3.18: simplified long |
|
This page was generated on 2023-11-02 11:40:56 -0400 (Thu, 02 Nov 2023).
| Hostname | OS | Arch (*) | R version | Installed pkgs |
|---|---|---|---|---|
| nebbiolo2 | Linux (Ubuntu 22.04.2 LTS) | x86_64 | 4.3.1 (2023-06-16) -- "Beagle Scouts" | 4729 |
| palomino4 | Windows Server 2022 Datacenter | x64 | 4.3.1 (2023-06-16 ucrt) -- "Beagle Scouts" | 4463 |
| lconway | macOS 12.6.5 Monterey | x86_64 | 4.3.1 Patched (2023-06-17 r84564) -- "Beagle Scouts" | 4478 |
| kunpeng2 | Linux (openEuler 22.03 LTS-SP1) | aarch64 | 4.3.1 (2023-06-16) -- "Beagle Scouts" | 4464 |
| Click on any hostname to see more info about the system (e.g. compilers) (*) as reported by 'uname -p', except on Windows and Mac OS X | ||||
| Package 1278/2266 | Hostname | OS / Arch | INSTALL | BUILD | CHECK | BUILD BIN | ||||||||
| mirTarRnaSeq 1.10.0 (landing page) Mercedeh Movassagh
| nebbiolo2 | Linux (Ubuntu 22.04.2 LTS) / x86_64 | OK | OK | OK | |||||||||
| palomino4 | Windows Server 2022 Datacenter / x64 | OK | OK | OK | OK | |||||||||
| lconway | macOS 12.6.5 Monterey / x86_64 | OK | OK | OK | OK | |||||||||
| kjohnson1 | macOS 13.6.1 Ventura / arm64 | see weekly results here | ||||||||||||
| kunpeng2 | Linux (openEuler 22.03 LTS-SP1) / aarch64 | OK | OK | OK | ||||||||||
|
To the developers/maintainers of the mirTarRnaSeq package: - Allow up to 24 hours (and sometimes 48 hours) for your latest push to git@git.bioconductor.org:packages/mirTarRnaSeq.git to reflect on this report. See Troubleshooting Build Report for more information. - Use the following Renviron settings to reproduce errors and warnings. - If 'R CMD check' started to fail recently on the Linux builder(s) over a missing dependency, add the missing dependency to 'Suggests:' in your DESCRIPTION file. See Renviron.bioc for more information. - See Martin Grigorov's blog post for how to debug Linux ARM64 related issues on a x86_64 host. |
| Package: mirTarRnaSeq |
| Version: 1.10.0 |
| Command: /home/biocbuild/R/R-4.3.1/bin/R CMD check --install=check:mirTarRnaSeq.install-out.txt --library=/home/biocbuild/R/R-4.3.1/site-library --no-vignettes --timings mirTarRnaSeq_1.10.0.tar.gz |
| StartedAt: 2023-11-02 12:15:36 -0000 (Thu, 02 Nov 2023) |
| EndedAt: 2023-11-02 12:16:45 -0000 (Thu, 02 Nov 2023) |
| EllapsedTime: 69.4 seconds |
| RetCode: 0 |
| Status: OK |
| CheckDir: mirTarRnaSeq.Rcheck |
| Warnings: 0 |
##############################################################################
##############################################################################
###
### Running command:
###
### /home/biocbuild/R/R-4.3.1/bin/R CMD check --install=check:mirTarRnaSeq.install-out.txt --library=/home/biocbuild/R/R-4.3.1/site-library --no-vignettes --timings mirTarRnaSeq_1.10.0.tar.gz
###
##############################################################################
##############################################################################
* using log directory ‘/home/biocbuild/bbs-3.18-bioc/meat/mirTarRnaSeq.Rcheck’
* using R version 4.3.1 (2023-06-16)
* using platform: aarch64-unknown-linux-gnu (64-bit)
* R was compiled by
gcc (GCC) 10.3.1
GNU Fortran (GCC) 10.3.1
* running under: openEuler 22.03 (LTS-SP1)
* using session charset: UTF-8
* using option ‘--no-vignettes’
* checking for file ‘mirTarRnaSeq/DESCRIPTION’ ... OK
* checking extension type ... Package
* this is package ‘mirTarRnaSeq’ version ‘1.10.0’
* package encoding: UTF-8
* checking package namespace information ... OK
* checking package dependencies ... OK
* checking if this is a source package ... OK
* checking if there is a namespace ... OK
* checking for hidden files and directories ... OK
* checking for portable file names ... OK
* checking for sufficient/correct file permissions ... OK
* checking whether package ‘mirTarRnaSeq’ can be installed ... OK
* checking installed package size ... OK
* checking package directory ... OK
* checking ‘build’ directory ... OK
* checking DESCRIPTION meta-information ... OK
* checking top-level files ... OK
* checking for left-over files ... OK
* checking index information ... OK
* checking package subdirectories ... OK
* checking R files for non-ASCII characters ... OK
* checking R files for syntax errors ... OK
* checking whether the package can be loaded ... OK
* checking whether the package can be loaded with stated dependencies ... OK
* checking whether the package can be unloaded cleanly ... OK
* checking whether the namespace can be loaded with stated dependencies ... OK
* checking whether the namespace can be unloaded cleanly ... OK
* checking loading without being on the library search path ... OK
* checking startup messages can be suppressed ... OK
* checking dependencies in R code ... NOTE
Package in Depends field not imported from: ‘ggplot2’
These packages need to be imported from (in the NAMESPACE file)
for when this namespace is loaded but not attached.
* checking S3 generic/method consistency ... OK
* checking replacement functions ... OK
* checking foreign function calls ... OK
* checking R code for possible problems ... OK
* checking Rd files ... OK
* checking Rd metadata ... OK
* checking Rd cross-references ... OK
* checking for missing documentation entries ... OK
* checking for code/documentation mismatches ... OK
* checking Rd \usage sections ... OK
* checking Rd contents ... OK
* checking for unstated dependencies in examples ... OK
* checking contents of ‘data’ directory ... OK
* checking data for non-ASCII characters ... OK
* checking LazyData ... OK
* checking data for ASCII and uncompressed saves ... OK
* checking files in ‘vignettes’ ... OK
* checking examples ... OK
* checking for unstated dependencies in vignettes ... OK
* checking package vignettes in ‘inst/doc’ ... OK
* checking running R code from vignettes ... SKIPPED
* checking re-building of vignette outputs ... SKIPPED
* checking PDF version of manual ... OK
* DONE
Status: 1 NOTE
See
‘/home/biocbuild/bbs-3.18-bioc/meat/mirTarRnaSeq.Rcheck/00check.log’
for details.
mirTarRnaSeq.Rcheck/00install.out
############################################################################## ############################################################################## ### ### Running command: ### ### /home/biocbuild/R/R-4.3.1/bin/R CMD INSTALL mirTarRnaSeq ### ############################################################################## ############################################################################## * installing to library ‘/home/biocbuild/R/R-4.3.1/site-library’ * installing *source* package ‘mirTarRnaSeq’ ... ** using staged installation ** R ** data *** moving datasets to lazyload DB ** inst ** byte-compile and prepare package for lazy loading ** help *** installing help indices *** copying figures ** building package indices ** installing vignettes ** testing if installed package can be loaded from temporary location ** testing if installed package can be loaded from final location ** testing if installed package keeps a record of temporary installation path * DONE (mirTarRnaSeq)
mirTarRnaSeq.Rcheck/mirTarRnaSeq-Ex.timings
| name | user | system | elapsed | |
| combiner | 0.005 | 0.004 | 0.008 | |
| corMirnaRna | 0.112 | 0.012 | 0.123 | |
| corMirnaRnaMiranda | 0.211 | 0.012 | 0.223 | |
| downloadMirandaFile | 0 | 0 | 0 | |
| drawCorPlot | 0.000 | 0.001 | 0.000 | |
| drawInterPlots | 0.039 | 0.010 | 0.050 | |
| fdrSig | 0.742 | 0.023 | 0.767 | |
| finInterResult | 0.000 | 0.002 | 0.002 | |
| geneVari | 0.000 | 0.001 | 0.000 | |
| getInputSpecies | 0.344 | 0.009 | 0.356 | |
| glm_gaussian | 0.001 | 0.000 | 0.001 | |
| glm_multi | 0.001 | 0.000 | 0.001 | |
| glm_nb | 0.001 | 0.000 | 0.001 | |
| glm_poisson | 0 | 0 | 0 | |
| glm_zeroinfl | 0 | 0 | 0 | |
| glm_zeroinfl_negbin | 0 | 0 | 0 | |
| glm_zeroinfl_poisson | 0 | 0 | 0 | |
| importMirandaFile | 0 | 0 | 0 | |
| makeFormulaRightSide | 0 | 0 | 0 | |
| miRanComp | 0.084 | 0.004 | 0.088 | |
| miRandaIntersect | 0.023 | 0.000 | 0.023 | |
| mirRnaDensityCor | 0.039 | 0.000 | 0.040 | |
| mirRnaDensityInter | 0 | 0 | 0 | |
| mirRnaHeatmap | 0.958 | 0.004 | 0.966 | |
| mirRnaHeatmapDiff | 0.089 | 0.004 | 0.092 | |
| mirandaIntersectInter | 0.018 | 0.000 | 0.018 | |
| modelAIC | 0.072 | 0.000 | 0.072 | |
| modelCoefficients | 0.001 | 0.000 | 0.001 | |
| modelData | 0 | 0 | 0 | |
| modelModelName | 0.000 | 0.000 | 0.001 | |
| modelModelPvalue | 0.001 | 0.000 | 0.001 | |
| modelTermPvalues | 0.002 | 0.000 | 0.002 | |
| modelsFilter | 0 | 0 | 0 | |
| one2OneRnaMiRNA | 0 | 0 | 0 | |
| plotFit | 0.008 | 0.000 | 0.008 | |
| plotResiduals | 0.008 | 0.000 | 0.008 | |
| plotTerms | 0.004 | 0.000 | 0.003 | |
| runAllMirnaModels | 0.710 | 0.008 | 0.719 | |
| runModels | 0.701 | 0.000 | 0.702 | |
| sampCorRnaMirna | 1.125 | 0.056 | 1.184 | |
| threshSig | 0 | 0 | 0 | |
| threshSigInter | 0.002 | 0.000 | 0.002 | |
| twoTimePoint | 0.001 | 0.000 | 0.000 | |
| twoTimePointSamp | 0 | 0 | 0 | |
| tzTrans | 0.007 | 0.000 | 0.008 | |