| Back to Multiple platform build/check report for BioC 3.18: simplified long |
|
This page was generated on 2023-11-02 11:40:55 -0400 (Thu, 02 Nov 2023).
| Hostname | OS | Arch (*) | R version | Installed pkgs |
|---|---|---|---|---|
| nebbiolo2 | Linux (Ubuntu 22.04.2 LTS) | x86_64 | 4.3.1 (2023-06-16) -- "Beagle Scouts" | 4729 |
| palomino4 | Windows Server 2022 Datacenter | x64 | 4.3.1 (2023-06-16 ucrt) -- "Beagle Scouts" | 4463 |
| lconway | macOS 12.6.5 Monterey | x86_64 | 4.3.1 Patched (2023-06-17 r84564) -- "Beagle Scouts" | 4478 |
| kunpeng2 | Linux (openEuler 22.03 LTS-SP1) | aarch64 | 4.3.1 (2023-06-16) -- "Beagle Scouts" | 4464 |
| Click on any hostname to see more info about the system (e.g. compilers) (*) as reported by 'uname -p', except on Windows and Mac OS X | ||||
| Package 1247/2266 | Hostname | OS / Arch | INSTALL | BUILD | CHECK | BUILD BIN | ||||||||
| microbiome 1.24.0 (landing page) Leo Lahti
| nebbiolo2 | Linux (Ubuntu 22.04.2 LTS) / x86_64 | OK | OK | OK | |||||||||
| palomino4 | Windows Server 2022 Datacenter / x64 | OK | OK | OK | OK | |||||||||
| lconway | macOS 12.6.5 Monterey / x86_64 | OK | OK | OK | OK | |||||||||
| kjohnson1 | macOS 13.6.1 Ventura / arm64 | see weekly results here | ||||||||||||
| kunpeng2 | Linux (openEuler 22.03 LTS-SP1) / aarch64 | OK | OK | OK | ||||||||||
|
To the developers/maintainers of the microbiome package: - Allow up to 24 hours (and sometimes 48 hours) for your latest push to git@git.bioconductor.org:packages/microbiome.git to reflect on this report. See Troubleshooting Build Report for more information. - Use the following Renviron settings to reproduce errors and warnings. - If 'R CMD check' started to fail recently on the Linux builder(s) over a missing dependency, add the missing dependency to 'Suggests:' in your DESCRIPTION file. See Renviron.bioc for more information. - See Martin Grigorov's blog post for how to debug Linux ARM64 related issues on a x86_64 host. |
| Package: microbiome |
| Version: 1.24.0 |
| Command: /home/biocbuild/R/R-4.3.1/bin/R CMD check --install=check:microbiome.install-out.txt --library=/home/biocbuild/R/R-4.3.1/site-library --no-vignettes --timings microbiome_1.24.0.tar.gz |
| StartedAt: 2023-11-02 12:07:49 -0000 (Thu, 02 Nov 2023) |
| EndedAt: 2023-11-02 12:12:07 -0000 (Thu, 02 Nov 2023) |
| EllapsedTime: 258.8 seconds |
| RetCode: 0 |
| Status: OK |
| CheckDir: microbiome.Rcheck |
| Warnings: 0 |
##############################################################################
##############################################################################
###
### Running command:
###
### /home/biocbuild/R/R-4.3.1/bin/R CMD check --install=check:microbiome.install-out.txt --library=/home/biocbuild/R/R-4.3.1/site-library --no-vignettes --timings microbiome_1.24.0.tar.gz
###
##############################################################################
##############################################################################
* using log directory ‘/home/biocbuild/bbs-3.18-bioc/meat/microbiome.Rcheck’
* using R version 4.3.1 (2023-06-16)
* using platform: aarch64-unknown-linux-gnu (64-bit)
* R was compiled by
gcc (GCC) 10.3.1
GNU Fortran (GCC) 10.3.1
* running under: openEuler 22.03 (LTS-SP1)
* using session charset: UTF-8
* using option ‘--no-vignettes’
* checking for file ‘microbiome/DESCRIPTION’ ... OK
* checking extension type ... Package
* this is package ‘microbiome’ version ‘1.24.0’
* package encoding: UTF-8
* checking package namespace information ... OK
* checking package dependencies ... OK
* checking if this is a source package ... OK
* checking if there is a namespace ... OK
* checking for hidden files and directories ... OK
* checking for portable file names ... OK
* checking for sufficient/correct file permissions ... OK
* checking whether package ‘microbiome’ can be installed ... OK
* checking installed package size ... OK
* checking package directory ... OK
* checking ‘build’ directory ... OK
* checking DESCRIPTION meta-information ... OK
* checking top-level files ... OK
* checking for left-over files ... OK
* checking index information ... OK
* checking package subdirectories ... NOTE
Problems with news in ‘NEWS’:
Cannot process chunk/lines:
CHANGES IN VERSION 0.1.2
# New features
o Added plot_abundances function
o Added Chao1 index in richness function
o In atlas1006 data set, pseudocount of +1 in otu table has been
removed to facilitate comparison with sequencing data sets and to
avoid confusion
o In atlas1006 data set, only a single replicate per subject-time
combination is chosen (at random)
o New function collapse_replicates has been added
# Major changes
o Abundance matrices (otu tables) for all example data sets now
starting from 0 without pseudocount
# Minor changes
o Changed the default for the detection argument in the richness function to
detection=0
o Color order in plot_landscape legend now follows the factor levels
of the col argument
o Various minor fixes; see github commits for many more details
* checking R files for non-ASCII characters ... OK
* checking R files for syntax errors ... OK
* checking whether the package can be loaded ... OK
* checking whether the package can be loaded with stated dependencies ... OK
* checking whether the package can be unloaded cleanly ... OK
* checking whether the namespace can be loaded with stated dependencies ... OK
* checking whether the namespace can be unloaded cleanly ... OK
* checking loading without being on the library search path ... OK
* checking startup messages can be suppressed ... OK
* checking dependencies in R code ... OK
* checking S3 generic/method consistency ... OK
* checking replacement functions ... OK
* checking foreign function calls ... OK
* checking R code for possible problems ... OK
* checking Rd files ... OK
* checking Rd metadata ... OK
* checking Rd cross-references ... OK
* checking for missing documentation entries ... OK
* checking for code/documentation mismatches ... OK
* checking Rd \usage sections ... OK
* checking Rd contents ... OK
* checking for unstated dependencies in examples ... OK
* checking contents of ‘data’ directory ... OK
* checking data for non-ASCII characters ... OK
* checking data for ASCII and uncompressed saves ... OK
* checking files in ‘vignettes’ ... OK
* checking examples ... OK
Examples with CPU (user + system) or elapsed time > 5s
user system elapsed
overlap 21.854 0.259 22.154
* checking for unstated dependencies in ‘tests’ ... OK
* checking tests ...
Running ‘testthat.R’
OK
* checking for unstated dependencies in vignettes ... OK
* checking package vignettes in ‘inst/doc’ ... OK
* checking running R code from vignettes ... SKIPPED
* checking re-building of vignette outputs ... SKIPPED
* checking PDF version of manual ... OK
* DONE
Status: 1 NOTE
See
‘/home/biocbuild/bbs-3.18-bioc/meat/microbiome.Rcheck/00check.log’
for details.
microbiome.Rcheck/00install.out
############################################################################## ############################################################################## ### ### Running command: ### ### /home/biocbuild/R/R-4.3.1/bin/R CMD INSTALL microbiome ### ############################################################################## ############################################################################## * installing to library ‘/home/biocbuild/R/R-4.3.1/site-library’ * installing *source* package ‘microbiome’ ... ** using staged installation ** R ** data ** inst ** byte-compile and prepare package for lazy loading ** help *** installing help indices ** building package indices ** installing vignettes ** testing if installed package can be loaded from temporary location ** testing if installed package can be loaded from final location ** testing if installed package keeps a record of temporary installation path * DONE (microbiome)
microbiome.Rcheck/tests/testthat.Rout
R version 4.3.1 (2023-06-16) -- "Beagle Scouts"
Copyright (C) 2023 The R Foundation for Statistical Computing
Platform: aarch64-unknown-linux-gnu (64-bit)
R is free software and comes with ABSOLUTELY NO WARRANTY.
You are welcome to redistribute it under certain conditions.
Type 'license()' or 'licence()' for distribution details.
R is a collaborative project with many contributors.
Type 'contributors()' for more information and
'citation()' on how to cite R or R packages in publications.
Type 'demo()' for some demos, 'help()' for on-line help, or
'help.start()' for an HTML browser interface to help.
Type 'q()' to quit R.
> library(testthat)
> test_check("microbiome")
Loading required package: microbiome
Loading required package: phyloseq
Loading required package: ggplot2
microbiome R package (microbiome.github.com)
Copyright (C) 2011-2022 Leo Lahti,
Sudarshan Shetty et al. <microbiome.github.io>
Attaching package: 'microbiome'
The following object is masked from 'package:ggplot2':
alpha
The following object is masked from 'package:base':
transform
[ FAIL 0 | WARN 3 | SKIP 1 | PASS 83 ]
══ Skipped tests (1) ═══════════════════════════════════════════════════════════
• On Bioconductor (1): 'test_divergence.R:5:3'
[ FAIL 0 | WARN 3 | SKIP 1 | PASS 83 ]
>
> proc.time()
user system elapsed
15.681 0.549 16.420
microbiome.Rcheck/microbiome-Ex.timings
| name | user | system | elapsed | |
| TibbleUtilites | 0.242 | 0.004 | 0.254 | |
| abundances | 0.006 | 0.000 | 0.006 | |
| add_besthit | 0.000 | 0.000 | 0.001 | |
| add_refseq | 0 | 0 | 0 | |
| aggregate_rare | 1.006 | 0.034 | 1.043 | |
| aggregate_taxa | 0.131 | 0.000 | 0.134 | |
| alpha | 0.016 | 0.000 | 0.016 | |
| associate | 0.045 | 0.004 | 0.051 | |
| baseline | 0.044 | 0.000 | 0.044 | |
| bimodality | 0.001 | 0.000 | 0.001 | |
| bimodality_sarle | 0.001 | 0.000 | 0.000 | |
| boxplot_abundance | 0.113 | 0.013 | 0.131 | |
| boxplot_alpha | 0.457 | 0.011 | 0.474 | |
| chunk_reorder | 0 | 0 | 0 | |
| cmat2table | 0.095 | 0.000 | 0.095 | |
| collapse_replicates | 0.055 | 0.004 | 0.059 | |
| core | 0.048 | 0.004 | 0.052 | |
| core_abundance | 0.075 | 0.000 | 0.075 | |
| core_matrix | 0 | 0 | 0 | |
| core_members | 0.011 | 0.000 | 0.011 | |
| coverage | 0.042 | 0.000 | 0.042 | |
| default_colors | 0.001 | 0.000 | 0.000 | |
| densityplot | 0 | 0 | 0 | |
| divergence | 0.609 | 0.064 | 0.674 | |
| diversity | 0.016 | 0.000 | 0.015 | |
| dominance | 0.011 | 0.000 | 0.011 | |
| dominant | 0.007 | 0.004 | 0.011 | |
| estimate_stability | 0 | 0 | 0 | |
| evenness | 0.008 | 0.000 | 0.008 | |
| find_optima | 0.000 | 0.000 | 0.001 | |
| gktau | 0.012 | 0.000 | 0.012 | |
| group_age | 0.022 | 0.000 | 0.022 | |
| group_bmi | 0 | 0 | 0 | |
| heat | 0.093 | 0.012 | 0.105 | |
| hotplot | 0.305 | 0.004 | 0.311 | |
| inequality | 0.051 | 0.004 | 0.055 | |
| intermediate_stability | 0.569 | 0.004 | 0.573 | |
| is_compositional | 0.075 | 0.000 | 0.075 | |
| log_modulo_skewness | 0.2 | 0.0 | 0.2 | |
| low_abundance | 0.016 | 0.000 | 0.017 | |
| map_levels | 0.052 | 0.000 | 0.053 | |
| merge_taxa2 | 0.031 | 0.000 | 0.031 | |
| meta | 0.003 | 0.004 | 0.006 | |
| microbiome-package | 0.012 | 0.000 | 0.012 | |
| multimodality | 0 | 0 | 0 | |
| neat | 0.086 | 0.000 | 0.086 | |
| neatsort | 0.193 | 0.008 | 0.201 | |
| overlap | 21.854 | 0.259 | 22.154 | |
| plot_atlas | 0.057 | 0.000 | 0.057 | |
| plot_composition | 0.267 | 0.004 | 0.273 | |
| plot_core | 0.099 | 0.004 | 0.102 | |
| plot_density | 0.050 | 0.000 | 0.049 | |
| plot_frequencies | 0.029 | 0.000 | 0.029 | |
| plot_landscape | 1.242 | 0.000 | 1.246 | |
| plot_regression | 0.206 | 0.000 | 0.206 | |
| plot_taxa_prevalence | 0.369 | 0.004 | 0.373 | |
| plot_tipping | 0.126 | 0.004 | 0.130 | |
| potential_analysis | 0.041 | 0.000 | 0.041 | |
| potential_univariate | 0 | 0 | 0 | |
| prevalence | 0.008 | 0.004 | 0.011 | |
| psmelt2 | 0.113 | 0.004 | 0.117 | |
| quiet | 0.000 | 0.000 | 0.001 | |
| rare | 0.022 | 0.004 | 0.027 | |
| rare_abundance | 0.046 | 0.000 | 0.047 | |
| rare_members | 0.012 | 0.000 | 0.012 | |
| rarity | 0.147 | 0.000 | 0.147 | |
| read_biom2phyloseq | 0.001 | 0.000 | 0.000 | |
| read_csv2phyloseq | 0 | 0 | 0 | |
| read_mothur2phyloseq | 0 | 0 | 0 | |
| read_phyloseq | 0.001 | 0.000 | 0.000 | |
| readcount | 0.004 | 0.004 | 0.008 | |
| remove_samples | 0.016 | 0.000 | 0.016 | |
| remove_taxa | 0.019 | 0.000 | 0.020 | |
| richness | 0.008 | 0.004 | 0.012 | |
| spreadplot | 0.080 | 0.000 | 0.079 | |
| summarize_phyloseq | 0.025 | 0.000 | 0.024 | |
| taxa | 0.006 | 0.000 | 0.006 | |
| time_normalize | 0.037 | 0.000 | 0.038 | |
| time_sort | 0.174 | 0.000 | 0.174 | |
| timesplit | 0.132 | 0.008 | 0.140 | |
| top | 0.008 | 0.000 | 0.008 | |
| top_taxa | 0.005 | 0.004 | 0.008 | |
| transform | 0.401 | 0.020 | 0.461 | |
| ztransform | 0.000 | 0.000 | 0.001 | |