| Back to Multiple platform build/check report for BioC 3.18: simplified long |
|
This page was generated on 2023-11-02 11:40:53 -0400 (Thu, 02 Nov 2023).
| Hostname | OS | Arch (*) | R version | Installed pkgs |
|---|---|---|---|---|
| nebbiolo2 | Linux (Ubuntu 22.04.2 LTS) | x86_64 | 4.3.1 (2023-06-16) -- "Beagle Scouts" | 4729 |
| palomino4 | Windows Server 2022 Datacenter | x64 | 4.3.1 (2023-06-16 ucrt) -- "Beagle Scouts" | 4463 |
| lconway | macOS 12.6.5 Monterey | x86_64 | 4.3.1 Patched (2023-06-17 r84564) -- "Beagle Scouts" | 4478 |
| kunpeng2 | Linux (openEuler 22.03 LTS-SP1) | aarch64 | 4.3.1 (2023-06-16) -- "Beagle Scouts" | 4464 |
| Click on any hostname to see more info about the system (e.g. compilers) (*) as reported by 'uname -p', except on Windows and Mac OS X | ||||
| Package 1157/2266 | Hostname | OS / Arch | INSTALL | BUILD | CHECK | BUILD BIN | ||||||||
| mastR 1.2.0 (landing page) Jinjin Chen
| nebbiolo2 | Linux (Ubuntu 22.04.2 LTS) / x86_64 | OK | OK | OK | |||||||||
| palomino4 | Windows Server 2022 Datacenter / x64 | OK | OK | OK | OK | |||||||||
| lconway | macOS 12.6.5 Monterey / x86_64 | OK | OK | OK | OK | |||||||||
| kjohnson1 | macOS 13.6.1 Ventura / arm64 | see weekly results here | ||||||||||||
| kunpeng2 | Linux (openEuler 22.03 LTS-SP1) / aarch64 | OK | OK | ERROR | ||||||||||
|
To the developers/maintainers of the mastR package: - Allow up to 24 hours (and sometimes 48 hours) for your latest push to git@git.bioconductor.org:packages/mastR.git to reflect on this report. See Troubleshooting Build Report for more information. - Use the following Renviron settings to reproduce errors and warnings. - If 'R CMD check' started to fail recently on the Linux builder(s) over a missing dependency, add the missing dependency to 'Suggests:' in your DESCRIPTION file. See Renviron.bioc for more information. - See Martin Grigorov's blog post for how to debug Linux ARM64 related issues on a x86_64 host. |
| Package: mastR |
| Version: 1.2.0 |
| Command: /home/biocbuild/R/R-4.3.1/bin/R CMD check --install=check:mastR.install-out.txt --library=/home/biocbuild/R/R-4.3.1/site-library --no-vignettes --timings mastR_1.2.0.tar.gz |
| StartedAt: 2023-11-02 11:50:29 -0000 (Thu, 02 Nov 2023) |
| EndedAt: 2023-11-02 12:22:26 -0000 (Thu, 02 Nov 2023) |
| EllapsedTime: 1916.7 seconds |
| RetCode: 1 |
| Status: ERROR |
| CheckDir: mastR.Rcheck |
| Warnings: NA |
##############################################################################
##############################################################################
###
### Running command:
###
### /home/biocbuild/R/R-4.3.1/bin/R CMD check --install=check:mastR.install-out.txt --library=/home/biocbuild/R/R-4.3.1/site-library --no-vignettes --timings mastR_1.2.0.tar.gz
###
##############################################################################
##############################################################################
* using log directory ‘/home/biocbuild/bbs-3.18-bioc/meat/mastR.Rcheck’
* using R version 4.3.1 (2023-06-16)
* using platform: aarch64-unknown-linux-gnu (64-bit)
* R was compiled by
gcc (GCC) 10.3.1
GNU Fortran (GCC) 10.3.1
* running under: openEuler 22.03 (LTS-SP1)
* using session charset: UTF-8
* using option ‘--no-vignettes’
* checking for file ‘mastR/DESCRIPTION’ ... OK
* this is package ‘mastR’ version ‘1.2.0’
* package encoding: UTF-8
* checking package namespace information ... OK
* checking package dependencies ... OK
* checking if this is a source package ... OK
* checking if there is a namespace ... OK
* checking for hidden files and directories ... OK
* checking for portable file names ... OK
* checking for sufficient/correct file permissions ... OK
* checking whether package ‘mastR’ can be installed ... OK
* checking installed package size ... OK
* checking package directory ... OK
* checking ‘build’ directory ... OK
* checking DESCRIPTION meta-information ... OK
* checking top-level files ... OK
* checking for left-over files ... OK
* checking index information ... OK
* checking package subdirectories ... OK
* checking R files for non-ASCII characters ... OK
* checking R files for syntax errors ... OK
* checking whether the package can be loaded ... OK
* checking whether the package can be loaded with stated dependencies ... OK
* checking whether the package can be unloaded cleanly ... OK
* checking whether the namespace can be loaded with stated dependencies ... OK
* checking whether the namespace can be unloaded cleanly ... OK
* checking loading without being on the library search path ... OK
* checking dependencies in R code ... OK
* checking S3 generic/method consistency ... OK
* checking replacement functions ... OK
* checking foreign function calls ... OK
* checking R code for possible problems ... OK
* checking Rd files ... OK
* checking Rd metadata ... OK
* checking Rd cross-references ... OK
* checking for missing documentation entries ... OK
* checking for code/documentation mismatches ... OK
* checking Rd \usage sections ... OK
* checking Rd contents ... OK
* checking for unstated dependencies in examples ... OK
* checking contents of ‘data’ directory ... OK
* checking data for non-ASCII characters ... OK
* checking data for ASCII and uncompressed saves ... OK
* checking files in ‘vignettes’ ... OK
* checking examples ... OK
Examples with CPU (user + system) or elapsed time > 5s
user system elapsed
sig_gseaplot 18.270 2.403 28.592
plot_diagnostics 15.484 0.655 16.181
get_panglao_sig 14.631 0.244 19.618
filter_subset_sig 5.130 0.190 5.365
* checking for unstated dependencies in ‘tests’ ... OK
* checking tests ...
Running ‘testthat.R’/home/biocbuild/R/R-4.3.1/bin/BATCH: line 60: 1529426 Killed ${R_HOME}/bin/R -f ${in} ${opts} ${R_BATCH_OPTIONS} > ${out} 2>&1
ERROR
Running the tests in ‘tests/testthat.R’ failed.
Last 13 lines of output:
Down 90
NotSig 49003
Up 952
NK-Others
Down 29581
NotSig 17543
Up 2921
NK-Neutrophils NK-Monocytes NK-B.cells NK-CD4 NK-CD8
Down 2787 3348 3847 2869 1903
NotSig 2593 5434 10908 43672 45202
Up 44665 41263 35290 3504 2940
NK-Neutrophils NK-Monocytes NK-B.cells NK-CD4 NK-CD8
Down 2787 3348 3847 2869 1903
NotSig 2593 5434 10908 43672 45202
Up 44665 41263 35290 3504 2940
* checking for unstated dependencies in vignettes ... OK
* checking package vignettes in ‘inst/doc’ ... OK
* checking running R code from vignettes ... SKIPPED
* checking re-building of vignette outputs ... SKIPPED
* checking PDF version of manual ... OK
* DONE
Status: 1 ERROR
See
‘/home/biocbuild/bbs-3.18-bioc/meat/mastR.Rcheck/00check.log’
for details.
mastR.Rcheck/00install.out
############################################################################## ############################################################################## ### ### Running command: ### ### /home/biocbuild/R/R-4.3.1/bin/R CMD INSTALL mastR ### ############################################################################## ############################################################################## * installing to library ‘/home/biocbuild/R/R-4.3.1/site-library’ * installing *source* package ‘mastR’ ... ** using staged installation ** R ** data ** byte-compile and prepare package for lazy loading ** help *** installing help indices ** building package indices ** installing vignettes ** testing if installed package can be loaded from temporary location ** testing if installed package can be loaded from final location ** testing if installed package keeps a record of temporary installation path * DONE (mastR)
mastR.Rcheck/tests/testthat.Rout.fail
R version 4.3.1 (2023-06-16) -- "Beagle Scouts"
Copyright (C) 2023 The R Foundation for Statistical Computing
Platform: aarch64-unknown-linux-gnu (64-bit)
R is free software and comes with ABSOLUTELY NO WARRANTY.
You are welcome to redistribute it under certain conditions.
Type 'license()' or 'licence()' for distribution details.
R is a collaborative project with many contributors.
Type 'contributors()' for more information and
'citation()' on how to cite R or R packages in publications.
Type 'demo()' for some demos, 'help()' for on-line help, or
'help.start()' for an HTML browser interface to help.
Type 'q()' to quit R.
> # This file is part of the standard setup for testthat.
> # It is recommended that you do not modify it.
> #
> # Where should you do additional test configuration?
> # Learn more about the roles of various files in:
> # * https://r-pkgs.org/tests.html
> # * https://testthat.r-lib.org/reference/test_package.html#special-files
>
> library(testthat)
> library(mastR)
>
> test_check("mastR")
NK-Neutrophils NK-Monocytes NK-B.cells NK-CD4 NK-CD8
Down 2787 3348 3847 2869 1903
NotSig 2593 5434 10908 43672 45202
Up 44665 41263 35290 3504 2940
NK-Others
Down 90
NotSig 49003
Up 952
NK-Others
Down 29581
NotSig 17543
Up 2921
NK-Neutrophils NK-Monocytes NK-B.cells NK-CD4 NK-CD8
Down 2787 3348 3847 2869 1903
NotSig 2593 5434 10908 43672 45202
Up 44665 41263 35290 3504 2940
NK-Neutrophils NK-Monocytes NK-B.cells NK-CD4 NK-CD8
Down 2787 3348 3847 2869 1903
NotSig 2593 5434 10908 43672 45202
Up 44665 41263 35290 3504 2940
mastR.Rcheck/mastR-Ex.timings
| name | user | system | elapsed | |
| ccle_2_wide | 1.163 | 0.044 | 1.214 | |
| de_analysis | 3.655 | 0.128 | 3.804 | |
| filter_subset_sig | 5.130 | 0.190 | 5.365 | |
| get_de_table | 2.684 | 0.025 | 2.712 | |
| get_degs | 2.992 | 0.024 | 3.022 | |
| get_gsc_sig | 0.021 | 0.000 | 0.024 | |
| get_lm_sig | 0.015 | 0.000 | 0.016 | |
| get_panglao_sig | 14.631 | 0.244 | 19.618 | |
| gls2gsc | 0.009 | 0.000 | 0.011 | |
| gsc_plot | 0.891 | 0.016 | 0.927 | |
| list_panglao_organs | 0.071 | 0.012 | 1.395 | |
| list_panglao_types | 0.090 | 0.003 | 1.767 | |
| merge_markers | 0.044 | 0.000 | 0.044 | |
| pca_matrix_plot | 3.005 | 0.768 | 4.571 | |
| plot_diagnostics | 15.484 | 0.655 | 16.181 | |
| plot_mean_var | 3.381 | 0.056 | 3.446 | |
| process_data | 3.763 | 0.072 | 3.842 | |
| pseudo_sample_list | 0.063 | 0.000 | 0.067 | |
| pseudo_samples | 0.046 | 0.000 | 0.046 | |
| remove_bg_exp | 1.050 | 0.012 | 1.068 | |
| remove_bg_exp_mat | 1.278 | 0.024 | 1.305 | |
| select_sig | 2.846 | 0.016 | 2.867 | |
| sig_boxplot | 1.236 | 0.020 | 1.273 | |
| sig_gseaplot | 18.270 | 2.403 | 28.592 | |
| sig_heatmap | 3.487 | 0.248 | 3.783 | |
| sig_rankdensity_plot | 2.195 | 0.172 | 2.371 | |
| sig_scatter_plot | 2.464 | 0.128 | 2.597 | |