| Back to Multiple platform build/check report for BioC 3.18: simplified long |
|
This page was generated on 2023-11-02 11:40:51 -0400 (Thu, 02 Nov 2023).
| Hostname | OS | Arch (*) | R version | Installed pkgs |
|---|---|---|---|---|
| nebbiolo2 | Linux (Ubuntu 22.04.2 LTS) | x86_64 | 4.3.1 (2023-06-16) -- "Beagle Scouts" | 4729 |
| palomino4 | Windows Server 2022 Datacenter | x64 | 4.3.1 (2023-06-16 ucrt) -- "Beagle Scouts" | 4463 |
| lconway | macOS 12.6.5 Monterey | x86_64 | 4.3.1 Patched (2023-06-17 r84564) -- "Beagle Scouts" | 4478 |
| kunpeng2 | Linux (openEuler 22.03 LTS-SP1) | aarch64 | 4.3.1 (2023-06-16) -- "Beagle Scouts" | 4464 |
| Click on any hostname to see more info about the system (e.g. compilers) (*) as reported by 'uname -p', except on Windows and Mac OS X | ||||
| Package 1075/2266 | Hostname | OS / Arch | INSTALL | BUILD | CHECK | BUILD BIN | ||||||||
| kebabs 1.36.0 (landing page) Ulrich Bodenhofer
| nebbiolo2 | Linux (Ubuntu 22.04.2 LTS) / x86_64 | OK | OK | OK | |||||||||
| palomino4 | Windows Server 2022 Datacenter / x64 | OK | OK | OK | OK | |||||||||
| lconway | macOS 12.6.5 Monterey / x86_64 | OK | OK | OK | OK | |||||||||
| kjohnson1 | macOS 13.6.1 Ventura / arm64 | see weekly results here | ||||||||||||
| kunpeng2 | Linux (openEuler 22.03 LTS-SP1) / aarch64 | OK | OK | OK | ||||||||||
|
To the developers/maintainers of the kebabs package: - Allow up to 24 hours (and sometimes 48 hours) for your latest push to git@git.bioconductor.org:packages/kebabs.git to reflect on this report. See Troubleshooting Build Report for more information. - Use the following Renviron settings to reproduce errors and warnings. - If 'R CMD check' started to fail recently on the Linux builder(s) over a missing dependency, add the missing dependency to 'Suggests:' in your DESCRIPTION file. See Renviron.bioc for more information. - See Martin Grigorov's blog post for how to debug Linux ARM64 related issues on a x86_64 host. |
| Package: kebabs |
| Version: 1.36.0 |
| Command: /home/biocbuild/R/R-4.3.1/bin/R CMD INSTALL kebabs |
| StartedAt: 2023-11-01 20:10:55 -0000 (Wed, 01 Nov 2023) |
| EndedAt: 2023-11-01 20:13:54 -0000 (Wed, 01 Nov 2023) |
| EllapsedTime: 179.2 seconds |
| RetCode: 0 |
| Status: OK |
##############################################################################
##############################################################################
###
### Running command:
###
### /home/biocbuild/R/R-4.3.1/bin/R CMD INSTALL kebabs
###
##############################################################################
##############################################################################
* installing to library ‘/home/biocbuild/R/R-4.3.1/site-library’
* installing *source* package ‘kebabs’ ...
** using staged installation
** libs
using C compiler: ‘gcc (GCC) 10.3.1’
using C++ compiler: ‘g++ (GCC) 10.3.1’
gcc -I"/home/biocbuild/R/R-4.3.1/include" -DNDEBUG -DSTRICT_R_HEADERS -I'/home/biocbuild/R/R-4.3.1/site-library/IRanges/include' -I'/home/biocbuild/R/R-4.3.1/site-library/XVector/include' -I'/home/biocbuild/R/R-4.3.1/site-library/Biostrings/include' -I'/home/biocbuild/R/R-4.3.1/site-library/Rcpp/include' -I'/home/biocbuild/R/R-4.3.1/site-library/S4Vectors/include' -I/usr/local/include -fPIC -g -O2 -Wall -c Biostrings_stubs.c -o Biostrings_stubs.o
gcc -I"/home/biocbuild/R/R-4.3.1/include" -DNDEBUG -DSTRICT_R_HEADERS -I'/home/biocbuild/R/R-4.3.1/site-library/IRanges/include' -I'/home/biocbuild/R/R-4.3.1/site-library/XVector/include' -I'/home/biocbuild/R/R-4.3.1/site-library/Biostrings/include' -I'/home/biocbuild/R/R-4.3.1/site-library/Rcpp/include' -I'/home/biocbuild/R/R-4.3.1/site-library/S4Vectors/include' -I/usr/local/include -fPIC -g -O2 -Wall -c ByteStringVector.c -o ByteStringVector.o
g++ -std=gnu++17 -I"/home/biocbuild/R/R-4.3.1/include" -DNDEBUG -DSTRICT_R_HEADERS -I'/home/biocbuild/R/R-4.3.1/site-library/IRanges/include' -I'/home/biocbuild/R/R-4.3.1/site-library/XVector/include' -I'/home/biocbuild/R/R-4.3.1/site-library/Biostrings/include' -I'/home/biocbuild/R/R-4.3.1/site-library/Rcpp/include' -I'/home/biocbuild/R/R-4.3.1/site-library/S4Vectors/include' -I/usr/local/include -fPIC -g -O2 -Wall -c ExplicitRepC.cpp -o ExplicitRepC.o
g++ -std=gnu++17 -I"/home/biocbuild/R/R-4.3.1/include" -DNDEBUG -DSTRICT_R_HEADERS -I'/home/biocbuild/R/R-4.3.1/site-library/IRanges/include' -I'/home/biocbuild/R/R-4.3.1/site-library/XVector/include' -I'/home/biocbuild/R/R-4.3.1/site-library/Biostrings/include' -I'/home/biocbuild/R/R-4.3.1/site-library/Rcpp/include' -I'/home/biocbuild/R/R-4.3.1/site-library/S4Vectors/include' -I/usr/local/include -fPIC -g -O2 -Wall -c FeatureWeightsPosDepC.cpp -o FeatureWeightsPosDepC.o
g++ -std=gnu++17 -I"/home/biocbuild/R/R-4.3.1/include" -DNDEBUG -DSTRICT_R_HEADERS -I'/home/biocbuild/R/R-4.3.1/site-library/IRanges/include' -I'/home/biocbuild/R/R-4.3.1/site-library/XVector/include' -I'/home/biocbuild/R/R-4.3.1/site-library/Biostrings/include' -I'/home/biocbuild/R/R-4.3.1/site-library/Rcpp/include' -I'/home/biocbuild/R/R-4.3.1/site-library/S4Vectors/include' -I/usr/local/include -fPIC -g -O2 -Wall -c GappyPairC.cpp -o GappyPairC.o
GappyPairC.cpp: In function ‘SEXPREC* gappyPairKernelMatrixC(SEXP, SEXP, SEXP, SEXP, SEXP, SEXP, SEXP, SEXP, SEXP, SEXP, SEXP, SEXP, SEXP, SEXP, SEXP, SEXP, SEXP, SEXP, SEXP, SEXP, SEXP, SEXP, SEXP, SEXP)’:
GappyPairC.cpp:994:37: warning: ‘*((void*)& annX +16)’ may be used uninitialized in this function [-Wmaybe-uninitialized]
994 | annptr = annX.ptr[iX];
| ~~~~~~~~~~~^
GappyPairC.cpp:3407:28: note: ‘*((void*)& annX +16)’ was declared here
3407 | ByteStringVector x, y, annX, annY, annCharset;
| ^~~~
GappyPairC.cpp:1160:41: warning: ‘*((void*)& annY +16)’ may be used uninitialized in this function [-Wmaybe-uninitialized]
1160 | annptr = annY.ptr[iY];
| ~~~~~~~~~~~^
GappyPairC.cpp:3407:34: note: ‘*((void*)& annY +16)’ was declared here
3407 | ByteStringVector x, y, annX, annY, annCharset;
| ^~~~
GappyPairC.cpp:3472:34: warning: ‘*((void*)& y +16)’ may be used uninitialized in this function [-Wmaybe-uninitialized]
3472 | getKMPosDistGappy(maxUIndex8, km, x, y, sizeX, sizeY, selX, selY, offsetX, offsetY,
| ~~~~~~~~~~~~~~~~~^~~~~~~~~~~~~~~~~~~~~~~~~~~~~~~~~~~~~~~~~~~~~~~~~~~~~~~~~~~~~~~~~~
3473 | k, m, normalized, symmetric, reverseComplement, posSpec,
| ~~~~~~~~~~~~~~~~~~~~~~~~~~~~~~~~~~~~~~~~~~~~~~~~~~~~~~~~
3474 | distWeight, maxSeqLength, &alphaInf);
| ~~~~~~~~~~~~~~~~~~~~~~~~~~~~~~~~~~~~
GappyPairC.cpp:3472:34: warning: ‘*((void*)& y +8)’ may be used uninitialized in this function [-Wmaybe-uninitialized]
gcc -I"/home/biocbuild/R/R-4.3.1/include" -DNDEBUG -DSTRICT_R_HEADERS -I'/home/biocbuild/R/R-4.3.1/site-library/IRanges/include' -I'/home/biocbuild/R/R-4.3.1/site-library/XVector/include' -I'/home/biocbuild/R/R-4.3.1/site-library/Biostrings/include' -I'/home/biocbuild/R/R-4.3.1/site-library/Rcpp/include' -I'/home/biocbuild/R/R-4.3.1/site-library/S4Vectors/include' -I/usr/local/include -fPIC -g -O2 -Wall -c IRanges_stubs.c -o IRanges_stubs.o
g++ -std=gnu++17 -I"/home/biocbuild/R/R-4.3.1/include" -DNDEBUG -DSTRICT_R_HEADERS -I'/home/biocbuild/R/R-4.3.1/site-library/IRanges/include' -I'/home/biocbuild/R/R-4.3.1/site-library/XVector/include' -I'/home/biocbuild/R/R-4.3.1/site-library/Biostrings/include' -I'/home/biocbuild/R/R-4.3.1/site-library/Rcpp/include' -I'/home/biocbuild/R/R-4.3.1/site-library/S4Vectors/include' -I/usr/local/include -fPIC -g -O2 -Wall -c KernelUtils.cpp -o KernelUtils.o
g++ -std=gnu++17 -I"/home/biocbuild/R/R-4.3.1/include" -DNDEBUG -DSTRICT_R_HEADERS -I'/home/biocbuild/R/R-4.3.1/site-library/IRanges/include' -I'/home/biocbuild/R/R-4.3.1/site-library/XVector/include' -I'/home/biocbuild/R/R-4.3.1/site-library/Biostrings/include' -I'/home/biocbuild/R/R-4.3.1/site-library/Rcpp/include' -I'/home/biocbuild/R/R-4.3.1/site-library/S4Vectors/include' -I/usr/local/include -fPIC -g -O2 -Wall -c MismatchC.cpp -o MismatchC.o
g++ -std=gnu++17 -I"/home/biocbuild/R/R-4.3.1/include" -DNDEBUG -DSTRICT_R_HEADERS -I'/home/biocbuild/R/R-4.3.1/site-library/IRanges/include' -I'/home/biocbuild/R/R-4.3.1/site-library/XVector/include' -I'/home/biocbuild/R/R-4.3.1/site-library/Biostrings/include' -I'/home/biocbuild/R/R-4.3.1/site-library/Rcpp/include' -I'/home/biocbuild/R/R-4.3.1/site-library/S4Vectors/include' -I/usr/local/include -fPIC -g -O2 -Wall -c MotifC.cpp -o MotifC.o
MotifC.cpp: In function ‘void genPredProfileMotif(Rcpp::NumericMatrix, ByteStringVector, Rcpp::IntegerVector, int, ByteStringVector, ByteStringVector, int, bool, int, int, int, int, Rcpp::NumericMatrix, int, ByteStringVector, Rcpp::IntegerVector*, int, int, ByteStringVector, Rcpp::IntegerVector*, int, int, int, bool, bool, bool)’:
MotifC.cpp:3677:18: warning: ‘keyPool’ may be used uninitialized in this function [-Wmaybe-uninitialized]
3677 | pKeypool = keyPool;
| ~~~~~~~~~^~~~~~~~~
g++ -std=gnu++17 -I"/home/biocbuild/R/R-4.3.1/include" -DNDEBUG -DSTRICT_R_HEADERS -I'/home/biocbuild/R/R-4.3.1/site-library/IRanges/include' -I'/home/biocbuild/R/R-4.3.1/site-library/XVector/include' -I'/home/biocbuild/R/R-4.3.1/site-library/Biostrings/include' -I'/home/biocbuild/R/R-4.3.1/site-library/Rcpp/include' -I'/home/biocbuild/R/R-4.3.1/site-library/S4Vectors/include' -I/usr/local/include -fPIC -g -O2 -Wall -c PredictionC.cpp -o PredictionC.o
g++ -std=gnu++17 -I"/home/biocbuild/R/R-4.3.1/include" -DNDEBUG -DSTRICT_R_HEADERS -I'/home/biocbuild/R/R-4.3.1/site-library/IRanges/include' -I'/home/biocbuild/R/R-4.3.1/site-library/XVector/include' -I'/home/biocbuild/R/R-4.3.1/site-library/Biostrings/include' -I'/home/biocbuild/R/R-4.3.1/site-library/Rcpp/include' -I'/home/biocbuild/R/R-4.3.1/site-library/S4Vectors/include' -I/usr/local/include -fPIC -g -O2 -Wall -c PredictionProfileC.cpp -o PredictionProfileC.o
g++ -std=gnu++17 -I"/home/biocbuild/R/R-4.3.1/include" -DNDEBUG -DSTRICT_R_HEADERS -I'/home/biocbuild/R/R-4.3.1/site-library/IRanges/include' -I'/home/biocbuild/R/R-4.3.1/site-library/XVector/include' -I'/home/biocbuild/R/R-4.3.1/site-library/Biostrings/include' -I'/home/biocbuild/R/R-4.3.1/site-library/Rcpp/include' -I'/home/biocbuild/R/R-4.3.1/site-library/S4Vectors/include' -I/usr/local/include -fPIC -g -O2 -Wall -c R_init_kebabs.cpp -o R_init_kebabs.o
gcc -I"/home/biocbuild/R/R-4.3.1/include" -DNDEBUG -DSTRICT_R_HEADERS -I'/home/biocbuild/R/R-4.3.1/site-library/IRanges/include' -I'/home/biocbuild/R/R-4.3.1/site-library/XVector/include' -I'/home/biocbuild/R/R-4.3.1/site-library/Biostrings/include' -I'/home/biocbuild/R/R-4.3.1/site-library/Rcpp/include' -I'/home/biocbuild/R/R-4.3.1/site-library/S4Vectors/include' -I/usr/local/include -fPIC -g -O2 -Wall -c Rsvm.c -o Rsvm.o
g++ -std=gnu++17 -I"/home/biocbuild/R/R-4.3.1/include" -DNDEBUG -DSTRICT_R_HEADERS -I'/home/biocbuild/R/R-4.3.1/site-library/IRanges/include' -I'/home/biocbuild/R/R-4.3.1/site-library/XVector/include' -I'/home/biocbuild/R/R-4.3.1/site-library/Biostrings/include' -I'/home/biocbuild/R/R-4.3.1/site-library/Rcpp/include' -I'/home/biocbuild/R/R-4.3.1/site-library/S4Vectors/include' -I/usr/local/include -fPIC -g -O2 -Wall -c SparseMatrixHash.cpp -o SparseMatrixHash.o
g++ -std=gnu++17 -I"/home/biocbuild/R/R-4.3.1/include" -DNDEBUG -DSTRICT_R_HEADERS -I'/home/biocbuild/R/R-4.3.1/site-library/IRanges/include' -I'/home/biocbuild/R/R-4.3.1/site-library/XVector/include' -I'/home/biocbuild/R/R-4.3.1/site-library/Biostrings/include' -I'/home/biocbuild/R/R-4.3.1/site-library/Rcpp/include' -I'/home/biocbuild/R/R-4.3.1/site-library/S4Vectors/include' -I/usr/local/include -fPIC -g -O2 -Wall -c SpectrumC.cpp -o SpectrumC.o
SpectrumC.cpp: In function ‘SEXPREC* spectrumKernelMatrixC(SEXP, SEXP, SEXP, SEXP, SEXP, SEXP, SEXP, SEXP, SEXP, SEXP, SEXP, SEXP, SEXP, SEXP, SEXP, SEXP, SEXP, SEXP, SEXP, SEXP, SEXP, SEXP, SEXP)’:
SpectrumC.cpp:679:37: warning: ‘*((void*)& annX +16)’ may be used uninitialized in this function [-Wmaybe-uninitialized]
679 | annptr = annX.ptr[iX];
| ~~~~~~~~~~~^
SpectrumC.cpp:3156:28: note: ‘*((void*)& annX +16)’ was declared here
3156 | ByteStringVector x, y, annX, annY, annCharset;
| ^~~~
SpectrumC.cpp:835:41: warning: ‘*((void*)& annY +16)’ may be used uninitialized in this function [-Wmaybe-uninitialized]
835 | annptr = annY.ptr[iY];
| ~~~~~~~~~~~^
SpectrumC.cpp:3156:34: note: ‘*((void*)& annY +16)’ was declared here
3156 | ByteStringVector x, y, annX, annY, annCharset;
| ^~~~
SpectrumC.cpp:3220:33: warning: ‘*((void*)& y +16)’ may be used uninitialized in this function [-Wmaybe-uninitialized]
3220 | getKMPosDistSpec(maxUIndex8, km, x, y, sizeX, sizeY, selX, selY, offsetX, offsetY,
| ~~~~~~~~~~~~~~~~^~~~~~~~~~~~~~~~~~~~~~~~~~~~~~~~~~~~~~~~~~~~~~~~~~~~~~~~~~~~~~~~~~
3221 | k, normalized, symmetric, reverseComplement, posSpec, distWeight,
| ~~~~~~~~~~~~~~~~~~~~~~~~~~~~~~~~~~~~~~~~~~~~~~~~~~~~~~~~~~~~~~~~~
3222 | maxSeqLength, &alphaInf);
| ~~~~~~~~~~~~~~~~~~~~~~~~
SpectrumC.cpp:3220:33: warning: ‘*((void*)& y +8)’ may be used uninitialized in this function [-Wmaybe-uninitialized]
g++ -std=gnu++17 -I"/home/biocbuild/R/R-4.3.1/include" -DNDEBUG -DSTRICT_R_HEADERS -I'/home/biocbuild/R/R-4.3.1/site-library/IRanges/include' -I'/home/biocbuild/R/R-4.3.1/site-library/XVector/include' -I'/home/biocbuild/R/R-4.3.1/site-library/Biostrings/include' -I'/home/biocbuild/R/R-4.3.1/site-library/Rcpp/include' -I'/home/biocbuild/R/R-4.3.1/site-library/S4Vectors/include' -I/usr/local/include -fPIC -g -O2 -Wall -c SymmetricPairC.cpp -o SymmetricPairC.o
g++ -std=gnu++17 -I"/home/biocbuild/R/R-4.3.1/include" -DNDEBUG -DSTRICT_R_HEADERS -I'/home/biocbuild/R/R-4.3.1/site-library/IRanges/include' -I'/home/biocbuild/R/R-4.3.1/site-library/XVector/include' -I'/home/biocbuild/R/R-4.3.1/site-library/Biostrings/include' -I'/home/biocbuild/R/R-4.3.1/site-library/Rcpp/include' -I'/home/biocbuild/R/R-4.3.1/site-library/S4Vectors/include' -I/usr/local/include -fPIC -g -O2 -Wall -c Utils.cpp -o Utils.o
gcc -I"/home/biocbuild/R/R-4.3.1/include" -DNDEBUG -DSTRICT_R_HEADERS -I'/home/biocbuild/R/R-4.3.1/site-library/IRanges/include' -I'/home/biocbuild/R/R-4.3.1/site-library/XVector/include' -I'/home/biocbuild/R/R-4.3.1/site-library/Biostrings/include' -I'/home/biocbuild/R/R-4.3.1/site-library/Rcpp/include' -I'/home/biocbuild/R/R-4.3.1/site-library/S4Vectors/include' -I/usr/local/include -fPIC -g -O2 -Wall -c XVector_stubs.c -o XVector_stubs.o
g++ -std=gnu++17 -I"/home/biocbuild/R/R-4.3.1/include" -DNDEBUG -DSTRICT_R_HEADERS -I'/home/biocbuild/R/R-4.3.1/site-library/IRanges/include' -I'/home/biocbuild/R/R-4.3.1/site-library/XVector/include' -I'/home/biocbuild/R/R-4.3.1/site-library/Biostrings/include' -I'/home/biocbuild/R/R-4.3.1/site-library/Rcpp/include' -I'/home/biocbuild/R/R-4.3.1/site-library/S4Vectors/include' -I/usr/local/include -fPIC -g -O2 -Wall -c svm.cpp -o svm.o
g++ -std=gnu++17 -shared -L/home/biocbuild/R/R-4.3.1/lib -L/usr/local/lib -o kebabs.so Biostrings_stubs.o ByteStringVector.o ExplicitRepC.o FeatureWeightsPosDepC.o GappyPairC.o IRanges_stubs.o KernelUtils.o MismatchC.o MotifC.o PredictionC.o PredictionProfileC.o R_init_kebabs.o Rsvm.o SparseMatrixHash.o SpectrumC.o SymmetricPairC.o Utils.o XVector_stubs.o svm.o -L/home/biocbuild/R/R-4.3.1/lib -lR
installing to /home/biocbuild/R/R-4.3.1/site-library/00LOCK-kebabs/00new/kebabs/libs
** R
** data
** inst
** byte-compile and prepare package for lazy loading
** help
*** installing help indices
** building package indices
** installing vignettes
** testing if installed package can be loaded from temporary location
** checking absolute paths in shared objects and dynamic libraries
** testing if installed package can be loaded from final location
** testing if installed package keeps a record of temporary installation path
* DONE (kebabs)