| Back to Multiple platform build/check report for BioC 3.18: simplified long |
|
This page was generated on 2023-11-02 11:40:48 -0400 (Thu, 02 Nov 2023).
| Hostname | OS | Arch (*) | R version | Installed pkgs |
|---|---|---|---|---|
| nebbiolo2 | Linux (Ubuntu 22.04.2 LTS) | x86_64 | 4.3.1 (2023-06-16) -- "Beagle Scouts" | 4729 |
| palomino4 | Windows Server 2022 Datacenter | x64 | 4.3.1 (2023-06-16 ucrt) -- "Beagle Scouts" | 4463 |
| lconway | macOS 12.6.5 Monterey | x86_64 | 4.3.1 Patched (2023-06-17 r84564) -- "Beagle Scouts" | 4478 |
| kunpeng2 | Linux (openEuler 22.03 LTS-SP1) | aarch64 | 4.3.1 (2023-06-16) -- "Beagle Scouts" | 4464 |
| Click on any hostname to see more info about the system (e.g. compilers) (*) as reported by 'uname -p', except on Windows and Mac OS X | ||||
| Package 989/2266 | Hostname | OS / Arch | INSTALL | BUILD | CHECK | BUILD BIN | ||||||||
| iBMQ 1.42.0 (landing page) Greg Imholte
| nebbiolo2 | Linux (Ubuntu 22.04.2 LTS) / x86_64 | OK | OK | OK | |||||||||
| palomino4 | Windows Server 2022 Datacenter / x64 | OK | OK | OK | OK | |||||||||
| lconway | macOS 12.6.5 Monterey / x86_64 | ... NOT SUPPORTED ... | ||||||||||||
| kjohnson1 | macOS 13.6.1 Ventura / arm64 | see weekly results here | ||||||||||||
| kunpeng2 | Linux (openEuler 22.03 LTS-SP1) / aarch64 | OK | OK | WARNINGS | ||||||||||
|
To the developers/maintainers of the iBMQ package: - Allow up to 24 hours (and sometimes 48 hours) for your latest push to git@git.bioconductor.org:packages/iBMQ.git to reflect on this report. See Troubleshooting Build Report for more information. - Use the following Renviron settings to reproduce errors and warnings. - If 'R CMD check' started to fail recently on the Linux builder(s) over a missing dependency, add the missing dependency to 'Suggests:' in your DESCRIPTION file. See Renviron.bioc for more information. - See Martin Grigorov's blog post for how to debug Linux ARM64 related issues on a x86_64 host. |
| Package: iBMQ |
| Version: 1.42.0 |
| Command: /home/biocbuild/R/R-4.3.1/bin/R CMD INSTALL iBMQ |
| StartedAt: 2023-11-01 20:12:25 -0000 (Wed, 01 Nov 2023) |
| EndedAt: 2023-11-01 20:12:35 -0000 (Wed, 01 Nov 2023) |
| EllapsedTime: 9.7 seconds |
| RetCode: 0 |
| Status: OK |
##############################################################################
##############################################################################
###
### Running command:
###
### /home/biocbuild/R/R-4.3.1/bin/R CMD INSTALL iBMQ
###
##############################################################################
##############################################################################
* installing to library ‘/home/biocbuild/R/R-4.3.1/site-library’
* installing *source* package ‘iBMQ’ ...
** using staged installation
checking for gcc... gcc
checking whether the C compiler works... yes
checking for C compiler default output file name... a.out
checking for suffix of executables...
checking whether we are cross compiling... no
checking for suffix of object files... o
checking whether we are using the GNU C compiler... yes
checking whether gcc accepts -g... yes
checking for gcc option to accept ISO C89... none needed
checking how to run the C preprocessor... gcc -E
checking for pkg-config... /usr/bin/pkg-config
checking pkg-config is at least version 0.9.0... yes
checking for GSL... yes
checking for grep that handles long lines and -e... /usr/bin/grep
checking for egrep... /usr/bin/grep -E
checking for ANSI C header files... yes
checking for sys/types.h... yes
checking for sys/stat.h... yes
checking for stdlib.h... yes
checking for string.h... yes
checking for memory.h... yes
checking for strings.h... yes
checking for inttypes.h... yes
checking for stdint.h... yes
checking for unistd.h... yes
checking omp.h usability... yes
checking omp.h presence... yes
checking for omp.h... yes
configure: creating ./config.status
config.status: creating src/Makevars
** libs
using C compiler: ‘gcc (GCC) 10.3.1’
gcc -I"/home/biocbuild/R/R-4.3.1/include" -DNDEBUG -I/usr/local/include -fopenmp -fPIC -g -O2 -Wall -c ARS.c -o ARS.o
gcc -I"/home/biocbuild/R/R-4.3.1/include" -DNDEBUG -I/usr/local/include -fopenmp -fPIC -g -O2 -Wall -c RngStream.c -o RngStream.o
RngStream.c: In function ‘RngStream_CreateStream’:
RngStream.c:321:7: warning: ‘strncpy’ specified bound depends on the length of the source argument [-Wstringop-overflow=]
321 | strncpy (g->name, name, len + 1);
| ^~~~~~~~~~~~~~~~~~~~~~~~~~~~~~~~
RngStream.c:319:13: note: length computed here
319 | len = strlen (name);
| ^~~~~~~~~~~~~
gcc -I"/home/biocbuild/R/R-4.3.1/include" -DNDEBUG -I/usr/local/include -fopenmp -fPIC -g -O2 -Wall -c iBMQ_common.c -o iBMQ_common.o
gcc -I"/home/biocbuild/R/R-4.3.1/include" -DNDEBUG -I/usr/local/include -fopenmp -fPIC -g -O2 -Wall -c main_parallel_sparse.c -o main_parallel_sparse.o
main_parallel_sparse.c: In function ‘iBMQ_main’:
main_parallel_sparse.c:255:5: warning: ‘Cfile’ may be used uninitialized in this function [-Wmaybe-uninitialized]
255 | store_mcmc_output(Afile, Bfile, Pfile, Mufile, Sig2file, Cfile,
| ^~~~~~~~~~~~~~~~~~~~~~~~~~~~~~~~~~~~~~~~~~~~~~~~~~~~~~~~~~~~~~~
256 | n_snps, n_genes, A, B, P, Mu, Sig2, C);
| ~~~~~~~~~~~~~~~~~~~~~~~~~~~~~~~~~~~~~~
main_parallel_sparse.c:255:5: warning: ‘Sig2file’ may be used uninitialized in this function [-Wmaybe-uninitialized]
main_parallel_sparse.c:255:5: warning: ‘Mufile’ may be used uninitialized in this function [-Wmaybe-uninitialized]
main_parallel_sparse.c:255:5: warning: ‘Bfile’ may be used uninitialized in this function [-Wmaybe-uninitialized]
main_parallel_sparse.c:255:5: warning: ‘Afile’ may be used uninitialized in this function [-Wmaybe-uninitialized]
main_parallel_sparse.c:255:5: warning: ‘Pfile’ may be used uninitialized in this function [-Wmaybe-uninitialized]
gcc -I"/home/biocbuild/R/R-4.3.1/include" -DNDEBUG -I/usr/local/include -fopenmp -fPIC -g -O2 -Wall -c main_parallel_sparse_constC.c -o main_parallel_sparse_constC.o
gcc -I"/home/biocbuild/R/R-4.3.1/include" -DNDEBUG -I/usr/local/include -fopenmp -fPIC -g -O2 -Wall -c norm_gamma_generation.c -o norm_gamma_generation.o
gcc -I"/home/biocbuild/R/R-4.3.1/include" -DNDEBUG -I/usr/local/include -fopenmp -fPIC -g -O2 -Wall -c sparse.c -o sparse.o
gcc -shared -L/home/biocbuild/R/R-4.3.1/lib -L/usr/local/lib -o iBMQ.so ARS.o RngStream.o iBMQ_common.o main_parallel_sparse.o main_parallel_sparse_constC.o norm_gamma_generation.o sparse.o -lgsl -lgslcblas -lm -lgomp -L/home/biocbuild/R/R-4.3.1/lib -lR
installing to /home/biocbuild/R/R-4.3.1/site-library/00LOCK-iBMQ/00new/iBMQ/libs
** R
** data
** inst
** byte-compile and prepare package for lazy loading
** help
*** installing help indices
** building package indices
** installing vignettes
** testing if installed package can be loaded from temporary location
** checking absolute paths in shared objects and dynamic libraries
** testing if installed package can be loaded from final location
** testing if installed package keeps a record of temporary installation path
* DONE (iBMQ)