| Back to Multiple platform build/check report for BioC 3.18: simplified long |
|
This page was generated on 2023-11-02 11:40:46 -0400 (Thu, 02 Nov 2023).
| Hostname | OS | Arch (*) | R version | Installed pkgs |
|---|---|---|---|---|
| nebbiolo2 | Linux (Ubuntu 22.04.2 LTS) | x86_64 | 4.3.1 (2023-06-16) -- "Beagle Scouts" | 4729 |
| palomino4 | Windows Server 2022 Datacenter | x64 | 4.3.1 (2023-06-16 ucrt) -- "Beagle Scouts" | 4463 |
| lconway | macOS 12.6.5 Monterey | x86_64 | 4.3.1 Patched (2023-06-17 r84564) -- "Beagle Scouts" | 4478 |
| kunpeng2 | Linux (openEuler 22.03 LTS-SP1) | aarch64 | 4.3.1 (2023-06-16) -- "Beagle Scouts" | 4464 |
| Click on any hostname to see more info about the system (e.g. compilers) (*) as reported by 'uname -p', except on Windows and Mac OS X | ||||
| Package 905/2266 | Hostname | OS / Arch | INSTALL | BUILD | CHECK | BUILD BIN | ||||||||
| groHMM 1.36.0 (landing page) Tulip Nandu
| nebbiolo2 | Linux (Ubuntu 22.04.2 LTS) / x86_64 | OK | OK | OK | |||||||||
| palomino4 | Windows Server 2022 Datacenter / x64 | OK | OK | OK | OK | |||||||||
| lconway | macOS 12.6.5 Monterey / x86_64 | OK | OK | OK | OK | |||||||||
| kjohnson1 | macOS 13.6.1 Ventura / arm64 | see weekly results here | ||||||||||||
| kunpeng2 | Linux (openEuler 22.03 LTS-SP1) / aarch64 | OK | OK | OK | ||||||||||
|
To the developers/maintainers of the groHMM package: - Allow up to 24 hours (and sometimes 48 hours) for your latest push to git@git.bioconductor.org:packages/groHMM.git to reflect on this report. See Troubleshooting Build Report for more information. - Use the following Renviron settings to reproduce errors and warnings. - If 'R CMD check' started to fail recently on the Linux builder(s) over a missing dependency, add the missing dependency to 'Suggests:' in your DESCRIPTION file. See Renviron.bioc for more information. - See Martin Grigorov's blog post for how to debug Linux ARM64 related issues on a x86_64 host. |
| Package: groHMM |
| Version: 1.36.0 |
| Command: /home/biocbuild/R/R-4.3.1/bin/R CMD check --install=check:groHMM.install-out.txt --library=/home/biocbuild/R/R-4.3.1/site-library --no-vignettes --timings groHMM_1.36.0.tar.gz |
| StartedAt: 2023-11-02 11:08:34 -0000 (Thu, 02 Nov 2023) |
| EndedAt: 2023-11-02 11:13:34 -0000 (Thu, 02 Nov 2023) |
| EllapsedTime: 299.5 seconds |
| RetCode: 0 |
| Status: OK |
| CheckDir: groHMM.Rcheck |
| Warnings: 0 |
##############################################################################
##############################################################################
###
### Running command:
###
### /home/biocbuild/R/R-4.3.1/bin/R CMD check --install=check:groHMM.install-out.txt --library=/home/biocbuild/R/R-4.3.1/site-library --no-vignettes --timings groHMM_1.36.0.tar.gz
###
##############################################################################
##############################################################################
* using log directory ‘/home/biocbuild/bbs-3.18-bioc/meat/groHMM.Rcheck’
* using R version 4.3.1 (2023-06-16)
* using platform: aarch64-unknown-linux-gnu (64-bit)
* R was compiled by
gcc (GCC) 10.3.1
GNU Fortran (GCC) 10.3.1
* running under: openEuler 22.03 (LTS-SP1)
* using session charset: UTF-8
* using option ‘--no-vignettes’
* checking for file ‘groHMM/DESCRIPTION’ ... OK
* this is package ‘groHMM’ version ‘1.36.0’
* checking package namespace information ... OK
* checking package dependencies ... NOTE
Depends: includes the non-default packages:
'MASS', 'parallel', 'S4Vectors', 'IRanges', 'GenomeInfoDb',
'GenomicRanges', 'GenomicAlignments', 'rtracklayer'
Adding so many packages to the search path is excessive and importing
selectively is preferable.
* checking if this is a source package ... OK
* checking if there is a namespace ... OK
* checking for hidden files and directories ... OK
* checking for portable file names ... OK
* checking for sufficient/correct file permissions ... OK
* checking whether package ‘groHMM’ can be installed ... OK
* used C compiler: ‘gcc (GCC) 10.3.1’
* checking installed package size ... OK
* checking package directory ... OK
* checking ‘build’ directory ... OK
* checking DESCRIPTION meta-information ... NOTE
Authors@R field gives no person with maintainer role, valid email
address and non-empty name.
* checking top-level files ... OK
* checking for left-over files ... OK
* checking index information ... OK
* checking package subdirectories ... OK
* checking R files for non-ASCII characters ... OK
* checking R files for syntax errors ... OK
* checking whether the package can be loaded ... OK
* checking whether the package can be loaded with stated dependencies ... OK
* checking whether the package can be unloaded cleanly ... OK
* checking whether the namespace can be loaded with stated dependencies ... OK
* checking whether the namespace can be unloaded cleanly ... OK
* checking loading without being on the library search path ... OK
* checking dependencies in R code ... OK
* checking S3 generic/method consistency ... OK
* checking replacement functions ... OK
* checking foreign function calls ... OK
* checking R code for possible problems ... OK
* checking Rd files ... OK
* checking Rd metadata ... OK
* checking Rd cross-references ... OK
* checking for missing documentation entries ... OK
* checking for code/documentation mismatches ... OK
* checking Rd \usage sections ... OK
* checking Rd contents ... OK
* checking for unstated dependencies in examples ... OK
* checking line endings in C/C++/Fortran sources/headers ... OK
* checking compiled code ... NOTE
Note: information on .o files is not available
* checking files in ‘vignettes’ ... OK
* checking examples ... OK
* checking for unstated dependencies in vignettes ... OK
* checking package vignettes in ‘inst/doc’ ... OK
* checking running R code from vignettes ... SKIPPED
* checking re-building of vignette outputs ... SKIPPED
* checking PDF version of manual ... OK
* DONE
Status: 3 NOTEs
See
‘/home/biocbuild/bbs-3.18-bioc/meat/groHMM.Rcheck/00check.log’
for details.
groHMM.Rcheck/00install.out
##############################################################################
##############################################################################
###
### Running command:
###
### /home/biocbuild/R/R-4.3.1/bin/R CMD INSTALL groHMM
###
##############################################################################
##############################################################################
* installing to library ‘/home/biocbuild/R/R-4.3.1/site-library’
* installing *source* package ‘groHMM’ ...
** using staged installation
** libs
using C compiler: ‘gcc (GCC) 10.3.1’
gcc -I"/home/biocbuild/R/R-4.3.1/include" -DNDEBUG -I/usr/local/include -fPIC -g -O2 -Wall -c AnnotateProbes.c -o AnnotateProbes.o
gcc -I"/home/biocbuild/R/R-4.3.1/include" -DNDEBUG -I/usr/local/include -fPIC -g -O2 -Wall -c DecayAlgorithm.c -o DecayAlgorithm.o
gcc -I"/home/biocbuild/R/R-4.3.1/include" -DNDEBUG -I/usr/local/include -fPIC -g -O2 -Wall -c MLEfit.c -o MLEfit.o
In file included from MLEfit.c:43:
hmmHeader.h:301:16: warning: ‘expSum’ defined but not used [-Wunused-function]
301 | static double expSum(double *logValues, int length) {
| ^~~~~~
hmmHeader.h:281:16: warning: ‘MargainalizeSumLogProbOver’ defined but not used [-Wunused-function]
281 | static double MargainalizeSumLogProbOver(int state, int position,
| ^~~~~~~~~~~~~~~~~~~~~~~~~~
gcc -I"/home/biocbuild/R/R-4.3.1/include" -DNDEBUG -I/usr/local/include -fPIC -g -O2 -Wall -c RegisterRRoutines.c -o RegisterRRoutines.o
gcc -I"/home/biocbuild/R/R-4.3.1/include" -DNDEBUG -I/usr/local/include -fPIC -g -O2 -Wall -c Windowing.c -o Windowing.o
Windowing.c: In function ‘WindowAnalysis’:
Windowing.c:146:6: warning: unused variable ‘II’ [-Wunused-variable]
146 | int II = 0;
| ^~
gcc -I"/home/biocbuild/R/R-4.3.1/include" -DNDEBUG -I/usr/local/include -fPIC -g -O2 -Wall -c hmmEM.c -o hmmEM.o
In file included from hmmEM.c:50:
hmmHeader.h:301:16: warning: ‘expSum’ defined but not used [-Wunused-function]
301 | static double expSum(double *logValues, int length) {
| ^~~~~~
hmmHeader.h:281:16: warning: ‘MargainalizeSumLogProbOver’ defined but not used [-Wunused-function]
281 | static double MargainalizeSumLogProbOver(int state, int position,
| ^~~~~~~~~~~~~~~~~~~~~~~~~~
In file included from hmmHeader.h:36,
from hmmEM.c:50:
UsefulValues.h:39:15: warning: ‘VERY_LARGE_DOUBLE_VALUE’ defined but not used [-Wunused-variable]
39 | static double VERY_LARGE_DOUBLE_VALUE = 1e20;
| ^~~~~~~~~~~~~~~~~~~~~~~
gcc -I"/home/biocbuild/R/R-4.3.1/include" -DNDEBUG -I/usr/local/include -fPIC -g -O2 -Wall -c hmmFwBw.c -o hmmFwBw.o
hmmFwBw.c: In function ‘forward’:
hmmFwBw.c:142:7: warning: this ‘for’ clause does not guard... [-Wmisleading-indentation]
142 | for(k=1; k<n; k++)
| ^~~
hmmFwBw.c:145:9: note: ...this statement, but the latter is misleadingly indented as if it were guarded by the ‘for’
145 | for (k = 0; k<n; k++) {
| ^~~
In file included from hmmFwBw.c:45:
At top level:
hmmHeader.h:301:16: warning: ‘expSum’ defined but not used [-Wunused-function]
301 | static double expSum(double *logValues, int length) {
| ^~~~~~
hmmHeader.h:281:16: warning: ‘MargainalizeSumLogProbOver’ defined but not used [-Wunused-function]
281 | static double MargainalizeSumLogProbOver(int state, int position,
| ^~~~~~~~~~~~~~~~~~~~~~~~~~
In file included from hmmHeader.h:36,
from hmmFwBw.c:45:
UsefulValues.h:39:15: warning: ‘VERY_LARGE_DOUBLE_VALUE’ defined but not used [-Wunused-variable]
39 | static double VERY_LARGE_DOUBLE_VALUE = 1e20;
| ^~~~~~~~~~~~~~~~~~~~~~~
gcc -I"/home/biocbuild/R/R-4.3.1/include" -DNDEBUG -I/usr/local/include -fPIC -g -O2 -Wall -c hmmMiscFunctions.c -o hmmMiscFunctions.o
hmmMiscFunctions.c: In function ‘SStatsNormExp’:
hmmMiscFunctions.c:384:10: warning: unused variable ‘wi’ [-Wunused-variable]
384 | double wi, *newEx;
| ^~
hmmMiscFunctions.c: In function ‘UpdateNormExp’:
hmmMiscFunctions.c:417:10: warning: unused variable ‘epsilon’ [-Wunused-variable]
417 | double epsilon=0.00001;
| ^~~~~~~
In file included from hmmHeader.h:36,
from hmmMiscFunctions.c:43:
At top level:
UsefulValues.h:39:15: warning: ‘VERY_LARGE_DOUBLE_VALUE’ defined but not used [-Wunused-variable]
39 | static double VERY_LARGE_DOUBLE_VALUE = 1e20;
| ^~~~~~~~~~~~~~~~~~~~~~~
gcc -I"/home/biocbuild/R/R-4.3.1/include" -DNDEBUG -I/usr/local/include -fPIC -g -O2 -Wall -c hmmViterbi.c -o hmmViterbi.o
In file included from hmmViterbi.c:48:
hmmHeader.h:301:16: warning: ‘expSum’ defined but not used [-Wunused-function]
301 | static double expSum(double *logValues, int length) {
| ^~~~~~
hmmHeader.h:281:16: warning: ‘MargainalizeSumLogProbOver’ defined but not used [-Wunused-function]
281 | static double MargainalizeSumLogProbOver(int state, int position,
| ^~~~~~~~~~~~~~~~~~~~~~~~~~
In file included from hmmHeader.h:36,
from hmmViterbi.c:48:
UsefulValues.h:39:15: warning: ‘VERY_LARGE_DOUBLE_VALUE’ defined but not used [-Wunused-variable]
39 | static double VERY_LARGE_DOUBLE_VALUE = 1e20;
| ^~~~~~~~~~~~~~~~~~~~~~~
gcc -shared -L/home/biocbuild/R/R-4.3.1/lib -L/usr/local/lib -o groHMM.so AnnotateProbes.o DecayAlgorithm.o MLEfit.o RegisterRRoutines.o Windowing.o hmmEM.o hmmFwBw.o hmmMiscFunctions.o hmmViterbi.o -L/home/biocbuild/R/R-4.3.1/lib -lR
installing to /home/biocbuild/R/R-4.3.1/site-library/00LOCK-groHMM/00new/groHMM/libs
** R
** inst
** byte-compile and prepare package for lazy loading
** help
*** installing help indices
** building package indices
** installing vignettes
** testing if installed package can be loaded from temporary location
** checking absolute paths in shared objects and dynamic libraries
** testing if installed package can be loaded from final location
** testing if installed package keeps a record of temporary installation path
* DONE (groHMM)
groHMM.Rcheck/groHMM-Ex.timings
| name | user | system | elapsed | |
| breakTranscriptsOnGenes | 0.674 | 0.012 | 1.387 | |
| combineTranscripts | 0.371 | 0.000 | 0.629 | |
| detectTranscripts | 1.276 | 0.035 | 1.458 | |
| evaluateHMMInAnnotations | 0.140 | 0.000 | 0.164 | |
| getCores | 0.000 | 0.000 | 0.001 | |
| getTxDensity | 0.022 | 0.000 | 0.022 | |
| limitToXkb | 0.087 | 0.003 | 0.090 | |
| makeConsensusAnnotations | 0 | 0 | 0 | |
| metaGene | 0.125 | 0.000 | 0.125 | |
| pausingIndex | 0.306 | 0.016 | 0.332 | |
| polymeraseWave | 0.815 | 0.011 | 1.220 | |
| runMetaGene | 0.019 | 0.004 | 0.054 | |
| windowAnalysis | 0.340 | 0.000 | 0.695 | |
| writeWiggle | 1.224 | 0.035 | 1.708 | |