| Back to Multiple platform build/check report for BioC 3.18: simplified long |
|
This page was generated on 2023-11-02 11:40:42 -0400 (Thu, 02 Nov 2023).
| Hostname | OS | Arch (*) | R version | Installed pkgs |
|---|---|---|---|---|
| nebbiolo2 | Linux (Ubuntu 22.04.2 LTS) | x86_64 | 4.3.1 (2023-06-16) -- "Beagle Scouts" | 4729 |
| palomino4 | Windows Server 2022 Datacenter | x64 | 4.3.1 (2023-06-16 ucrt) -- "Beagle Scouts" | 4463 |
| lconway | macOS 12.6.5 Monterey | x86_64 | 4.3.1 Patched (2023-06-17 r84564) -- "Beagle Scouts" | 4478 |
| kunpeng2 | Linux (openEuler 22.03 LTS-SP1) | aarch64 | 4.3.1 (2023-06-16) -- "Beagle Scouts" | 4464 |
| Click on any hostname to see more info about the system (e.g. compilers) (*) as reported by 'uname -p', except on Windows and Mac OS X | ||||
| Package 761/2266 | Hostname | OS / Arch | INSTALL | BUILD | CHECK | BUILD BIN | ||||||||
| gaga 2.48.0 (landing page) David Rossell
| nebbiolo2 | Linux (Ubuntu 22.04.2 LTS) / x86_64 | OK | OK | OK | |||||||||
| palomino4 | Windows Server 2022 Datacenter / x64 | OK | OK | WARNINGS | OK | |||||||||
| lconway | macOS 12.6.5 Monterey / x86_64 | OK | OK | WARNINGS | OK | |||||||||
| kjohnson1 | macOS 13.6.1 Ventura / arm64 | see weekly results here | ||||||||||||
| kunpeng2 | Linux (openEuler 22.03 LTS-SP1) / aarch64 | OK | OK | OK | ||||||||||
|
To the developers/maintainers of the gaga package: - Allow up to 24 hours (and sometimes 48 hours) for your latest push to git@git.bioconductor.org:packages/gaga.git to reflect on this report. See Troubleshooting Build Report for more information. - Use the following Renviron settings to reproduce errors and warnings. - If 'R CMD check' started to fail recently on the Linux builder(s) over a missing dependency, add the missing dependency to 'Suggests:' in your DESCRIPTION file. See Renviron.bioc for more information. - See Martin Grigorov's blog post for how to debug Linux ARM64 related issues on a x86_64 host. |
| Package: gaga |
| Version: 2.48.0 |
| Command: /home/biocbuild/R/R-4.3.1/bin/R CMD INSTALL gaga |
| StartedAt: 2023-11-01 20:09:53 -0000 (Wed, 01 Nov 2023) |
| EndedAt: 2023-11-01 20:10:19 -0000 (Wed, 01 Nov 2023) |
| EllapsedTime: 26.3 seconds |
| RetCode: 0 |
| Status: OK |
##############################################################################
##############################################################################
###
### Running command:
###
### /home/biocbuild/R/R-4.3.1/bin/R CMD INSTALL gaga
###
##############################################################################
##############################################################################
* installing to library ‘/home/biocbuild/R/R-4.3.1/site-library’
* installing *source* package ‘gaga’ ...
** using staged installation
** libs
using C compiler: ‘gcc (GCC) 10.3.1’
gcc -I"/home/biocbuild/R/R-4.3.1/include" -DNDEBUG -I/usr/local/include -fPIC -g -O2 -Wall -c cseqdesma.c -o cseqdesma.o
gcc -I"/home/biocbuild/R/R-4.3.1/include" -DNDEBUG -I/usr/local/include -fPIC -g -O2 -Wall -c cstat.c -o cstat.o
cstat.c:22:19: warning: ‘css_c_sccs_id’ defined but not used [-Wunused-const-variable=]
22 | static const char css_c_sccs_id[] = "@(#)$Workfile: rand.c$ $Revision: 5$";
| ^~~~~~~~~~~~~
cstat.c:21:19: warning: ‘vector_c_sccs_id’ defined but not used [-Wunused-const-variable=]
21 | static const char vector_c_sccs_id[] = "%W%";
| ^~~~~~~~~~~~~~~~
cstat.c:20:19: warning: ‘nrutil_c_sccs_id’ defined but not used [-Wunused-const-variable=]
20 | static const char nrutil_c_sccs_id[] = "%W%";
| ^~~~~~~~~~~~~~~~
cstat.c:19:19: warning: ‘mess_c_sccs_id’ defined but not used [-Wunused-const-variable=]
19 | static const char mess_c_sccs_id[] = "%W%";
| ^~~~~~~~~~~~~~
cstat.c:18:19: warning: ‘interface_c_sccs_id’ defined but not used [-Wunused-const-variable=]
18 | static const char interface_c_sccs_id[] = "%W%";
| ^~~~~~~~~~~~~~~~~~~
gcc -shared -L/home/biocbuild/R/R-4.3.1/lib -L/usr/local/lib -o gaga.so cseqdesma.o cstat.o -L/home/biocbuild/R/R-4.3.1/lib -lR
installing to /home/biocbuild/R/R-4.3.1/site-library/00LOCK-gaga/00new/gaga/libs
** R
** inst
** byte-compile and prepare package for lazy loading
** help
*** installing help indices
** building package indices
** installing vignettes
** testing if installed package can be loaded from temporary location
** checking absolute paths in shared objects and dynamic libraries
** testing if installed package can be loaded from final location
** testing if installed package keeps a record of temporary installation path
* DONE (gaga)