| Back to Multiple platform build/check report for BioC 3.18: simplified long |
|
This page was generated on 2023-11-02 11:40:42 -0400 (Thu, 02 Nov 2023).
| Hostname | OS | Arch (*) | R version | Installed pkgs |
|---|---|---|---|---|
| nebbiolo2 | Linux (Ubuntu 22.04.2 LTS) | x86_64 | 4.3.1 (2023-06-16) -- "Beagle Scouts" | 4729 |
| palomino4 | Windows Server 2022 Datacenter | x64 | 4.3.1 (2023-06-16 ucrt) -- "Beagle Scouts" | 4463 |
| lconway | macOS 12.6.5 Monterey | x86_64 | 4.3.1 Patched (2023-06-17 r84564) -- "Beagle Scouts" | 4478 |
| kunpeng2 | Linux (openEuler 22.03 LTS-SP1) | aarch64 | 4.3.1 (2023-06-16) -- "Beagle Scouts" | 4464 |
| Click on any hostname to see more info about the system (e.g. compilers) (*) as reported by 'uname -p', except on Windows and Mac OS X | ||||
| Package 778/2266 | Hostname | OS / Arch | INSTALL | BUILD | CHECK | BUILD BIN | ||||||||
| gDRcore 1.0.0 (landing page) Arkadiusz Gladki
| nebbiolo2 | Linux (Ubuntu 22.04.2 LTS) / x86_64 | OK | OK | OK | |||||||||
| palomino4 | Windows Server 2022 Datacenter / x64 | OK | OK | OK | OK | |||||||||
| lconway | macOS 12.6.5 Monterey / x86_64 | OK | OK | OK | OK | |||||||||
| kjohnson1 | macOS 13.6.1 Ventura / arm64 | see weekly results here | ||||||||||||
| kunpeng2 | Linux (openEuler 22.03 LTS-SP1) / aarch64 | OK | OK | OK | ||||||||||
|
To the developers/maintainers of the gDRcore package: - Allow up to 24 hours (and sometimes 48 hours) for your latest push to git@git.bioconductor.org:packages/gDRcore.git to reflect on this report. See Troubleshooting Build Report for more information. - Use the following Renviron settings to reproduce errors and warnings. - If 'R CMD check' started to fail recently on the Linux builder(s) over a missing dependency, add the missing dependency to 'Suggests:' in your DESCRIPTION file. See Renviron.bioc for more information. - See Martin Grigorov's blog post for how to debug Linux ARM64 related issues on a x86_64 host. |
| Package: gDRcore |
| Version: 1.0.0 |
| Command: /home/biocbuild/R/R-4.3.1/bin/R CMD check --install=check:gDRcore.install-out.txt --library=/home/biocbuild/R/R-4.3.1/site-library --no-vignettes --timings gDRcore_1.0.0.tar.gz |
| StartedAt: 2023-11-02 10:42:23 -0000 (Thu, 02 Nov 2023) |
| EndedAt: 2023-11-02 10:49:33 -0000 (Thu, 02 Nov 2023) |
| EllapsedTime: 429.7 seconds |
| RetCode: 0 |
| Status: OK |
| CheckDir: gDRcore.Rcheck |
| Warnings: 0 |
##############################################################################
##############################################################################
###
### Running command:
###
### /home/biocbuild/R/R-4.3.1/bin/R CMD check --install=check:gDRcore.install-out.txt --library=/home/biocbuild/R/R-4.3.1/site-library --no-vignettes --timings gDRcore_1.0.0.tar.gz
###
##############################################################################
##############################################################################
* using log directory ‘/home/biocbuild/bbs-3.18-bioc/meat/gDRcore.Rcheck’
* using R version 4.3.1 (2023-06-16)
* using platform: aarch64-unknown-linux-gnu (64-bit)
* R was compiled by
gcc (GCC) 10.3.1
GNU Fortran (GCC) 10.3.1
* running under: openEuler 22.03 (LTS-SP1)
* using session charset: UTF-8
* using option ‘--no-vignettes’
* checking for file ‘gDRcore/DESCRIPTION’ ... OK
* checking extension type ... Package
* this is package ‘gDRcore’ version ‘1.0.0’
* package encoding: UTF-8
* checking package namespace information ... OK
* checking package dependencies ... OK
* checking if this is a source package ... OK
* checking if there is a namespace ... OK
* checking for hidden files and directories ... OK
* checking for portable file names ... OK
* checking for sufficient/correct file permissions ... OK
* checking whether package ‘gDRcore’ can be installed ... OK
* used C++ compiler: ‘g++ (GCC) 10.3.1’
* checking installed package size ... OK
* checking package directory ... OK
* checking ‘build’ directory ... OK
* checking DESCRIPTION meta-information ... OK
* checking top-level files ... OK
* checking for left-over files ... OK
* checking index information ... OK
* checking package subdirectories ... OK
* checking R files for non-ASCII characters ... OK
* checking R files for syntax errors ... OK
* checking whether the package can be loaded ... OK
* checking whether the package can be loaded with stated dependencies ... OK
* checking whether the package can be unloaded cleanly ... OK
* checking whether the namespace can be loaded with stated dependencies ... OK
* checking whether the namespace can be unloaded cleanly ... OK
* checking loading without being on the library search path ... OK
* checking startup messages can be suppressed ... OK
* checking dependencies in R code ... OK
* checking S3 generic/method consistency ... OK
* checking replacement functions ... OK
* checking foreign function calls ... OK
* checking R code for possible problems ... OK
* checking Rd files ... OK
* checking Rd metadata ... OK
* checking Rd cross-references ... OK
* checking for missing documentation entries ... OK
* checking for code/documentation mismatches ... OK
* checking Rd \usage sections ... OK
* checking Rd contents ... OK
* checking for unstated dependencies in examples ... OK
* checking line endings in C/C++/Fortran sources/headers ... OK
* checking compiled code ... NOTE
Note: information on .o files is not available
* checking files in ‘vignettes’ ... OK
* checking examples ... OK
Examples with CPU (user + system) or elapsed time > 5s
user system elapsed
runDrugResponseProcessingPipelineFxns 25.956 0.587 26.531
add_CellLine_annotation 7.264 0.184 7.472
* checking for unstated dependencies in ‘tests’ ... OK
* checking tests ...
Running ‘testthat.R’
OK
* checking for unstated dependencies in vignettes ... OK
* checking package vignettes in ‘inst/doc’ ... OK
* checking running R code from vignettes ... SKIPPED
* checking re-building of vignette outputs ... SKIPPED
* checking PDF version of manual ... OK
* DONE
Status: 1 NOTE
See
‘/home/biocbuild/bbs-3.18-bioc/meat/gDRcore.Rcheck/00check.log’
for details.
gDRcore.Rcheck/00install.out
############################################################################## ############################################################################## ### ### Running command: ### ### /home/biocbuild/R/R-4.3.1/bin/R CMD INSTALL gDRcore ### ############################################################################## ############################################################################## * installing to library ‘/home/biocbuild/R/R-4.3.1/site-library’ * installing *source* package ‘gDRcore’ ... ** using staged installation ** libs using C++ compiler: ‘g++ (GCC) 10.3.1’ g++ -std=gnu++17 -I"/home/biocbuild/R/R-4.3.1/include" -DNDEBUG -I/usr/local/include -fPIC -g -O2 -Wall -c gDRcore.cpp -o gDRcore.o g++ -std=gnu++17 -shared -L/home/biocbuild/R/R-4.3.1/lib -L/usr/local/lib -o gDRcore.so gDRcore.o -L/home/biocbuild/R/R-4.3.1/lib -lR installing to /home/biocbuild/R/R-4.3.1/site-library/00LOCK-gDRcore/00new/gDRcore/libs ** R ** byte-compile and prepare package for lazy loading ** help *** installing help indices ** building package indices ** installing vignettes ** testing if installed package can be loaded from temporary location ** checking absolute paths in shared objects and dynamic libraries ** testing if installed package can be loaded from final location ** testing if installed package keeps a record of temporary installation path * DONE (gDRcore)
gDRcore.Rcheck/tests/testthat.Rout
R version 4.3.1 (2023-06-16) -- "Beagle Scouts"
Copyright (C) 2023 The R Foundation for Statistical Computing
Platform: aarch64-unknown-linux-gnu (64-bit)
R is free software and comes with ABSOLUTELY NO WARRANTY.
You are welcome to redistribute it under certain conditions.
Type 'license()' or 'licence()' for distribution details.
R is a collaborative project with many contributors.
Type 'contributors()' for more information and
'citation()' on how to cite R or R packages in publications.
Type 'demo()' for some demos, 'help()' for on-line help, or
'help.start()' for an HTML browser interface to help.
Type 'q()' to quit R.
> library("gDRcore")
> library("testthat")
Attaching package: 'testthat'
The following object is masked from 'package:gDRcore':
matches
>
> test_check("gDRcore")
INFO [2023-11-02 10:44:37] Merge with Cell line info
INFO [2023-11-02 10:44:37] Merge with Cell line info
INFO [2023-11-02 10:48:57]
INFO [2023-11-02 10:49:20] Manifest loaded successfully
INFO [2023-11-02 10:49:20] Reading Template_7daytreated.xlsx with load_templates_xlsx
INFO [2023-11-02 10:49:20] Loading Template_7daytreated.xlsx
INFO [2023-11-02 10:49:20] Loading Template_Untreated.xlsx
INFO [2023-11-02 10:49:20] Templates loaded successfully!
INFO [2023-11-02 10:49:20] Reading file /home/biocbuild/R/R-4.3.1/site-library/gDRimport/extdata/data1/RawData_day0.xlsx, sheet Readout_0077vs0068_day7
INFO [2023-11-02 10:49:20] Plate 201904190a read; 384 wells
INFO [2023-11-02 10:49:20] Plate 201904190b read; 384 wells
INFO [2023-11-02 10:49:20] Plate 201904190c read; 384 wells
INFO [2023-11-02 10:49:20] Plate 201904190d read; 384 wells
INFO [2023-11-02 10:49:20] Plate 201904190e read; 384 wells
INFO [2023-11-02 10:49:20] Plate 201904190f read; 384 wells
INFO [2023-11-02 10:49:20] File done
INFO [2023-11-02 10:49:20] Reading file /home/biocbuild/R/R-4.3.1/site-library/gDRimport/extdata/data1/RawData_day7.xlsx, sheet Readout_0077vs0068_day7
INFO [2023-11-02 10:49:21] Plate 201904197a read; 384 wells
INFO [2023-11-02 10:49:21] Plate 201904197b read; 384 wells
INFO [2023-11-02 10:49:21] Plate 201904197c read; 384 wells
INFO [2023-11-02 10:49:21] Plate 201904197d read; 384 wells
INFO [2023-11-02 10:49:21] Plate 201904197e read; 384 wells
INFO [2023-11-02 10:49:21] Plate 201904197f read; 384 wells
INFO [2023-11-02 10:49:21] File done
INFO [2023-11-02 10:49:21] Manifest loaded successfully
INFO [2023-11-02 10:49:21] Reading Template_7daytreated.xlsx with load_templates_xlsx
INFO [2023-11-02 10:49:21] Loading Template_7daytreated.xlsx
INFO [2023-11-02 10:49:21] Loading Template_Untreated.xlsx
INFO [2023-11-02 10:49:21] Templates loaded successfully!
INFO [2023-11-02 10:49:21] Reading file /home/biocbuild/R/R-4.3.1/site-library/gDRimport/extdata/data1/RawData_day0.xlsx, sheet Readout_0077vs0068_day7
INFO [2023-11-02 10:49:22] Plate 201904190a read; 384 wells
INFO [2023-11-02 10:49:22] Plate 201904190b read; 384 wells
INFO [2023-11-02 10:49:22] Plate 201904190c read; 384 wells
INFO [2023-11-02 10:49:22] Plate 201904190d read; 384 wells
INFO [2023-11-02 10:49:22] Plate 201904190e read; 384 wells
INFO [2023-11-02 10:49:22] Plate 201904190f read; 384 wells
INFO [2023-11-02 10:49:22] File done
INFO [2023-11-02 10:49:22] Reading file /home/biocbuild/R/R-4.3.1/site-library/gDRimport/extdata/data1/RawData_day7.xlsx, sheet Readout_0077vs0068_day7
INFO [2023-11-02 10:49:22] Plate 201904197a read; 384 wells
INFO [2023-11-02 10:49:22] Plate 201904197b read; 384 wells
INFO [2023-11-02 10:49:22] Plate 201904197c read; 384 wells
INFO [2023-11-02 10:49:22] Plate 201904197d read; 384 wells
INFO [2023-11-02 10:49:22] Plate 201904197e read; 384 wells
INFO [2023-11-02 10:49:22] Plate 201904197f read; 384 wells
INFO [2023-11-02 10:49:22] File done
[ FAIL 0 | WARN 0 | SKIP 0 | PASS 177 ]
>
> proc.time()
user system elapsed
296.609 4.123 302.215
gDRcore.Rcheck/gDRcore-Ex.timings
| name | user | system | elapsed | |
| add_CellLine_annotation | 7.264 | 0.184 | 7.472 | |
| add_Drug_annotation | 0.336 | 0.028 | 0.370 | |
| calculate_GR_value | 0.003 | 0.000 | 0.002 | |
| calculate_excess | 0.075 | 0.016 | 0.091 | |
| calculate_matrix_metric | 0.018 | 0.004 | 0.023 | |
| cleanup_metadata | 0.024 | 0.004 | 0.028 | |
| convert_mae_to_raw_data | 2.315 | 0.056 | 2.396 | |
| convert_se_to_raw_data | 0.127 | 0.004 | 0.128 | |
| data_model | 0 | 0 | 0 | |
| dot-standardize_conc | 0.001 | 0.000 | 0.001 | |
| fit_SE.combinations | 4.228 | 0.171 | 4.426 | |
| get_default_nested_identifiers | 0.001 | 0.000 | 0.001 | |
| identify_data_type | 0.051 | 0.000 | 0.051 | |
| identify_keys | 0.068 | 0.000 | 0.069 | |
| map_conc_to_standardized_conc | 0.004 | 0.000 | 0.003 | |
| map_df | 0.075 | 0.000 | 0.075 | |
| map_ids_to_fits | 0.002 | 0.000 | 0.002 | |
| matches | 0.016 | 0.000 | 0.016 | |
| merge_data | 1.955 | 0.064 | 2.048 | |
| prepare_input | 1.716 | 0.044 | 1.750 | |
| remove_drug_batch | 0.000 | 0.000 | 0.001 | |
| replace_conc_with_standardized_conc | 0.001 | 0.000 | 0.001 | |
| round_concentration | 0 | 0 | 0 | |
| runDrugResponseProcessingPipelineFxns | 25.956 | 0.587 | 26.531 | |
| split_raw_data | 0.348 | 0.025 | 0.374 | |
| test_synthetic_data | 1.279 | 0.015 | 1.288 | |