| Back to Multiple platform build/check report for BioC 3.18: simplified long |
|
This page was generated on 2023-11-02 11:40:42 -0400 (Thu, 02 Nov 2023).
| Hostname | OS | Arch (*) | R version | Installed pkgs |
|---|---|---|---|---|
| nebbiolo2 | Linux (Ubuntu 22.04.2 LTS) | x86_64 | 4.3.1 (2023-06-16) -- "Beagle Scouts" | 4729 |
| palomino4 | Windows Server 2022 Datacenter | x64 | 4.3.1 (2023-06-16 ucrt) -- "Beagle Scouts" | 4463 |
| lconway | macOS 12.6.5 Monterey | x86_64 | 4.3.1 Patched (2023-06-17 r84564) -- "Beagle Scouts" | 4478 |
| kunpeng2 | Linux (openEuler 22.03 LTS-SP1) | aarch64 | 4.3.1 (2023-06-16) -- "Beagle Scouts" | 4464 |
| Click on any hostname to see more info about the system (e.g. compilers) (*) as reported by 'uname -p', except on Windows and Mac OS X | ||||
| Package 747/2266 | Hostname | OS / Arch | INSTALL | BUILD | CHECK | BUILD BIN | ||||||||
| fmrs 1.12.0 (landing page) Farhad Shokoohi
| nebbiolo2 | Linux (Ubuntu 22.04.2 LTS) / x86_64 | OK | OK | OK | |||||||||
| palomino4 | Windows Server 2022 Datacenter / x64 | OK | OK | OK | OK | |||||||||
| lconway | macOS 12.6.5 Monterey / x86_64 | OK | OK | OK | OK | |||||||||
| kjohnson1 | macOS 13.6.1 Ventura / arm64 | see weekly results here | ||||||||||||
| kunpeng2 | Linux (openEuler 22.03 LTS-SP1) / aarch64 | OK | OK | OK | ||||||||||
|
To the developers/maintainers of the fmrs package: - Allow up to 24 hours (and sometimes 48 hours) for your latest push to git@git.bioconductor.org:packages/fmrs.git to reflect on this report. See Troubleshooting Build Report for more information. - Use the following Renviron settings to reproduce errors and warnings. - If 'R CMD check' started to fail recently on the Linux builder(s) over a missing dependency, add the missing dependency to 'Suggests:' in your DESCRIPTION file. See Renviron.bioc for more information. - See Martin Grigorov's blog post for how to debug Linux ARM64 related issues on a x86_64 host. |
| Package: fmrs |
| Version: 1.12.0 |
| Command: /home/biocbuild/R/R-4.3.1/bin/R CMD INSTALL fmrs |
| StartedAt: 2023-11-01 20:43:17 -0000 (Wed, 01 Nov 2023) |
| EndedAt: 2023-11-01 20:43:32 -0000 (Wed, 01 Nov 2023) |
| EllapsedTime: 15.4 seconds |
| RetCode: 0 |
| Status: OK |
##############################################################################
##############################################################################
###
### Running command:
###
### /home/biocbuild/R/R-4.3.1/bin/R CMD INSTALL fmrs
###
##############################################################################
##############################################################################
* installing to library ‘/home/biocbuild/R/R-4.3.1/site-library’
* installing *source* package ‘fmrs’ ...
** using staged installation
** libs
using C compiler: ‘gcc (GCC) 10.3.1’
gcc -I"/home/biocbuild/R/R-4.3.1/include" -DNDEBUG -I/usr/local/include -fPIC -g -O2 -Wall -c fmrs.c -o fmrs.o
fmrs.c: In function ‘FMR_Weibl_MLE’:
fmrs.c:1497:12: warning: variable ‘multX’ set but not used [-Wunused-but-set-variable]
1497 | double multX[N][D][K];
| ^~~~~
fmrs.c: In function ‘FMR_Weibl_CTun’:
fmrs.c:2566:12: warning: variable ‘pi_new’ set but not used [-Wunused-but-set-variable]
2566 | double pi_new[K];
| ^~~~~~
fmrs.c:2547:12: warning: variable ‘multX’ set but not used [-Wunused-but-set-variable]
2547 | double multX[N][D][k1];
| ^~~~~
fmrs.c: In function ‘Norm_MLE’:
fmrs.c:2981:10: warning: variable ‘sumwi’ set but not used [-Wunused-but-set-variable]
2981 | double sumwi[K];
| ^~~~~
fmrs.c: In function ‘Weibl_MLE’:
fmrs.c:4056:10: warning: variable ‘multX’ set but not used [-Wunused-but-set-variable]
4056 | double multX[N][D][K];
| ^~~~~
fmrs.c: In function ‘Weibl_CTun’:
fmrs.c:5031:10: warning: variable ‘select’ set but not used [-Wunused-but-set-variable]
5031 | double select[D][K];
| ^~~~~~
fmrs.c:5007:10: warning: variable ‘multX’ set but not used [-Wunused-but-set-variable]
5007 | double multX[N][D][k1];
| ^~~~~
gcc -shared -L/home/biocbuild/R/R-4.3.1/lib -L/usr/local/lib -o fmrs.so fmrs.o -L/home/biocbuild/R/R-4.3.1/lib -lR
installing to /home/biocbuild/R/R-4.3.1/site-library/00LOCK-fmrs/00new/fmrs/libs
** R
** inst
** byte-compile and prepare package for lazy loading
** help
*** installing help indices
** building package indices
** installing vignettes
** testing if installed package can be loaded from temporary location
** checking absolute paths in shared objects and dynamic libraries
** testing if installed package can be loaded from final location
** testing if installed package keeps a record of temporary installation path
* DONE (fmrs)