| Back to Multiple platform build/check report for BioC 3.18: simplified long |
|
This page was generated on 2024-04-17 11:37:43 -0400 (Wed, 17 Apr 2024).
| Hostname | OS | Arch (*) | R version | Installed pkgs |
|---|---|---|---|---|
| nebbiolo2 | Linux (Ubuntu 22.04.3 LTS) | x86_64 | 4.3.3 (2024-02-29) -- "Angel Food Cake" | 4676 |
| palomino4 | Windows Server 2022 Datacenter | x64 | 4.3.3 (2024-02-29 ucrt) -- "Angel Food Cake" | 4414 |
| merida1 | macOS 12.7.1 Monterey | x86_64 | 4.3.3 (2024-02-29) -- "Angel Food Cake" | 4437 |
| Click on any hostname to see more info about the system (e.g. compilers) (*) as reported by 'uname -p', except on Windows and Mac OS X | ||||
| Package 699/2266 | Hostname | OS / Arch | INSTALL | BUILD | CHECK | BUILD BIN | ||||||||
| fcScan 1.16.0 (landing page) Pierre Khoueiry
| nebbiolo2 | Linux (Ubuntu 22.04.3 LTS) / x86_64 | OK | OK | OK | |||||||||
| palomino4 | Windows Server 2022 Datacenter / x64 | OK | OK | OK | OK | |||||||||
| merida1 | macOS 12.7.1 Monterey / x86_64 | OK | OK | OK | OK | |||||||||
| kjohnson1 | macOS 13.6.1 Ventura / arm64 | see weekly results here | ||||||||||||
|
To the developers/maintainers of the fcScan package: - Allow up to 24 hours (and sometimes 48 hours) for your latest push to git@git.bioconductor.org:packages/fcScan.git to reflect on this report. See Troubleshooting Build Report for more information. - Use the following Renviron settings to reproduce errors and warnings. - If 'R CMD check' started to fail recently on the Linux builder(s) over a missing dependency, add the missing dependency to 'Suggests:' in your DESCRIPTION file. See Renviron.bioc for more information. |
| Package: fcScan |
| Version: 1.16.0 |
| Command: /Library/Frameworks/R.framework/Resources/bin/R CMD check --install=check:fcScan.install-out.txt --library=/Library/Frameworks/R.framework/Resources/library --no-vignettes --timings fcScan_1.16.0.tar.gz |
| StartedAt: 2024-04-16 02:46:18 -0400 (Tue, 16 Apr 2024) |
| EndedAt: 2024-04-16 02:56:01 -0400 (Tue, 16 Apr 2024) |
| EllapsedTime: 582.9 seconds |
| RetCode: 0 |
| Status: OK |
| CheckDir: fcScan.Rcheck |
| Warnings: 0 |
##############################################################################
##############################################################################
###
### Running command:
###
### /Library/Frameworks/R.framework/Resources/bin/R CMD check --install=check:fcScan.install-out.txt --library=/Library/Frameworks/R.framework/Resources/library --no-vignettes --timings fcScan_1.16.0.tar.gz
###
##############################################################################
##############################################################################
* using log directory ‘/Users/biocbuild/bbs-3.18-bioc/meat/fcScan.Rcheck’
* using R version 4.3.3 (2024-02-29)
* using platform: x86_64-apple-darwin20 (64-bit)
* R was compiled by
Apple clang version 14.0.0 (clang-1400.0.29.202)
GNU Fortran (GCC) 12.2.0
* running under: macOS Monterey 12.7.1
* using session charset: UTF-8
* using option ‘--no-vignettes’
* checking for file ‘fcScan/DESCRIPTION’ ... OK
* checking extension type ... Package
* this is package ‘fcScan’ version ‘1.16.0’
* package encoding: UTF-8
* checking package namespace information ... OK
* checking package dependencies ... OK
* checking if this is a source package ... OK
* checking if there is a namespace ... OK
* checking for hidden files and directories ... OK
* checking for portable file names ... OK
* checking for sufficient/correct file permissions ... OK
* checking whether package ‘fcScan’ can be installed ... OK
* checking installed package size ... OK
* checking package directory ... OK
* checking ‘build’ directory ... OK
* checking DESCRIPTION meta-information ... OK
* checking top-level files ... OK
* checking for left-over files ... OK
* checking index information ... OK
* checking package subdirectories ... OK
* checking R files for non-ASCII characters ... OK
* checking R files for syntax errors ... OK
* checking whether the package can be loaded ... OK
* checking whether the package can be loaded with stated dependencies ... OK
* checking whether the package can be unloaded cleanly ... OK
* checking whether the namespace can be loaded with stated dependencies ... OK
* checking whether the namespace can be unloaded cleanly ... OK
* checking dependencies in R code ... OK
* checking S3 generic/method consistency ... OK
* checking replacement functions ... OK
* checking foreign function calls ... OK
* checking R code for possible problems ... OK
* checking Rd files ... OK
* checking Rd metadata ... OK
* checking Rd cross-references ... OK
* checking for missing documentation entries ... OK
* checking for code/documentation mismatches ... OK
* checking Rd \usage sections ... OK
* checking Rd contents ... OK
* checking for unstated dependencies in examples ... OK
* checking files in ‘vignettes’ ... OK
* checking examples ... OK
* checking for unstated dependencies in ‘tests’ ... OK
* checking tests ...
Running ‘runTests.R’
OK
* checking for unstated dependencies in vignettes ... OK
* checking package vignettes in ‘inst/doc’ ... OK
* checking running R code from vignettes ... SKIPPED
* checking re-building of vignette outputs ... SKIPPED
* checking PDF version of manual ... OK
* DONE
Status: OK
fcScan.Rcheck/00install.out
############################################################################## ############################################################################## ### ### Running command: ### ### /Library/Frameworks/R.framework/Resources/bin/R CMD INSTALL fcScan ### ############################################################################## ############################################################################## * installing to library ‘/Library/Frameworks/R.framework/Versions/4.3-x86_64/Resources/library’ * installing *source* package ‘fcScan’ ... ** using staged installation ** R ** inst ** byte-compile and prepare package for lazy loading ** help *** installing help indices ** building package indices ** installing vignettes ** testing if installed package can be loaded from temporary location ** testing if installed package can be loaded from final location ** testing if installed package keeps a record of temporary installation path * DONE (fcScan)
fcScan.Rcheck/tests/runTests.Rout
R version 4.3.3 (2024-02-29) -- "Angel Food Cake"
Copyright (C) 2024 The R Foundation for Statistical Computing
Platform: x86_64-apple-darwin20 (64-bit)
R is free software and comes with ABSOLUTELY NO WARRANTY.
You are welcome to redistribute it under certain conditions.
Type 'license()' or 'licence()' for distribution details.
R is a collaborative project with many contributors.
Type 'contributors()' for more information and
'citation()' on how to cite R or R packages in publications.
Type 'demo()' for some demos, 'help()' for on-line help, or
'help.start()' for an HTML browser interface to help.
Type 'q()' to quit R.
> BiocGenerics:::testPackage("fcScan")
Loading required package: GenomicRanges
Loading required package: stats4
Loading required package: BiocGenerics
Attaching package: 'BiocGenerics'
The following objects are masked from 'package:stats':
IQR, mad, sd, var, xtabs
The following objects are masked from 'package:base':
Filter, Find, Map, Position, Reduce, anyDuplicated, aperm, append,
as.data.frame, basename, cbind, colnames, dirname, do.call,
duplicated, eval, evalq, get, grep, grepl, intersect, is.unsorted,
lapply, mapply, match, mget, order, paste, pmax, pmax.int, pmin,
pmin.int, rank, rbind, rownames, sapply, setdiff, sort, table,
tapply, union, unique, unsplit, which.max, which.min
Loading required package: S4Vectors
Attaching package: 'S4Vectors'
The following object is masked from 'package:utils':
findMatches
The following objects are masked from 'package:base':
I, expand.grid, unname
Loading required package: IRanges
Loading required package: GenomeInfoDb
17 entries loaded
Running getCluster using 1 threads
Time difference of 0.6190491 secs
Sites in condition do not match sites in data
3 entries loaded
Running getCluster using 1 threads
Time difference of 0.1965909 secs
17 entries loaded
Running getCluster using 1 threads
Time difference of 0.1973529 secs
17 entries loaded
Running getCluster using 1 threads
Time difference of 0.204144 secs
17 entries loaded
Running getCluster using 1 threads
No cluster found
17 entries loaded
Running getCluster using 1 threads
Time difference of 0.2505031 secs
17 entries loaded
Running getCluster using 1 threads
Time difference of 0.3108201 secs
17 entries loaded
Running getCluster using 1 threads
Time difference of 0.1750882 secs
17 entries loaded
Running getCluster using 1 threads
Time difference of 0.1627829 secs
17 entries loaded
Running getCluster using 1 threads
Time difference of 0.1659391 secs
17 entries loaded
Running getCluster using 1 threads
Time difference of 0.1504791 secs
6 entries loaded
Running getCluster using 1 threads
Time difference of 0.1657228 secs
6 entries loaded
Running getCluster using 1 threads
Time difference of 0.191376 secs
6 entries loaded
Running getCluster using 1 threads
Time difference of 0.1335731 secs
6 entries loaded
Running getCluster using 1 threads
Time difference of 0.139838 secs
10 entries loaded
Running getCluster using 1 threads
Time difference of 0.1520622 secs
10 entries loaded
Running getCluster using 1 threads
No cluster found
10 entries loaded
Running getCluster using 1 threads
Time difference of 0.1635869 secs
16 entries loaded
Running getCluster using 1 threads
Time difference of 0.156127 secs
6 entries loaded
Running getCluster using 1 threads
Time difference of 0.159049 secs
6 entries loaded
Running getCluster using 1 threads
Time difference of 0.1578999 secs
6 entries loaded
Running getCluster using 1 threads
Time difference of 0.160136 secs
6 entries loaded
Running getCluster using 1 threads
Time difference of 0.1863089 secs
6 entries loaded
Running getCluster using 1 threads
Time difference of 1.245492 secs
17 entries loaded
Running getCluster using 1 threads
Time difference of 0.138242 secs
17 entries loaded
Running getCluster using 1 threads
Time difference of 0.1453042 secs
17 entries loaded
Running getCluster using 1 threads
Time difference of 0.1451621 secs
17 entries loaded
Running getCluster using 1 threads
Time difference of 0.163439 secs
17 entries loaded
Running getCluster using 1 threads
Time difference of 0.1451421 secs
17 entries loaded
Running getCluster using 1 threads
Time difference of 0.1456039 secs
17 entries loaded
Running getCluster using 1 threads
Time difference of 0.1442239 secs
17 entries loaded
Running getCluster using 1 threads
Time difference of 0.21 secs
17 entries loaded
Running getCluster using 1 threads
Time difference of 0.1894791 secs
17 entries loaded
Running getCluster using 1 threads
Time difference of 0.2087588 secs
17 entries loaded
Running getCluster using 1 threads
Time difference of 0.237308 secs
17 entries loaded
Running getCluster using 1 threads
Time difference of 0.1781521 secs
17 entries loaded
Running getCluster using 1 threads
Time difference of 0.232856 secs
17 entries loaded
Running getCluster using 1 threads
Time difference of 0.207895 secs
17 entries loaded
Running getCluster using 1 threads
Time difference of 0.179451 secs
17 entries loaded
Running getCluster using 1 threads
Time difference of 0.167789 secs
17 entries loaded
Running getCluster using 1 threads
Time difference of 0.1497469 secs
17 entries loaded
Running getCluster using 1 threads
Time difference of 0.190093 secs
17 entries loaded
Running getCluster using 1 threads
Time difference of 0.1545858 secs
17 entries loaded
Running getCluster using 1 threads
Time difference of 0.2043729 secs
RUNIT TEST PROTOCOL -- Tue Apr 16 02:55:48 2024
***********************************************
Number of test functions: 1
Number of errors: 0
Number of failures: 0
1 Test Suite :
fcScan RUnit Tests - 1 test function, 0 errors, 0 failures
Number of test functions: 1
Number of errors: 0
Number of failures: 0
>
> proc.time()
user system elapsed
34.714 1.947 40.269
fcScan.Rcheck/fcScan-Ex.timings
| name | user | system | elapsed | |
| getCluster | 0.598 | 0.024 | 0.677 | |