| Back to Multiple platform build/check report for BioC 3.18: simplified long |
|
This page was generated on 2023-11-02 11:40:35 -0400 (Thu, 02 Nov 2023).
| Hostname | OS | Arch (*) | R version | Installed pkgs |
|---|---|---|---|---|
| nebbiolo2 | Linux (Ubuntu 22.04.2 LTS) | x86_64 | 4.3.1 (2023-06-16) -- "Beagle Scouts" | 4729 |
| palomino4 | Windows Server 2022 Datacenter | x64 | 4.3.1 (2023-06-16 ucrt) -- "Beagle Scouts" | 4463 |
| lconway | macOS 12.6.5 Monterey | x86_64 | 4.3.1 Patched (2023-06-17 r84564) -- "Beagle Scouts" | 4478 |
| kunpeng2 | Linux (openEuler 22.03 LTS-SP1) | aarch64 | 4.3.1 (2023-06-16) -- "Beagle Scouts" | 4464 |
| Click on any hostname to see more info about the system (e.g. compilers) (*) as reported by 'uname -p', except on Windows and Mac OS X | ||||
| Package 497/2266 | Hostname | OS / Arch | INSTALL | BUILD | CHECK | BUILD BIN | ||||||||
| daMA 1.74.0 (landing page) Jobst Landgrebe
| nebbiolo2 | Linux (Ubuntu 22.04.2 LTS) / x86_64 | OK | OK | OK | |||||||||
| palomino4 | Windows Server 2022 Datacenter / x64 | OK | OK | OK | OK | |||||||||
| lconway | macOS 12.6.5 Monterey / x86_64 | OK | OK | OK | OK | |||||||||
| kjohnson1 | macOS 13.6.1 Ventura / arm64 | see weekly results here | ||||||||||||
| kunpeng2 | Linux (openEuler 22.03 LTS-SP1) / aarch64 | OK | OK | OK | ||||||||||
|
To the developers/maintainers of the daMA package: - Allow up to 24 hours (and sometimes 48 hours) for your latest push to git@git.bioconductor.org:packages/daMA.git to reflect on this report. See Troubleshooting Build Report for more information. - Use the following Renviron settings to reproduce errors and warnings. - If 'R CMD check' started to fail recently on the Linux builder(s) over a missing dependency, add the missing dependency to 'Suggests:' in your DESCRIPTION file. See Renviron.bioc for more information. - See Martin Grigorov's blog post for how to debug Linux ARM64 related issues on a x86_64 host. |
| Package: daMA |
| Version: 1.74.0 |
| Command: /home/biocbuild/R/R-4.3.1/bin/R CMD check --install=check:daMA.install-out.txt --library=/home/biocbuild/R/R-4.3.1/site-library --no-vignettes --timings daMA_1.74.0.tar.gz |
| StartedAt: 2023-11-02 09:47:21 -0000 (Thu, 02 Nov 2023) |
| EndedAt: 2023-11-02 09:47:41 -0000 (Thu, 02 Nov 2023) |
| EllapsedTime: 20.1 seconds |
| RetCode: 0 |
| Status: OK |
| CheckDir: daMA.Rcheck |
| Warnings: 0 |
##############################################################################
##############################################################################
###
### Running command:
###
### /home/biocbuild/R/R-4.3.1/bin/R CMD check --install=check:daMA.install-out.txt --library=/home/biocbuild/R/R-4.3.1/site-library --no-vignettes --timings daMA_1.74.0.tar.gz
###
##############################################################################
##############################################################################
* using log directory ‘/home/biocbuild/bbs-3.18-bioc/meat/daMA.Rcheck’
* using R version 4.3.1 (2023-06-16)
* using platform: aarch64-unknown-linux-gnu (64-bit)
* R was compiled by
gcc (GCC) 10.3.1
GNU Fortran (GCC) 10.3.1
* running under: openEuler 22.03 (LTS-SP1)
* using session charset: UTF-8
* using option ‘--no-vignettes’
* checking for file ‘daMA/DESCRIPTION’ ... OK
* this is package ‘daMA’ version ‘1.74.0’
* checking package namespace information ... OK
* checking package dependencies ... OK
* checking if this is a source package ... OK
* checking if there is a namespace ... OK
* checking for hidden files and directories ... OK
* checking for portable file names ... OK
* checking for sufficient/correct file permissions ... OK
* checking whether package ‘daMA’ can be installed ... OK
* checking installed package size ... OK
* checking package directory ... OK
* checking DESCRIPTION meta-information ... NOTE
Malformed Description field: should contain one or more complete sentences.
* checking top-level files ... OK
* checking for left-over files ... OK
* checking index information ... OK
* checking package subdirectories ... OK
* checking R files for non-ASCII characters ... OK
* checking R files for syntax errors ... OK
* checking whether the package can be loaded ... OK
* checking whether the package can be loaded with stated dependencies ... OK
* checking whether the package can be unloaded cleanly ... OK
* checking whether the namespace can be loaded with stated dependencies ... OK
* checking whether the namespace can be unloaded cleanly ... OK
* checking loading without being on the library search path ... OK
* checking dependencies in R code ... OK
* checking S3 generic/method consistency ... OK
* checking replacement functions ... OK
* checking foreign function calls ... OK
* checking R code for possible problems ... OK
* checking Rd files ... NOTE
prepare_Rd: analyseMA.Rd:70: Dropping empty section \note
prepare_Rd: analyseMA.Rd:72: Dropping empty section \seealso
prepare_Rd: cmat.Rd:13-14: Dropping empty section \format
prepare_Rd: cmat.Rd:15-16: Dropping empty section \details
prepare_Rd: cmat.Rd:17-19: Dropping empty section \source
prepare_Rd: cmatB.AB.Rd:13-14: Dropping empty section \format
prepare_Rd: cmatB.AB.Rd:15-16: Dropping empty section \details
prepare_Rd: cmatB.AB.Rd:17-18: Dropping empty section \source
prepare_Rd: core.Rd:42: Dropping empty section \keyword
prepare_Rd: core.Rd:29-30: Dropping empty section \details
prepare_Rd: core.Rd:31-32: Dropping empty section \value
prepare_Rd: core.Rd:38: Dropping empty section \note
prepare_Rd: core.Rd:40: Dropping empty section \seealso
prepare_Rd: core.Rd:41: Dropping empty section \examples
prepare_Rd: data.3x2.Rd:15-16: Dropping empty section \details
prepare_Rd: data.3x2.Rd:21-22: Dropping empty section \references
prepare_Rd: designMA.Rd:66: Dropping empty section \note
prepare_Rd: designMA.Rd:68: Dropping empty section \seealso
prepare_Rd: id.3x2.Rd:14-15: Dropping empty section \details
prepare_Rd: id.3x2.Rd:16-17: Dropping empty section \source
prepare_Rd: id.3x2.Rd:18-19: Dropping empty section \references
* checking Rd metadata ... OK
* checking Rd cross-references ... OK
* checking for missing documentation entries ... OK
* checking for code/documentation mismatches ... OK
* checking Rd \usage sections ... OK
* checking Rd contents ... OK
* checking for unstated dependencies in examples ... OK
* checking contents of ‘data’ directory ... OK
* checking data for non-ASCII characters ... OK
* checking data for ASCII and uncompressed saves ... OK
* checking examples ... OK
* checking PDF version of manual ... OK
* DONE
Status: 2 NOTEs
See
‘/home/biocbuild/bbs-3.18-bioc/meat/daMA.Rcheck/00check.log’
for details.
daMA.Rcheck/00install.out
############################################################################## ############################################################################## ### ### Running command: ### ### /home/biocbuild/R/R-4.3.1/bin/R CMD INSTALL daMA ### ############################################################################## ############################################################################## * installing to library ‘/home/biocbuild/R/R-4.3.1/site-library’ * installing *source* package ‘daMA’ ... ** using staged installation ** R ** data ** byte-compile and prepare package for lazy loading ** help *** installing help indices ** building package indices ** testing if installed package can be loaded from temporary location ** testing if installed package can be loaded from final location ** testing if installed package keeps a record of temporary installation path * DONE (daMA)
daMA.Rcheck/daMA-Ex.timings
| name | user | system | elapsed | |
| analyseMA | 0.001 | 0.000 | 0.001 | |
| cinfo | 0.016 | 0.004 | 0.019 | |
| cinfoB.AB | 0.000 | 0.000 | 0.001 | |
| cmat | 0.001 | 0.000 | 0.001 | |
| cmatB.AB | 0 | 0 | 0 | |
| data.3x2 | 0.044 | 0.004 | 0.048 | |
| designMA | 0 | 0 | 0 | |
| designs.composite | 0.001 | 0.000 | 0.001 | |
| id.3x2 | 0.002 | 0.000 | 0.002 | |