| Back to Multiple platform build/check report for BioC 3.18: simplified long |
|
This page was generated on 2023-11-02 11:40:34 -0400 (Thu, 02 Nov 2023).
| Hostname | OS | Arch (*) | R version | Installed pkgs |
|---|---|---|---|---|
| nebbiolo2 | Linux (Ubuntu 22.04.2 LTS) | x86_64 | 4.3.1 (2023-06-16) -- "Beagle Scouts" | 4729 |
| palomino4 | Windows Server 2022 Datacenter | x64 | 4.3.1 (2023-06-16 ucrt) -- "Beagle Scouts" | 4463 |
| lconway | macOS 12.6.5 Monterey | x86_64 | 4.3.1 Patched (2023-06-17 r84564) -- "Beagle Scouts" | 4478 |
| kunpeng2 | Linux (openEuler 22.03 LTS-SP1) | aarch64 | 4.3.1 (2023-06-16) -- "Beagle Scouts" | 4464 |
| Click on any hostname to see more info about the system (e.g. compilers) (*) as reported by 'uname -p', except on Windows and Mac OS X | ||||
| Package 455/2266 | Hostname | OS / Arch | INSTALL | BUILD | CHECK | BUILD BIN | ||||||||
| crisprBwa 1.6.0 (landing page) Jean-Philippe Fortin
| nebbiolo2 | Linux (Ubuntu 22.04.2 LTS) / x86_64 | OK | OK | OK | |||||||||
| palomino4 | Windows Server 2022 Datacenter / x64 | ... NOT SUPPORTED ... | ||||||||||||
| lconway | macOS 12.6.5 Monterey / x86_64 | OK | OK | OK | OK | |||||||||
| kjohnson1 | macOS 13.6.1 Ventura / arm64 | see weekly results here | ||||||||||||
| kunpeng2 | Linux (openEuler 22.03 LTS-SP1) / aarch64 | OK | OK | OK | ||||||||||
|
To the developers/maintainers of the crisprBwa package: - Allow up to 24 hours (and sometimes 48 hours) for your latest push to git@git.bioconductor.org:packages/crisprBwa.git to reflect on this report. See Troubleshooting Build Report for more information. - Use the following Renviron settings to reproduce errors and warnings. - If 'R CMD check' started to fail recently on the Linux builder(s) over a missing dependency, add the missing dependency to 'Suggests:' in your DESCRIPTION file. See Renviron.bioc for more information. - See Martin Grigorov's blog post for how to debug Linux ARM64 related issues on a x86_64 host. |
| Package: crisprBwa |
| Version: 1.6.0 |
| Command: /home/biocbuild/R/R-4.3.1/bin/R CMD check --install=check:crisprBwa.install-out.txt --library=/home/biocbuild/R/R-4.3.1/site-library --no-vignettes --timings crisprBwa_1.6.0.tar.gz |
| StartedAt: 2023-11-02 09:38:52 -0000 (Thu, 02 Nov 2023) |
| EndedAt: 2023-11-02 09:44:46 -0000 (Thu, 02 Nov 2023) |
| EllapsedTime: 354.2 seconds |
| RetCode: 0 |
| Status: OK |
| CheckDir: crisprBwa.Rcheck |
| Warnings: 0 |
##############################################################################
##############################################################################
###
### Running command:
###
### /home/biocbuild/R/R-4.3.1/bin/R CMD check --install=check:crisprBwa.install-out.txt --library=/home/biocbuild/R/R-4.3.1/site-library --no-vignettes --timings crisprBwa_1.6.0.tar.gz
###
##############################################################################
##############################################################################
* using log directory ‘/home/biocbuild/bbs-3.18-bioc/meat/crisprBwa.Rcheck’
* using R version 4.3.1 (2023-06-16)
* using platform: aarch64-unknown-linux-gnu (64-bit)
* R was compiled by
gcc (GCC) 10.3.1
GNU Fortran (GCC) 10.3.1
* running under: openEuler 22.03 (LTS-SP1)
* using session charset: UTF-8
* using option ‘--no-vignettes’
* checking for file ‘crisprBwa/DESCRIPTION’ ... OK
* this is package ‘crisprBwa’ version ‘1.6.0’
* package encoding: UTF-8
* checking package namespace information ... OK
* checking package dependencies ... OK
* checking if this is a source package ... OK
* checking if there is a namespace ... OK
* checking for hidden files and directories ... NOTE
Found the following hidden files and directories:
.BBSoptions
These were most likely included in error. See section ‘Package
structure’ in the ‘Writing R Extensions’ manual.
* checking for portable file names ... OK
* checking for sufficient/correct file permissions ... OK
* checking whether package ‘crisprBwa’ can be installed ... OK
* checking installed package size ... OK
* checking package directory ... OK
* checking ‘build’ directory ... OK
* checking DESCRIPTION meta-information ... OK
* checking top-level files ... OK
* checking for left-over files ... OK
* checking index information ... OK
* checking package subdirectories ... OK
* checking R files for non-ASCII characters ... OK
* checking R files for syntax errors ... OK
* checking whether the package can be loaded ... OK
* checking whether the package can be loaded with stated dependencies ... OK
* checking whether the package can be unloaded cleanly ... OK
* checking whether the namespace can be loaded with stated dependencies ... OK
* checking whether the namespace can be unloaded cleanly ... OK
* checking loading without being on the library search path ... OK
* checking dependencies in R code ... OK
* checking S3 generic/method consistency ... OK
* checking replacement functions ... OK
* checking foreign function calls ... OK
* checking R code for possible problems ... OK
* checking Rd files ... OK
* checking Rd metadata ... OK
* checking Rd cross-references ... OK
* checking for missing documentation entries ... OK
* checking for code/documentation mismatches ... OK
* checking Rd \usage sections ... OK
* checking Rd contents ... OK
* checking for unstated dependencies in examples ... OK
* checking files in ‘vignettes’ ... OK
* checking examples ... OK
* checking for unstated dependencies in ‘tests’ ... OK
* checking tests ...
Running ‘testthat.R’
OK
* checking for unstated dependencies in vignettes ... OK
* checking package vignettes in ‘inst/doc’ ... OK
* checking running R code from vignettes ... SKIPPED
* checking re-building of vignette outputs ... SKIPPED
* checking PDF version of manual ... OK
* DONE
Status: 1 NOTE
See
‘/home/biocbuild/bbs-3.18-bioc/meat/crisprBwa.Rcheck/00check.log’
for details.
crisprBwa.Rcheck/00install.out
############################################################################## ############################################################################## ### ### Running command: ### ### /home/biocbuild/R/R-4.3.1/bin/R CMD INSTALL crisprBwa ### ############################################################################## ############################################################################## * installing to library ‘/home/biocbuild/R/R-4.3.1/site-library’ * installing *source* package ‘crisprBwa’ ... ** using staged installation ** R ** inst ** byte-compile and prepare package for lazy loading ** help *** installing help indices ** building package indices ** installing vignettes ** testing if installed package can be loaded from temporary location ** testing if installed package can be loaded from final location ** testing if installed package keeps a record of temporary installation path * DONE (crisprBwa)
crisprBwa.Rcheck/tests/testthat.Rout
R version 4.3.1 (2023-06-16) -- "Beagle Scouts"
Copyright (C) 2023 The R Foundation for Statistical Computing
Platform: aarch64-unknown-linux-gnu (64-bit)
R is free software and comes with ABSOLUTELY NO WARRANTY.
You are welcome to redistribute it under certain conditions.
Type 'license()' or 'licence()' for distribution details.
R is a collaborative project with many contributors.
Type 'contributors()' for more information and
'citation()' on how to cite R or R packages in publications.
Type 'demo()' for some demos, 'help()' for on-line help, or
'help.start()' for an HTML browser interface to help.
Type 'q()' to quit R.
> library(testthat)
> library(crisprBwa)
>
> test_check("crisprBwa")
[bwa_index] Pack FASTA... 0.00 sec
[bwa_index] Construct BWT for the packed sequence...
[bwa_index] 0.04 seconds elapse.
[bwa_index] Update BWT... 0.00 sec
[bwa_index] Pack forward-only FASTA... 0.00 sec
[bwa_index] Construct SA from BWT and Occ... 0.01 sec
[main] Version: 0.7.17-r1198-dirty
[main] CMD: /home/biocbuild/R/R-4.3.1/site-library/Rbwa/bwa index -p /home/biocbuild/tmp/RtmpF5d0CJ/chr12 /home/biocbuild/R/R-4.3.1/site-library/crisprBwa/example/chr12.fa
[main] Real time: 0.093 sec; CPU: 0.064 sec
[bwa_aln_core] calculate SA coordinate... 0.00 sec
[bwa_aln_core] write to the disk... 0.00 sec
[bwa_aln_core] 3 sequences have been processed.
[main] Version: 0.7.17-r1198-dirty
[main] CMD: /home/biocbuild/R/R-4.3.1/site-library/Rbwa/bwa aln -N -n 0 -l 36 -o 0 /home/biocbuild/tmp/RtmpF5d0CJ/chr12 /home/biocbuild/tmp/RtmpF5d0CJ/filed282c4e915681
[main] Real time: 0.003 sec; CPU: 0.002 sec
[bwa_aln_core] convert to sequence coordinate... 0.00 sec
[bwa_aln_core] refine gapped alignments... 0.00 sec
[bwa_aln_core] print alignments... 0.00 sec
[bwa_aln_core] 3 sequences have been processed.
[main] Version: 0.7.17-r1198-dirty
[main] CMD: /home/biocbuild/R/R-4.3.1/site-library/Rbwa/bwa samse -n 1000000000 /home/biocbuild/tmp/RtmpF5d0CJ/chr12 /home/biocbuild/tmp/RtmpF5d0CJ/filed282c4e915681.sai /home/biocbuild/tmp/RtmpF5d0CJ/filed282c4e915681
[main] Real time: 0.003 sec; CPU: 0.002 sec
[bwa_aln_core] calculate SA coordinate... 0.00 sec
[bwa_aln_core] write to the disk... 0.00 sec
[bwa_aln_core] 3 sequences have been processed.
[main] Version: 0.7.17-r1198-dirty
[main] CMD: /home/biocbuild/R/R-4.3.1/site-library/Rbwa/bwa aln -N -n 1 -l 36 -o 0 /home/biocbuild/tmp/RtmpF5d0CJ/chr12 /home/biocbuild/tmp/RtmpF5d0CJ/filed282c6cc00b7f
[main] Real time: 0.004 sec; CPU: 0.002 sec
[bwa_aln_core] convert to sequence coordinate... 0.00 sec
[bwa_aln_core] refine gapped alignments... 0.00 sec
[bwa_aln_core] print alignments... 0.00 sec
[bwa_aln_core] 3 sequences have been processed.
[main] Version: 0.7.17-r1198-dirty
[main] CMD: /home/biocbuild/R/R-4.3.1/site-library/Rbwa/bwa samse -n 1000000000 /home/biocbuild/tmp/RtmpF5d0CJ/chr12 /home/biocbuild/tmp/RtmpF5d0CJ/filed282c6cc00b7f.sai /home/biocbuild/tmp/RtmpF5d0CJ/filed282c6cc00b7f
[main] Real time: 0.004 sec; CPU: 0.002 sec
[bwa_aln_core] calculate SA coordinate... 0.00 sec
[bwa_aln_core] write to the disk... 0.00 sec
[bwa_aln_core] 3 sequences have been processed.
[main] Version: 0.7.17-r1198-dirty
[main] CMD: /home/biocbuild/R/R-4.3.1/site-library/Rbwa/bwa aln -N -n 2 -l 36 -o 0 /home/biocbuild/tmp/RtmpF5d0CJ/chr12 /home/biocbuild/tmp/RtmpF5d0CJ/filed282c8f114b1
[main] Real time: 0.004 sec; CPU: 0.002 sec
[bwa_aln_core] convert to sequence coordinate... 0.00 sec
[bwa_aln_core] refine gapped alignments... 0.00 sec
[bwa_aln_core] print alignments... 0.00 sec
[bwa_aln_core] 3 sequences have been processed.
[main] Version: 0.7.17-r1198-dirty
[main] CMD: /home/biocbuild/R/R-4.3.1/site-library/Rbwa/bwa samse -n 1000000000 /home/biocbuild/tmp/RtmpF5d0CJ/chr12 /home/biocbuild/tmp/RtmpF5d0CJ/filed282c8f114b1.sai /home/biocbuild/tmp/RtmpF5d0CJ/filed282c8f114b1
[main] Real time: 0.003 sec; CPU: 0.002 sec
[bwa_aln_core] calculate SA coordinate... 0.00 sec
[bwa_aln_core] write to the disk... 0.00 sec
[bwa_aln_core] 3 sequences have been processed.
[main] Version: 0.7.17-r1198-dirty
[main] CMD: /home/biocbuild/R/R-4.3.1/site-library/Rbwa/bwa aln -N -n 3 -l 36 -o 0 /home/biocbuild/tmp/RtmpF5d0CJ/chr12 /home/biocbuild/tmp/RtmpF5d0CJ/filed282c2488ce05
[main] Real time: 0.005 sec; CPU: 0.003 sec
[bwa_aln_core] convert to sequence coordinate... 0.00 sec
[bwa_aln_core] refine gapped alignments... 0.00 sec
[bwa_aln_core] print alignments... 0.00 sec
[bwa_aln_core] 3 sequences have been processed.
[main] Version: 0.7.17-r1198-dirty
[main] CMD: /home/biocbuild/R/R-4.3.1/site-library/Rbwa/bwa samse -n 1000000000 /home/biocbuild/tmp/RtmpF5d0CJ/chr12 /home/biocbuild/tmp/RtmpF5d0CJ/filed282c2488ce05.sai /home/biocbuild/tmp/RtmpF5d0CJ/filed282c2488ce05
[main] Real time: 0.004 sec; CPU: 0.002 sec
[bwa_aln_core] calculate SA coordinate... 0.00 sec
[bwa_aln_core] write to the disk... 0.00 sec
[bwa_aln_core] 1 sequences have been processed.
[main] Version: 0.7.17-r1198-dirty
[main] CMD: /home/biocbuild/R/R-4.3.1/site-library/Rbwa/bwa aln -N -n 0 -l 144 -o 0 /home/biocbuild/tmp/RtmpF5d0CJ/chr12 /home/biocbuild/tmp/RtmpF5d0CJ/filed282c5ea61ca7
[main] Real time: 0.004 sec; CPU: 0.002 sec
[bwa_aln_core] convert to sequence coordinate... 0.00 sec
[bwa_aln_core] refine gapped alignments... 0.00 sec
[bwa_aln_core] print alignments... 0.00 sec
[bwa_aln_core] 1 sequences have been processed.
[main] Version: 0.7.17-r1198-dirty
[main] CMD: /home/biocbuild/R/R-4.3.1/site-library/Rbwa/bwa samse -n 1000000000 /home/biocbuild/tmp/RtmpF5d0CJ/chr12 /home/biocbuild/tmp/RtmpF5d0CJ/filed282c5ea61ca7.sai /home/biocbuild/tmp/RtmpF5d0CJ/filed282c5ea61ca7
[main] Real time: 0.004 sec; CPU: 0.002 sec
[bwa_index] Pack FASTA... 0.00 sec
[bwa_index] Construct BWT for the packed sequence...
[bwa_index] 0.04 seconds elapse.
[bwa_index] Update BWT... 0.00 sec
[bwa_index] Pack forward-only FASTA... 0.00 sec
[bwa_index] Construct SA from BWT and Occ... 0.01 sec
[main] Version: 0.7.17-r1198-dirty
[main] CMD: /home/biocbuild/R/R-4.3.1/site-library/Rbwa/bwa index -p /home/biocbuild/tmp/RtmpF5d0CJ/chr12 /home/biocbuild/R/R-4.3.1/site-library/crisprBwa/example/chr12.fa
[main] Real time: 0.086 sec; CPU: 0.061 sec
[runCrisprBwa] Using BSgenome.Hsapiens.UCSC.hg38
[runCrisprBwa] Searching for SpCas9 protospacers
[bwa_aln_core] calculate SA coordinate... 0.00 sec
[bwa_aln_core] write to the disk... 0.00 sec
[bwa_aln_core] 5 sequences have been processed.
[main] Version: 0.7.17-r1198-dirty
[main] CMD: /home/biocbuild/R/R-4.3.1/site-library/Rbwa/bwa aln -N -n 0 -l 60 -o 0 /home/biocbuild/tmp/RtmpF5d0CJ/chr12 /home/biocbuild/tmp/RtmpF5d0CJ/filed282c1ebfdfcc
[main] Real time: 0.003 sec; CPU: 0.002 sec
[bwa_aln_core] convert to sequence coordinate... 0.00 sec
[bwa_aln_core] refine gapped alignments... 0.00 sec
[bwa_aln_core] print alignments... 0.00 sec
[bwa_aln_core] 5 sequences have been processed.
[main] Version: 0.7.17-r1198-dirty
[main] CMD: /home/biocbuild/R/R-4.3.1/site-library/Rbwa/bwa samse -n 1000000000 /home/biocbuild/tmp/RtmpF5d0CJ/chr12 /home/biocbuild/tmp/RtmpF5d0CJ/filed282c1ebfdfcc.sai /home/biocbuild/tmp/RtmpF5d0CJ/filed282c1ebfdfcc
[main] Real time: 0.003 sec; CPU: 0.002 sec
[runCrisprBwa] Using BSgenome.Hsapiens.UCSC.hg38
[runCrisprBwa] Searching for SpCas9 protospacers
[bwa_aln_core] calculate SA coordinate... 0.00 sec
[bwa_aln_core] write to the disk... 0.00 sec
[bwa_aln_core] 5 sequences have been processed.
[main] Version: 0.7.17-r1198-dirty
[main] CMD: /home/biocbuild/R/R-4.3.1/site-library/Rbwa/bwa aln -N -n 1 -l 60 -o 0 /home/biocbuild/tmp/RtmpF5d0CJ/chr12 /home/biocbuild/tmp/RtmpF5d0CJ/filed282c23e42803
[main] Real time: 0.006 sec; CPU: 0.002 sec
[bwa_aln_core] convert to sequence coordinate... 0.00 sec
[bwa_aln_core] refine gapped alignments... 0.00 sec
[bwa_aln_core] print alignments... 0.00 sec
[bwa_aln_core] 5 sequences have been processed.
[main] Version: 0.7.17-r1198-dirty
[main] CMD: /home/biocbuild/R/R-4.3.1/site-library/Rbwa/bwa samse -n 1000000000 /home/biocbuild/tmp/RtmpF5d0CJ/chr12 /home/biocbuild/tmp/RtmpF5d0CJ/filed282c23e42803.sai /home/biocbuild/tmp/RtmpF5d0CJ/filed282c23e42803
[main] Real time: 0.003 sec; CPU: 0.002 sec
[runCrisprBwa] Using BSgenome.Hsapiens.UCSC.hg38
[runCrisprBwa] Searching for SpCas9 protospacers
[bwa_aln_core] calculate SA coordinate... 0.00 sec
[bwa_aln_core] write to the disk... 0.00 sec
[bwa_aln_core] 5 sequences have been processed.
[main] Version: 0.7.17-r1198-dirty
[main] CMD: /home/biocbuild/R/R-4.3.1/site-library/Rbwa/bwa aln -N -n 2 -l 60 -o 0 /home/biocbuild/tmp/RtmpF5d0CJ/chr12 /home/biocbuild/tmp/RtmpF5d0CJ/filed282c1293bc4
[main] Real time: 0.005 sec; CPU: 0.002 sec
[bwa_aln_core] convert to sequence coordinate... 0.00 sec
[bwa_aln_core] refine gapped alignments... 0.00 sec
[bwa_aln_core] print alignments... 0.00 sec
[bwa_aln_core] 5 sequences have been processed.
[main] Version: 0.7.17-r1198-dirty
[main] CMD: /home/biocbuild/R/R-4.3.1/site-library/Rbwa/bwa samse -n 1000000000 /home/biocbuild/tmp/RtmpF5d0CJ/chr12 /home/biocbuild/tmp/RtmpF5d0CJ/filed282c1293bc4.sai /home/biocbuild/tmp/RtmpF5d0CJ/filed282c1293bc4
[main] Real time: 0.003 sec; CPU: 0.002 sec
[runCrisprBwa] Using BSgenome.Hsapiens.UCSC.hg38
[runCrisprBwa] Searching for SpCas9 protospacers
[bwa_aln_core] calculate SA coordinate... 0.00 sec
[bwa_aln_core] write to the disk... 0.00 sec
[bwa_aln_core] 5 sequences have been processed.
[main] Version: 0.7.17-r1198-dirty
[main] CMD: /home/biocbuild/R/R-4.3.1/site-library/Rbwa/bwa aln -N -n 3 -l 60 -o 0 /home/biocbuild/tmp/RtmpF5d0CJ/chr12 /home/biocbuild/tmp/RtmpF5d0CJ/filed282c30657282
[main] Real time: 0.005 sec; CPU: 0.002 sec
[bwa_aln_core] convert to sequence coordinate... 0.00 sec
[bwa_aln_core] refine gapped alignments... 0.00 sec
[bwa_aln_core] print alignments... 0.00 sec
[bwa_aln_core] 5 sequences have been processed.
[main] Version: 0.7.17-r1198-dirty
[main] CMD: /home/biocbuild/R/R-4.3.1/site-library/Rbwa/bwa samse -n 1000000000 /home/biocbuild/tmp/RtmpF5d0CJ/chr12 /home/biocbuild/tmp/RtmpF5d0CJ/filed282c30657282.sai /home/biocbuild/tmp/RtmpF5d0CJ/filed282c30657282
[main] Real time: 0.003 sec; CPU: 0.002 sec
[runCrisprBwa] Using BSgenome.Hsapiens.UCSC.hg38
[runCrisprBwa] Searching for SpCas9 protospacers
[bwa_aln_core] calculate SA coordinate... 0.00 sec
[bwa_aln_core] write to the disk... 0.00 sec
[bwa_aln_core] 5 sequences have been processed.
[main] Version: 0.7.17-r1198-dirty
[main] CMD: /home/biocbuild/R/R-4.3.1/site-library/Rbwa/bwa aln -N -n 0 -l 60 -o 0 /home/biocbuild/tmp/RtmpF5d0CJ/chr12 /home/biocbuild/tmp/RtmpF5d0CJ/filed282c7f1e44e4
[main] Real time: 0.004 sec; CPU: 0.002 sec
[bwa_aln_core] convert to sequence coordinate... 0.00 sec
[bwa_aln_core] refine gapped alignments... 0.00 sec
[bwa_aln_core] print alignments... 0.00 sec
[bwa_aln_core] 5 sequences have been processed.
[main] Version: 0.7.17-r1198-dirty
[main] CMD: /home/biocbuild/R/R-4.3.1/site-library/Rbwa/bwa samse -n 1000000000 /home/biocbuild/tmp/RtmpF5d0CJ/chr12 /home/biocbuild/tmp/RtmpF5d0CJ/filed282c7f1e44e4.sai /home/biocbuild/tmp/RtmpF5d0CJ/filed282c7f1e44e4
[main] Real time: 0.003 sec; CPU: 0.001 sec
[runCrisprBwa] Using BSgenome.Hsapiens.UCSC.hg38
[runCrisprBwa] Searching for SpCas9 protospacers
[bwa_aln_core] calculate SA coordinate... 0.00 sec
[bwa_aln_core] write to the disk... 0.00 sec
[bwa_aln_core] 5 sequences have been processed.
[main] Version: 0.7.17-r1198-dirty
[main] CMD: /home/biocbuild/R/R-4.3.1/site-library/Rbwa/bwa aln -N -n 1 -l 60 -o 0 /home/biocbuild/tmp/RtmpF5d0CJ/chr12 /home/biocbuild/tmp/RtmpF5d0CJ/filed282c4eedf271
[main] Real time: 0.004 sec; CPU: 0.002 sec
[bwa_aln_core] convert to sequence coordinate... 0.00 sec
[bwa_aln_core] refine gapped alignments... 0.00 sec
[bwa_aln_core] print alignments... 0.00 sec
[bwa_aln_core] 5 sequences have been processed.
[main] Version: 0.7.17-r1198-dirty
[main] CMD: /home/biocbuild/R/R-4.3.1/site-library/Rbwa/bwa samse -n 1000000000 /home/biocbuild/tmp/RtmpF5d0CJ/chr12 /home/biocbuild/tmp/RtmpF5d0CJ/filed282c4eedf271.sai /home/biocbuild/tmp/RtmpF5d0CJ/filed282c4eedf271
[main] Real time: 0.003 sec; CPU: 0.002 sec
[runCrisprBwa] Using BSgenome.Hsapiens.UCSC.hg38
[runCrisprBwa] Searching for SpCas9 protospacers
[bwa_aln_core] calculate SA coordinate... 0.00 sec
[bwa_aln_core] write to the disk... 0.00 sec
[bwa_aln_core] 5 sequences have been processed.
[main] Version: 0.7.17-r1198-dirty
[main] CMD: /home/biocbuild/R/R-4.3.1/site-library/Rbwa/bwa aln -N -n 2 -l 60 -o 0 /home/biocbuild/tmp/RtmpF5d0CJ/chr12 /home/biocbuild/tmp/RtmpF5d0CJ/filed282c6ab4be9e
[main] Real time: 0.004 sec; CPU: 0.002 sec
[bwa_aln_core] convert to sequence coordinate... 0.00 sec
[bwa_aln_core] refine gapped alignments... 0.00 sec
[bwa_aln_core] print alignments... 0.00 sec
[bwa_aln_core] 5 sequences have been processed.
[main] Version: 0.7.17-r1198-dirty
[main] CMD: /home/biocbuild/R/R-4.3.1/site-library/Rbwa/bwa samse -n 1000000000 /home/biocbuild/tmp/RtmpF5d0CJ/chr12 /home/biocbuild/tmp/RtmpF5d0CJ/filed282c6ab4be9e.sai /home/biocbuild/tmp/RtmpF5d0CJ/filed282c6ab4be9e
[main] Real time: 0.003 sec; CPU: 0.002 sec
[runCrisprBwa] Using BSgenome.Hsapiens.UCSC.hg38
[runCrisprBwa] Searching for SpCas9 protospacers
[bwa_aln_core] calculate SA coordinate... 0.00 sec
[bwa_aln_core] write to the disk... 0.00 sec
[bwa_aln_core] 5 sequences have been processed.
[main] Version: 0.7.17-r1198-dirty
[main] CMD: /home/biocbuild/R/R-4.3.1/site-library/Rbwa/bwa aln -N -n 3 -l 60 -o 0 /home/biocbuild/tmp/RtmpF5d0CJ/chr12 /home/biocbuild/tmp/RtmpF5d0CJ/filed282c686b3c57
[main] Real time: 0.005 sec; CPU: 0.002 sec
[bwa_aln_core] convert to sequence coordinate... 0.00 sec
[bwa_aln_core] refine gapped alignments... 0.00 sec
[bwa_aln_core] print alignments... 0.00 sec
[bwa_aln_core] 5 sequences have been processed.
[main] Version: 0.7.17-r1198-dirty
[main] CMD: /home/biocbuild/R/R-4.3.1/site-library/Rbwa/bwa samse -n 1000000000 /home/biocbuild/tmp/RtmpF5d0CJ/chr12 /home/biocbuild/tmp/RtmpF5d0CJ/filed282c686b3c57.sai /home/biocbuild/tmp/RtmpF5d0CJ/filed282c686b3c57
[main] Real time: 0.003 sec; CPU: 0.002 sec
[runCrisprBwa] Using BSgenome.Hsapiens.UCSC.hg38
[runCrisprBwa] Searching for SpCas9 protospacers
[runCrisprBwa] Using BSgenome.Hsapiens.UCSC.hg38
[runCrisprBwa] Searching for SpCas9 protospacers
[bwa_aln_core] calculate SA coordinate... 0.00 sec
[bwa_aln_core] write to the disk... 0.00 sec
[bwa_aln_core] 5 sequences have been processed.
[main] Version: 0.7.17-r1198-dirty
[main] CMD: /home/biocbuild/R/R-4.3.1/site-library/Rbwa/bwa aln -N -n 3 -l 51 -o 0 /home/biocbuild/tmp/RtmpF5d0CJ/chr12 /home/biocbuild/tmp/RtmpF5d0CJ/filed282c50924cbb
[main] Real time: 0.007 sec; CPU: 0.003 sec
[bwa_aln_core] convert to sequence coordinate... 0.00 sec
[bwa_aln_core] refine gapped alignments... 0.00 sec
[bwa_aln_core] print alignments... 0.00 sec
[bwa_aln_core] 5 sequences have been processed.
[main] Version: 0.7.17-r1198-dirty
[main] CMD: /home/biocbuild/R/R-4.3.1/site-library/Rbwa/bwa samse -n 1000000000 /home/biocbuild/tmp/RtmpF5d0CJ/chr12 /home/biocbuild/tmp/RtmpF5d0CJ/filed282c50924cbb.sai /home/biocbuild/tmp/RtmpF5d0CJ/filed282c50924cbb
[main] Real time: 0.003 sec; CPU: 0.002 sec
[runCrisprBwa] Using BSgenome.Hsapiens.UCSC.hg38
[runCrisprBwa] Searching for AsCas12a protospacers
[bwa_aln_core] calculate SA coordinate... 0.00 sec
[bwa_aln_core] write to the disk... 0.00 sec
[bwa_aln_core] 4 sequences have been processed.
[main] Version: 0.7.17-r1198-dirty
[main] CMD: /home/biocbuild/R/R-4.3.1/site-library/Rbwa/bwa aln -N -n 0 -l 69 -o 0 /home/biocbuild/tmp/RtmpF5d0CJ/chr12 /home/biocbuild/tmp/RtmpF5d0CJ/filed282c5a3592dd
[main] Real time: 0.004 sec; CPU: 0.002 sec
[bwa_aln_core] convert to sequence coordinate... 0.00 sec
[bwa_aln_core] refine gapped alignments... 0.00 sec
[bwa_aln_core] print alignments... 0.00 sec
[bwa_aln_core] 4 sequences have been processed.
[main] Version: 0.7.17-r1198-dirty
[main] CMD: /home/biocbuild/R/R-4.3.1/site-library/Rbwa/bwa samse -n 1000000000 /home/biocbuild/tmp/RtmpF5d0CJ/chr12 /home/biocbuild/tmp/RtmpF5d0CJ/filed282c5a3592dd.sai /home/biocbuild/tmp/RtmpF5d0CJ/filed282c5a3592dd
[main] Real time: 0.003 sec; CPU: 0.002 sec
[runCrisprBwa] Using BSgenome.Hsapiens.UCSC.hg38
[runCrisprBwa] Searching for AsCas12a protospacers
[bwa_aln_core] calculate SA coordinate... 0.00 sec
[bwa_aln_core] write to the disk... 0.00 sec
[bwa_aln_core] 4 sequences have been processed.
[main] Version: 0.7.17-r1198-dirty
[main] CMD: /home/biocbuild/R/R-4.3.1/site-library/Rbwa/bwa aln -N -n 1 -l 69 -o 0 /home/biocbuild/tmp/RtmpF5d0CJ/chr12 /home/biocbuild/tmp/RtmpF5d0CJ/filed282c10dd8243
[main] Real time: 0.005 sec; CPU: 0.002 sec
[bwa_aln_core] convert to sequence coordinate... 0.00 sec
[bwa_aln_core] refine gapped alignments... 0.00 sec
[bwa_aln_core] print alignments... 0.00 sec
[bwa_aln_core] 4 sequences have been processed.
[main] Version: 0.7.17-r1198-dirty
[main] CMD: /home/biocbuild/R/R-4.3.1/site-library/Rbwa/bwa samse -n 1000000000 /home/biocbuild/tmp/RtmpF5d0CJ/chr12 /home/biocbuild/tmp/RtmpF5d0CJ/filed282c10dd8243.sai /home/biocbuild/tmp/RtmpF5d0CJ/filed282c10dd8243
[main] Real time: 0.003 sec; CPU: 0.002 sec
[runCrisprBwa] Using BSgenome.Hsapiens.UCSC.hg38
[runCrisprBwa] Searching for AsCas12a protospacers
[bwa_aln_core] calculate SA coordinate... 0.00 sec
[bwa_aln_core] write to the disk... 0.00 sec
[bwa_aln_core] 4 sequences have been processed.
[main] Version: 0.7.17-r1198-dirty
[main] CMD: /home/biocbuild/R/R-4.3.1/site-library/Rbwa/bwa aln -N -n 2 -l 69 -o 0 /home/biocbuild/tmp/RtmpF5d0CJ/chr12 /home/biocbuild/tmp/RtmpF5d0CJ/filed282c39556423
[main] Real time: 0.003 sec; CPU: 0.002 sec
[bwa_aln_core] convert to sequence coordinate... 0.00 sec
[bwa_aln_core] refine gapped alignments... 0.00 sec
[bwa_aln_core] print alignments... 0.00 sec
[bwa_aln_core] 4 sequences have been processed.
[main] Version: 0.7.17-r1198-dirty
[main] CMD: /home/biocbuild/R/R-4.3.1/site-library/Rbwa/bwa samse -n 1000000000 /home/biocbuild/tmp/RtmpF5d0CJ/chr12 /home/biocbuild/tmp/RtmpF5d0CJ/filed282c39556423.sai /home/biocbuild/tmp/RtmpF5d0CJ/filed282c39556423
[main] Real time: 0.003 sec; CPU: 0.002 sec
[runCrisprBwa] Using BSgenome.Hsapiens.UCSC.hg38
[runCrisprBwa] Searching for AsCas12a protospacers
[bwa_aln_core] calculate SA coordinate... 0.00 sec
[bwa_aln_core] write to the disk... 0.00 sec
[bwa_aln_core] 4 sequences have been processed.
[main] Version: 0.7.17-r1198-dirty
[main] CMD: /home/biocbuild/R/R-4.3.1/site-library/Rbwa/bwa aln -N -n 3 -l 69 -o 0 /home/biocbuild/tmp/RtmpF5d0CJ/chr12 /home/biocbuild/tmp/RtmpF5d0CJ/filed282c54c359a7
[main] Real time: 0.004 sec; CPU: 0.002 sec
[bwa_aln_core] convert to sequence coordinate... 0.00 sec
[bwa_aln_core] refine gapped alignments... 0.00 sec
[bwa_aln_core] print alignments... 0.00 sec
[bwa_aln_core] 4 sequences have been processed.
[main] Version: 0.7.17-r1198-dirty
[main] CMD: /home/biocbuild/R/R-4.3.1/site-library/Rbwa/bwa samse -n 1000000000 /home/biocbuild/tmp/RtmpF5d0CJ/chr12 /home/biocbuild/tmp/RtmpF5d0CJ/filed282c54c359a7.sai /home/biocbuild/tmp/RtmpF5d0CJ/filed282c54c359a7
[main] Real time: 0.003 sec; CPU: 0.002 sec
[ FAIL 0 | WARN 0 | SKIP 0 | PASS 19 ]
>
> proc.time()
user system elapsed
22.248 1.385 24.567
crisprBwa.Rcheck/crisprBwa-Ex.timings
| name | user | system | elapsed | |
| runBwa | 0.396 | 0.053 | 0.543 | |
| runCrisprBwa | 1.234 | 0.610 | 2.806 | |