| Back to Multiple platform build/check report for BioC 3.18: simplified long |
|
This page was generated on 2023-11-02 11:40:33 -0400 (Thu, 02 Nov 2023).
| Hostname | OS | Arch (*) | R version | Installed pkgs |
|---|---|---|---|---|
| nebbiolo2 | Linux (Ubuntu 22.04.2 LTS) | x86_64 | 4.3.1 (2023-06-16) -- "Beagle Scouts" | 4729 |
| palomino4 | Windows Server 2022 Datacenter | x64 | 4.3.1 (2023-06-16 ucrt) -- "Beagle Scouts" | 4463 |
| lconway | macOS 12.6.5 Monterey | x86_64 | 4.3.1 Patched (2023-06-17 r84564) -- "Beagle Scouts" | 4478 |
| kunpeng2 | Linux (openEuler 22.03 LTS-SP1) | aarch64 | 4.3.1 (2023-06-16) -- "Beagle Scouts" | 4464 |
| Click on any hostname to see more info about the system (e.g. compilers) (*) as reported by 'uname -p', except on Windows and Mac OS X | ||||
| Package 406/2266 | Hostname | OS / Arch | INSTALL | BUILD | CHECK | BUILD BIN | ||||||||
| cola 2.8.0 (landing page) Zuguang Gu
| nebbiolo2 | Linux (Ubuntu 22.04.2 LTS) / x86_64 | OK | OK | OK | |||||||||
| palomino4 | Windows Server 2022 Datacenter / x64 | OK | OK | OK | OK | |||||||||
| lconway | macOS 12.6.5 Monterey / x86_64 | OK | OK | OK | OK | |||||||||
| kjohnson1 | macOS 13.6.1 Ventura / arm64 | see weekly results here | ||||||||||||
| kunpeng2 | Linux (openEuler 22.03 LTS-SP1) / aarch64 | OK | OK | OK | ||||||||||
|
To the developers/maintainers of the cola package: - Allow up to 24 hours (and sometimes 48 hours) for your latest push to git@git.bioconductor.org:packages/cola.git to reflect on this report. See Troubleshooting Build Report for more information. - Use the following Renviron settings to reproduce errors and warnings. - If 'R CMD check' started to fail recently on the Linux builder(s) over a missing dependency, add the missing dependency to 'Suggests:' in your DESCRIPTION file. See Renviron.bioc for more information. - See Martin Grigorov's blog post for how to debug Linux ARM64 related issues on a x86_64 host. |
| Package: cola |
| Version: 2.8.0 |
| Command: /home/biocbuild/R/R-4.3.1/bin/R CMD check --install=check:cola.install-out.txt --library=/home/biocbuild/R/R-4.3.1/site-library --no-vignettes --timings cola_2.8.0.tar.gz |
| StartedAt: 2023-11-02 09:28:56 -0000 (Thu, 02 Nov 2023) |
| EndedAt: 2023-11-02 09:33:11 -0000 (Thu, 02 Nov 2023) |
| EllapsedTime: 255.0 seconds |
| RetCode: 0 |
| Status: OK |
| CheckDir: cola.Rcheck |
| Warnings: 0 |
##############################################################################
##############################################################################
###
### Running command:
###
### /home/biocbuild/R/R-4.3.1/bin/R CMD check --install=check:cola.install-out.txt --library=/home/biocbuild/R/R-4.3.1/site-library --no-vignettes --timings cola_2.8.0.tar.gz
###
##############################################################################
##############################################################################
* using log directory ‘/home/biocbuild/bbs-3.18-bioc/meat/cola.Rcheck’
* using R version 4.3.1 (2023-06-16)
* using platform: aarch64-unknown-linux-gnu (64-bit)
* R was compiled by
gcc (GCC) 10.3.1
GNU Fortran (GCC) 10.3.1
* running under: openEuler 22.03 (LTS-SP1)
* using session charset: UTF-8
* using option ‘--no-vignettes’
* checking for file ‘cola/DESCRIPTION’ ... OK
* checking extension type ... Package
* this is package ‘cola’ version ‘2.8.0’
* checking package namespace information ... OK
* checking package dependencies ... OK
* checking if this is a source package ... OK
* checking if there is a namespace ... OK
* checking for hidden files and directories ... OK
* checking for portable file names ... OK
* checking for sufficient/correct file permissions ... OK
* checking whether package ‘cola’ can be installed ... OK
* used C++ compiler: ‘g++ (GCC) 10.3.1’
* checking installed package size ... NOTE
installed size is 7.9Mb
sub-directories of 1Mb or more:
data 3.2Mb
extdata 1.0Mb
libs 2.3Mb
* checking package directory ... OK
* checking ‘build’ directory ... OK
* checking DESCRIPTION meta-information ... OK
* checking top-level files ... OK
* checking for left-over files ... OK
* checking index information ... OK
* checking package subdirectories ... OK
* checking R files for non-ASCII characters ... OK
* checking R files for syntax errors ... OK
* checking whether the package can be loaded ... OK
* checking whether the package can be loaded with stated dependencies ... OK
* checking whether the package can be unloaded cleanly ... OK
* checking whether the namespace can be loaded with stated dependencies ... OK
* checking whether the namespace can be unloaded cleanly ... OK
* checking loading without being on the library search path ... OK
* checking startup messages can be suppressed ... OK
* checking dependencies in R code ... OK
* checking S3 generic/method consistency ... OK
* checking replacement functions ... OK
* checking foreign function calls ... OK
* checking R code for possible problems ... OK
* checking Rd files ... OK
* checking Rd metadata ... OK
* checking Rd cross-references ... OK
* checking for missing documentation entries ... OK
* checking for code/documentation mismatches ... OK
* checking Rd \usage sections ... OK
* checking Rd contents ... OK
* checking for unstated dependencies in examples ... OK
* checking contents of ‘data’ directory ... OK
* checking data for non-ASCII characters ... OK
* checking data for ASCII and uncompressed saves ... OK
* checking line endings in C/C++/Fortran sources/headers ... OK
* checking compiled code ... NOTE
Note: information on .o files is not available
* checking files in ‘vignettes’ ... OK
* checking examples ... OK
Examples with CPU (user + system) or elapsed time > 5s
user system elapsed
consensus_partition 30.295 1.527 33.575
compare_signatures-HierarchicalPartition-method 6.219 2.555 9.711
get_signatures-ConsensusPartition-method 6.149 0.083 6.262
* checking for unstated dependencies in ‘tests’ ... OK
* checking tests ...
Running ‘test-all.R’
OK
* checking for unstated dependencies in vignettes ... OK
* checking package vignettes in ‘inst/doc’ ... OK
* checking running R code from vignettes ... SKIPPED
* checking re-building of vignette outputs ... SKIPPED
* checking PDF version of manual ... OK
* DONE
Status: 2 NOTEs
See
‘/home/biocbuild/bbs-3.18-bioc/meat/cola.Rcheck/00check.log’
for details.
cola.Rcheck/00install.out
############################################################################## ############################################################################## ### ### Running command: ### ### /home/biocbuild/R/R-4.3.1/bin/R CMD INSTALL cola ### ############################################################################## ############################################################################## * installing to library ‘/home/biocbuild/R/R-4.3.1/site-library’ * installing *source* package ‘cola’ ... ** using staged installation ** libs using C++ compiler: ‘g++ (GCC) 10.3.1’ g++ -std=gnu++17 -I"/home/biocbuild/R/R-4.3.1/include" -DNDEBUG -I'/home/biocbuild/R/R-4.3.1/site-library/Rcpp/include' -I/usr/local/include -fPIC -g -O2 -Wall -c RcppExports.cpp -o RcppExports.o g++ -std=gnu++17 -I"/home/biocbuild/R/R-4.3.1/include" -DNDEBUG -I'/home/biocbuild/R/R-4.3.1/site-library/Rcpp/include' -I/usr/local/include -fPIC -g -O2 -Wall -c atc.cpp -o atc.o g++ -std=gnu++17 -I"/home/biocbuild/R/R-4.3.1/include" -DNDEBUG -I'/home/biocbuild/R/R-4.3.1/site-library/Rcpp/include' -I/usr/local/include -fPIC -g -O2 -Wall -c cal_consensus_mat.cpp -o cal_consensus_mat.o g++ -std=gnu++17 -I"/home/biocbuild/R/R-4.3.1/include" -DNDEBUG -I'/home/biocbuild/R/R-4.3.1/site-library/Rcpp/include' -I/usr/local/include -fPIC -g -O2 -Wall -c pdist.cpp -o pdist.o g++ -std=gnu++17 -shared -L/home/biocbuild/R/R-4.3.1/lib -L/usr/local/lib -o cola.so RcppExports.o atc.o cal_consensus_mat.o pdist.o -L/home/biocbuild/R/R-4.3.1/lib -lR installing to /home/biocbuild/R/R-4.3.1/site-library/00LOCK-cola/00new/cola/libs ** R ** data ** inst ** byte-compile and prepare package for lazy loading ** help *** installing help indices ** building package indices ** installing vignettes ** testing if installed package can be loaded from temporary location ** checking absolute paths in shared objects and dynamic libraries ** testing if installed package can be loaded from final location ** testing if installed package keeps a record of temporary installation path * DONE (cola)
cola.Rcheck/tests/test-all.Rout
R version 4.3.1 (2023-06-16) -- "Beagle Scouts"
Copyright (C) 2023 The R Foundation for Statistical Computing
Platform: aarch64-unknown-linux-gnu (64-bit)
R is free software and comes with ABSOLUTELY NO WARRANTY.
You are welcome to redistribute it under certain conditions.
Type 'license()' or 'licence()' for distribution details.
R is a collaborative project with many contributors.
Type 'contributors()' for more information and
'citation()' on how to cite R or R packages in publications.
Type 'demo()' for some demos, 'help()' for on-line help, or
'help.start()' for an HTML browser interface to help.
Type 'q()' to quit R.
> library(testthat)
> suppressWarnings(suppressPackageStartupMessages(library(cola)))
>
> test_check("cola")
[ FAIL 0 | WARN 0 | SKIP 0 | PASS 18 ]
>
>
> proc.time()
user system elapsed
6.814 0.212 7.100
cola.Rcheck/cola-Ex.timings
| name | user | system | elapsed | |
| ATC | 0.170 | 0.000 | 0.181 | |
| ATC_approx | 0 | 0 | 0 | |
| ConsensusPartition-class | 0 | 0 | 0 | |
| ConsensusPartitionList-class | 0.000 | 0.000 | 0.001 | |
| DownSamplingConsensusPartition-class | 0 | 0 | 0 | |
| Extract.ConsensusPartitionList | 0.593 | 0.008 | 0.602 | |
| Extract.HierarchicalPartition | 0.148 | 0.008 | 0.157 | |
| ExtractExtract.ConsensusPartitionList | 0.293 | 0.008 | 0.301 | |
| ExtractExtract.HierarchicalPartition | 0 | 0 | 0 | |
| FCC | 0.185 | 0.000 | 0.186 | |
| HierarchicalPartition-class | 0 | 0 | 0 | |
| PAC | 0.555 | 0.004 | 0.561 | |
| aPAC | 0.144 | 0.012 | 0.159 | |
| adjust_matrix | 0.009 | 0.000 | 0.010 | |
| adjust_outlier | 0.001 | 0.000 | 0.001 | |
| all_leaves-HierarchicalPartition-method | 0.115 | 0.008 | 0.125 | |
| all_nodes-HierarchicalPartition-method | 0.124 | 0.004 | 0.129 | |
| all_partition_methods | 0.001 | 0.000 | 0.001 | |
| all_top_value_methods | 0 | 0 | 0 | |
| cola | 0.076 | 0.000 | 0.076 | |
| cola_opt | 0.029 | 0.000 | 0.029 | |
| cola_report-ConsensusPartition-method | 0 | 0 | 0 | |
| cola_report-ConsensusPartitionList-method | 0 | 0 | 0 | |
| cola_report-HierarchicalPartition-method | 0 | 0 | 0 | |
| cola_report-dispatch | 0.000 | 0.001 | 0.000 | |
| cola_rl | 0.079 | 0.005 | 0.085 | |
| collect_classes-ConsensusPartition-method | 2.559 | 0.064 | 2.628 | |
| collect_classes-ConsensusPartitionList-method | 4.116 | 0.028 | 4.155 | |
| collect_classes-HierarchicalPartition-method | 1.923 | 0.016 | 1.964 | |
| collect_classes-dispatch | 0 | 0 | 0 | |
| collect_plots-ConsensusPartition-method | 0 | 0 | 0 | |
| collect_plots-ConsensusPartitionList-method | 0 | 0 | 0 | |
| collect_plots-dispatch | 0.000 | 0.000 | 0.001 | |
| collect_stats-ConsensusPartition-method | 0.001 | 0.000 | 0.000 | |
| collect_stats-ConsensusPartitionList-method | 0.520 | 0.004 | 0.526 | |
| collect_stats-dispatch | 0 | 0 | 0 | |
| colnames-ConsensusPartition-method | 0 | 0 | 0 | |
| colnames-ConsensusPartitionList-method | 0 | 0 | 0 | |
| colnames-DownSamplingConsensusPartition-method | 0 | 0 | 0 | |
| colnames-HierarchicalPartition-method | 0 | 0 | 0 | |
| colnames-dispatch | 0 | 0 | 0 | |
| compare_partitions-ConsensusPartition-method | 0.001 | 0.000 | 0.000 | |
| compare_signatures-ConsensusPartition-method | 0.000 | 0.000 | 0.001 | |
| compare_signatures-HierarchicalPartition-method | 6.219 | 2.555 | 9.711 | |
| compare_signatures-dispatch | 0 | 0 | 0 | |
| concordance | 0.158 | 0.046 | 0.214 | |
| config_ATC | 0.001 | 0.000 | 0.002 | |
| consensus_heatmap-ConsensusPartition-method | 0.721 | 0.024 | 0.778 | |
| consensus_partition | 30.295 | 1.527 | 33.575 | |
| consensus_partition_by_down_sampling | 0.000 | 0.000 | 0.001 | |
| correspond_between_rankings | 0.085 | 0.003 | 0.093 | |
| correspond_between_two_rankings | 0.035 | 0.000 | 0.035 | |
| david_enrichment | 0 | 0 | 0 | |
| dim.ConsensusPartition | 0 | 0 | 0 | |
| dim.ConsensusPartitionList | 0.000 | 0.000 | 0.001 | |
| dim.DownSamplingConsensusPartition | 0 | 0 | 0 | |
| dim.HierarchicalPartition | 0.001 | 0.000 | 0.000 | |
| dimension_reduction-ConsensusPartition-method | 1.595 | 0.061 | 1.715 | |
| dimension_reduction-DownSamplingConsensusPartition-method | 1.677 | 0.007 | 1.689 | |
| dimension_reduction-HierarchicalPartition-method | 0.816 | 0.000 | 0.820 | |
| dimension_reduction-dispatch | 0.000 | 0.000 | 0.001 | |
| dimension_reduction-matrix-method | 0 | 0 | 0 | |
| find_best_km | 0 | 0 | 0 | |
| functional_enrichment-ANY-method | 0.000 | 0.000 | 0.001 | |
| functional_enrichment-ConsensusPartition-method | 0 | 0 | 0 | |
| functional_enrichment-ConsensusPartitionList-method | 0 | 0 | 0 | |
| functional_enrichment-HierarchicalPartition-method | 0.000 | 0.001 | 0.001 | |
| functional_enrichment-dispatch | 0 | 0 | 0 | |
| get_anno-ConsensusPartition-method | 0 | 0 | 0 | |
| get_anno-ConsensusPartitionList-method | 0 | 0 | 0 | |
| get_anno-DownSamplingConsensusPartition-method | 0.071 | 0.004 | 0.075 | |
| get_anno-HierarchicalPartition-method | 0.001 | 0.000 | 0.000 | |
| get_anno-dispatch | 0 | 0 | 0 | |
| get_anno_col-ConsensusPartition-method | 0.000 | 0.001 | 0.000 | |
| get_anno_col-ConsensusPartitionList-method | 0 | 0 | 0 | |
| get_anno_col-HierarchicalPartition-method | 0 | 0 | 0 | |
| get_anno_col-dispatch | 0.000 | 0.001 | 0.000 | |
| get_children_nodes-HierarchicalPartition-method | 0 | 0 | 0 | |
| get_classes-ConsensusPartition-method | 0.166 | 0.004 | 0.170 | |
| get_classes-ConsensusPartitionList-method | 0.138 | 0.008 | 0.147 | |
| get_classes-DownSamplingConsensusPartition-method | 0.073 | 0.004 | 0.077 | |
| get_classes-HierarchicalPartition-method | 0.129 | 0.008 | 0.136 | |
| get_classes-dispatch | 0.001 | 0.000 | 0.000 | |
| get_consensus-ConsensusPartition-method | 0.142 | 0.020 | 0.162 | |
| get_matrix-ConsensusPartition-method | 0.365 | 0.168 | 0.534 | |
| get_matrix-ConsensusPartitionList-method | 0.314 | 0.216 | 0.532 | |
| get_matrix-DownSamplingConsensusPartition-method | 0 | 0 | 0 | |
| get_matrix-HierarchicalPartition-method | 0.000 | 0.000 | 0.001 | |
| get_matrix-dispatch | 0.001 | 0.000 | 0.000 | |
| get_membership-ConsensusPartition-method | 0.150 | 0.028 | 0.178 | |
| get_membership-ConsensusPartitionList-method | 0.137 | 0.008 | 0.145 | |
| get_membership-dispatch | 0 | 0 | 0 | |
| get_param-ConsensusPartition-method | 0.144 | 0.012 | 0.156 | |
| get_signatures-ConsensusPartition-method | 6.149 | 0.083 | 6.262 | |
| get_signatures-DownSamplingConsensusPartition-method | 0 | 0 | 0 | |
| get_signatures-HierarchicalPartition-method | 0 | 0 | 0 | |
| get_signatures-dispatch | 0.000 | 0.000 | 0.001 | |
| get_stats-ConsensusPartition-method | 0.176 | 0.020 | 0.197 | |
| get_stats-ConsensusPartitionList-method | 0.139 | 0.008 | 0.149 | |
| get_stats-dispatch | 0.000 | 0.000 | 0.001 | |
| golub_cola | 0.169 | 0.012 | 0.184 | |
| golub_cola_ds | 0.11 | 0.00 | 0.11 | |
| golub_cola_rh | 0.847 | 0.016 | 0.865 | |
| hierarchical_partition | 0 | 0 | 0 | |
| is_best_k-ConsensusPartition-method | 0.126 | 0.020 | 0.146 | |
| is_best_k-ConsensusPartitionList-method | 0.134 | 0.016 | 0.151 | |
| is_best_k-dispatch | 0.001 | 0.000 | 0.000 | |
| is_leaf_node-HierarchicalPartition-method | 0.112 | 0.008 | 0.121 | |
| is_stable_k-ConsensusPartition-method | 0.144 | 0.000 | 0.144 | |
| is_stable_k-ConsensusPartitionList-method | 0.149 | 0.004 | 0.153 | |
| is_stable_k-dispatch | 0 | 0 | 0 | |
| knee_finder2 | 0.027 | 0.003 | 0.031 | |
| knitr_add_tab_item | 0 | 0 | 0 | |
| knitr_insert_tabs | 0.000 | 0.000 | 0.001 | |
| map_to_entrez_id | 0 | 0 | 0 | |
| max_depth-HierarchicalPartition-method | 0.112 | 0.004 | 0.116 | |
| membership_heatmap-ConsensusPartition-method | 0.579 | 0.004 | 0.586 | |
| merge_node-HierarchicalPartition-method | 0.000 | 0.000 | 0.001 | |
| merge_node_param | 0 | 0 | 0 | |
| ncol-ConsensusPartition-method | 0 | 0 | 0 | |
| ncol-ConsensusPartitionList-method | 0 | 0 | 0 | |
| ncol-DownSamplingConsensusPartition-method | 0 | 0 | 0 | |
| ncol-HierarchicalPartition-method | 0.001 | 0.000 | 0.000 | |
| ncol-dispatch | 0.000 | 0.000 | 0.001 | |
| node_info-HierarchicalPartition-method | 0 | 0 | 0 | |
| node_level-HierarchicalPartition-method | 0 | 0 | 0 | |
| nrow-ConsensusPartition-method | 0 | 0 | 0 | |
| nrow-ConsensusPartitionList-method | 0 | 0 | 0 | |
| nrow-HierarchicalPartition-method | 0.000 | 0.000 | 0.001 | |
| nrow-dispatch | 0 | 0 | 0 | |
| plot_ecdf-ConsensusPartition-method | 0.170 | 0.004 | 0.174 | |
| predict_classes-ConsensusPartition-method | 0 | 0 | 0 | |
| predict_classes-dispatch | 0 | 0 | 0 | |
| predict_classes-matrix-method | 0 | 0 | 0 | |
| print.hc_table_suggest_best_k | 0.000 | 0.000 | 0.001 | |
| recalc_stats | 0 | 0 | 0 | |
| register_NMF | 0 | 0 | 0 | |
| register_SOM | 0 | 0 | 0 | |
| register_partition_methods | 0.696 | 0.002 | 0.700 | |
| register_top_value_methods | 0.002 | 0.000 | 0.002 | |
| relabel_class | 0.008 | 0.004 | 0.011 | |
| remove_partition_methods | 0 | 0 | 0 | |
| remove_top_value_methods | 0 | 0 | 0 | |
| rownames-ConsensusPartition-method | 0.000 | 0.000 | 0.001 | |
| rownames-ConsensusPartitionList-method | 0 | 0 | 0 | |
| rownames-HierarchicalPartition-method | 0 | 0 | 0 | |
| rownames-dispatch | 0.000 | 0.000 | 0.001 | |
| run_all_consensus_partition_methods | 0 | 0 | 0 | |
| select_partition_number-ConsensusPartition-method | 0.146 | 0.016 | 0.162 | |
| show-ConsensusPartition-method | 0 | 0 | 0 | |
| show-ConsensusPartitionList-method | 0 | 0 | 0 | |
| show-DownSamplingConsensusPartition-method | 0.102 | 0.008 | 0.110 | |
| show-HierarchicalPartition-method | 0.164 | 0.008 | 0.173 | |
| show-dispatch | 0 | 0 | 0 | |
| split_node-HierarchicalPartition-method | 0 | 0 | 0 | |
| suggest_best_k-ConsensusPartition-method | 0.139 | 0.004 | 0.144 | |
| suggest_best_k-ConsensusPartitionList-method | 0.151 | 0.004 | 0.155 | |
| suggest_best_k-HierarchicalPartition-method | 0.126 | 0.000 | 0.126 | |
| suggest_best_k-dispatch | 0 | 0 | 0 | |
| test_between_factors | 0.012 | 0.000 | 0.012 | |
| test_to_known_factors-ConsensusPartition-method | 0.163 | 0.008 | 0.172 | |
| test_to_known_factors-ConsensusPartitionList-method | 0.306 | 0.016 | 0.323 | |
| test_to_known_factors-DownSamplingConsensusPartition-method | 0.105 | 0.000 | 0.105 | |
| test_to_known_factors-HierarchicalPartition-method | 0.132 | 0.004 | 0.137 | |
| test_to_known_factors-dispatch | 0 | 0 | 0 | |
| top_elements_overlap | 0.274 | 0.000 | 0.277 | |
| top_rows_heatmap-ConsensusPartition-method | 0 | 0 | 0 | |
| top_rows_heatmap-ConsensusPartitionList-method | 0.001 | 0.000 | 0.000 | |
| top_rows_heatmap-HierarchicalPartition-method | 0 | 0 | 0 | |
| top_rows_heatmap-dispatch | 0.000 | 0.000 | 0.001 | |
| top_rows_heatmap-matrix-method | 4.656 | 0.131 | 4.874 | |
| top_rows_overlap-ConsensusPartitionList-method | 0.899 | 0.020 | 0.921 | |
| top_rows_overlap-HierarchicalPartition-method | 0.564 | 0.008 | 0.573 | |
| top_rows_overlap-dispatch | 0 | 0 | 0 | |
| top_rows_overlap-matrix-method | 0.183 | 0.000 | 0.183 | |