| Back to Multiple platform build/check report for BioC 3.18: simplified long |
|
This page was generated on 2023-11-02 11:40:33 -0400 (Thu, 02 Nov 2023).
| Hostname | OS | Arch (*) | R version | Installed pkgs |
|---|---|---|---|---|
| nebbiolo2 | Linux (Ubuntu 22.04.2 LTS) | x86_64 | 4.3.1 (2023-06-16) -- "Beagle Scouts" | 4729 |
| palomino4 | Windows Server 2022 Datacenter | x64 | 4.3.1 (2023-06-16 ucrt) -- "Beagle Scouts" | 4463 |
| lconway | macOS 12.6.5 Monterey | x86_64 | 4.3.1 Patched (2023-06-17 r84564) -- "Beagle Scouts" | 4478 |
| kunpeng2 | Linux (openEuler 22.03 LTS-SP1) | aarch64 | 4.3.1 (2023-06-16) -- "Beagle Scouts" | 4464 |
| Click on any hostname to see more info about the system (e.g. compilers) (*) as reported by 'uname -p', except on Windows and Mac OS X | ||||
| Package 402/2266 | Hostname | OS / Arch | INSTALL | BUILD | CHECK | BUILD BIN | ||||||||
| cogeqc 1.6.0 (landing page) Fabrício Almeida-Silva
| nebbiolo2 | Linux (Ubuntu 22.04.2 LTS) / x86_64 | OK | OK | OK | |||||||||
| palomino4 | Windows Server 2022 Datacenter / x64 | OK | OK | OK | OK | |||||||||
| lconway | macOS 12.6.5 Monterey / x86_64 | OK | OK | OK | OK | |||||||||
| kjohnson1 | macOS 13.6.1 Ventura / arm64 | see weekly results here | ||||||||||||
| kunpeng2 | Linux (openEuler 22.03 LTS-SP1) / aarch64 | OK | OK | OK | ||||||||||
|
To the developers/maintainers of the cogeqc package: - Allow up to 24 hours (and sometimes 48 hours) for your latest push to git@git.bioconductor.org:packages/cogeqc.git to reflect on this report. See Troubleshooting Build Report for more information. - Use the following Renviron settings to reproduce errors and warnings. - If 'R CMD check' started to fail recently on the Linux builder(s) over a missing dependency, add the missing dependency to 'Suggests:' in your DESCRIPTION file. See Renviron.bioc for more information. - See Martin Grigorov's blog post for how to debug Linux ARM64 related issues on a x86_64 host. |
| Package: cogeqc |
| Version: 1.6.0 |
| Command: /home/biocbuild/R/R-4.3.1/bin/R CMD check --install=check:cogeqc.install-out.txt --library=/home/biocbuild/R/R-4.3.1/site-library --no-vignettes --timings cogeqc_1.6.0.tar.gz |
| StartedAt: 2023-11-02 09:28:10 -0000 (Thu, 02 Nov 2023) |
| EndedAt: 2023-11-02 09:31:41 -0000 (Thu, 02 Nov 2023) |
| EllapsedTime: 210.8 seconds |
| RetCode: 0 |
| Status: OK |
| CheckDir: cogeqc.Rcheck |
| Warnings: 0 |
##############################################################################
##############################################################################
###
### Running command:
###
### /home/biocbuild/R/R-4.3.1/bin/R CMD check --install=check:cogeqc.install-out.txt --library=/home/biocbuild/R/R-4.3.1/site-library --no-vignettes --timings cogeqc_1.6.0.tar.gz
###
##############################################################################
##############################################################################
* using log directory ‘/home/biocbuild/bbs-3.18-bioc/meat/cogeqc.Rcheck’
* using R version 4.3.1 (2023-06-16)
* using platform: aarch64-unknown-linux-gnu (64-bit)
* R was compiled by
gcc (GCC) 10.3.1
GNU Fortran (GCC) 10.3.1
* running under: openEuler 22.03 (LTS-SP1)
* using session charset: UTF-8
* using option ‘--no-vignettes’
* checking for file ‘cogeqc/DESCRIPTION’ ... OK
* this is package ‘cogeqc’ version ‘1.6.0’
* package encoding: UTF-8
* checking package namespace information ... OK
* checking package dependencies ... OK
* checking if this is a source package ... OK
* checking if there is a namespace ... OK
* checking for hidden files and directories ... OK
* checking for portable file names ... OK
* checking for sufficient/correct file permissions ... OK
* checking whether package ‘cogeqc’ can be installed ... OK
* checking installed package size ... OK
* checking package directory ... OK
* checking ‘build’ directory ... OK
* checking DESCRIPTION meta-information ... OK
* checking top-level files ... OK
* checking for left-over files ... OK
* checking index information ... OK
* checking package subdirectories ... OK
* checking R files for non-ASCII characters ... OK
* checking R files for syntax errors ... OK
* checking whether the package can be loaded ... OK
* checking whether the package can be loaded with stated dependencies ... OK
* checking whether the package can be unloaded cleanly ... OK
* checking whether the namespace can be loaded with stated dependencies ... OK
* checking whether the namespace can be unloaded cleanly ... OK
* checking loading without being on the library search path ... OK
* checking dependencies in R code ... OK
* checking S3 generic/method consistency ... OK
* checking replacement functions ... OK
* checking foreign function calls ... OK
* checking R code for possible problems ... OK
* checking Rd files ... OK
* checking Rd metadata ... OK
* checking Rd cross-references ... OK
* checking for missing documentation entries ... OK
* checking for code/documentation mismatches ... OK
* checking Rd \usage sections ... OK
* checking Rd contents ... OK
* checking for unstated dependencies in examples ... OK
* checking contents of ‘data’ directory ... OK
* checking data for non-ASCII characters ... OK
* checking data for ASCII and uncompressed saves ... OK
* checking files in ‘vignettes’ ... OK
* checking examples ... OK
Examples with CPU (user + system) or elapsed time > 5s
user system elapsed
assess_synnet_list 4.859 0.843 6.071
plot_genome_stats 5.347 0.024 7.631
get_genome_stats 0.599 0.576 10.709
compare_genome_stats 0.127 0.009 7.349
* checking for unstated dependencies in ‘tests’ ... OK
* checking tests ...
Running ‘testthat.R’
OK
* checking for unstated dependencies in vignettes ... OK
* checking package vignettes in ‘inst/doc’ ... OK
* checking running R code from vignettes ... SKIPPED
* checking re-building of vignette outputs ... SKIPPED
* checking PDF version of manual ... OK
* DONE
Status: OK
cogeqc.Rcheck/00install.out
############################################################################## ############################################################################## ### ### Running command: ### ### /home/biocbuild/R/R-4.3.1/bin/R CMD INSTALL cogeqc ### ############################################################################## ############################################################################## * installing to library ‘/home/biocbuild/R/R-4.3.1/site-library’ * installing *source* package ‘cogeqc’ ... ** using staged installation ** R ** data ** inst ** byte-compile and prepare package for lazy loading ** help *** installing help indices *** copying figures ** building package indices ** installing vignettes ** testing if installed package can be loaded from temporary location ** testing if installed package can be loaded from final location ** testing if installed package keeps a record of temporary installation path * DONE (cogeqc)
cogeqc.Rcheck/tests/testthat.Rout
R version 4.3.1 (2023-06-16) -- "Beagle Scouts"
Copyright (C) 2023 The R Foundation for Statistical Computing
Platform: aarch64-unknown-linux-gnu (64-bit)
R is free software and comes with ABSOLUTELY NO WARRANTY.
You are welcome to redistribute it under certain conditions.
Type 'license()' or 'licence()' for distribution details.
R is a collaborative project with many contributors.
Type 'contributors()' for more information and
'citation()' on how to cite R or R packages in publications.
Type 'demo()' for some demos, 'help()' for on-line help, or
'help.start()' for an HTML browser interface to help.
Type 'q()' to quit R.
> library(testthat)
> library(cogeqc)
>
> test_check("cogeqc")
More than 1 BUSCO summary file found. Using only the first.
! # Invaild edge matrix for <phylo>. A <tbl_df> is returned.
! # Invaild edge matrix for <phylo>. A <tbl_df> is returned.
[ FAIL 0 | WARN 0 | SKIP 0 | PASS 58 ]
>
> proc.time()
user system elapsed
22.805 1.259 37.804
cogeqc.Rcheck/cogeqc-Ex.timings
| name | user | system | elapsed | |
| assess_orthogroups | 0.920 | 0.012 | 0.933 | |
| assess_synnet | 2.737 | 0.116 | 2.873 | |
| assess_synnet_list | 4.859 | 0.843 | 6.071 | |
| batch_summary | 0.002 | 0.000 | 0.001 | |
| busco_is_installed | 0.002 | 0.003 | 0.010 | |
| calculate_H | 2.407 | 0.051 | 2.464 | |
| compare_genome_stats | 0.127 | 0.009 | 7.349 | |
| compare_orthogroups | 0.217 | 0.004 | 0.221 | |
| fit_sft | 1.633 | 0.028 | 1.664 | |
| get_genome_stats | 0.599 | 0.576 | 10.709 | |
| interpro_ath | 0.147 | 0.010 | 0.159 | |
| interpro_bol | 0.250 | 0.004 | 0.255 | |
| list_busco_datasets | 0.000 | 0.003 | 0.009 | |
| og | 0.175 | 0.012 | 0.188 | |
| plot_busco | 0.834 | 0.013 | 0.869 | |
| plot_duplications | 0.180 | 0.000 | 0.182 | |
| plot_genes_in_ogs | 0.200 | 0.003 | 0.204 | |
| plot_genome_stats | 5.347 | 0.024 | 7.631 | |
| plot_og_overlap | 0.330 | 0.000 | 0.334 | |
| plot_og_sizes | 1.894 | 0.020 | 1.919 | |
| plot_orthofinder_stats | 1.065 | 0.004 | 1.072 | |
| plot_species_specific_ogs | 0.224 | 0.000 | 0.225 | |
| plot_species_tree | 0.190 | 0.000 | 0.191 | |
| read_busco | 0.002 | 0.000 | 0.003 | |
| read_orthofinder_stats | 0.006 | 0.001 | 0.005 | |
| read_orthogroups | 0.020 | 0.000 | 0.019 | |
| run_busco | 0 | 0 | 0 | |
| synnet | 0.680 | 0.003 | 0.685 | |
| tree | 0.001 | 0.001 | 0.001 | |