| Back to Multiple platform build/check report for BioC 3.18: simplified long |
|
This page was generated on 2023-08-12 11:36:53 -0400 (Sat, 12 Aug 2023).
| Hostname | OS | Arch (*) | R version | Installed pkgs |
|---|---|---|---|---|
| nebbiolo2 | Linux (Ubuntu 22.04.2 LTS) | x86_64 | 4.3.1 (2023-06-16) -- "Beagle Scouts" | 4630 |
| palomino4 | Windows Server 2022 Datacenter | x64 | 4.3.1 (2023-06-16 ucrt) -- "Beagle Scouts" | 4368 |
| lconway | macOS 12.6.5 Monterey | x86_64 | 4.3.1 Patched (2023-06-17 r84564) -- "Beagle Scouts" | 4373 |
| kunpeng2 | Linux (openEuler 22.03 LTS-SP1) | aarch64 | 4.3.1 (2023-06-16) -- "Beagle Scouts" | 4370 |
| Click on any hostname to see more info about the system (e.g. compilers) (*) as reported by 'uname -p', except on Windows and Mac OS X | ||||
| Package 198/2216 | Hostname | OS / Arch | INSTALL | BUILD | CHECK | BUILD BIN | ||||||||
| biodbMirbase 1.5.1 (landing page) Pierrick Roger
| nebbiolo2 | Linux (Ubuntu 22.04.2 LTS) / x86_64 | OK | ERROR | skipped | |||||||||
| palomino4 | Windows Server 2022 Datacenter / x64 | OK | OK | ERROR | OK | |||||||||
| lconway | macOS 12.6.5 Monterey / x86_64 | OK | ERROR | skipped | skipped | |||||||||
| kunpeng2 | Linux (openEuler 22.03 LTS-SP1) / aarch64 | OK | OK | ERROR | ||||||||||
| The builds on kunpeng2 (Linux ARM64) are experimental! |
|
To the developers/maintainers of the biodbMirbase package: - Allow up to 24 hours (and sometimes 48 hours) for your latest push to git@git.bioconductor.org:packages/biodbMirbase.git to reflect on this report. See Troubleshooting Build Report for more information. - Use the following Renviron settings to reproduce errors and warnings. - If 'R CMD check' started to fail recently on the Linux builder(s) over a missing dependency, add the missing dependency to 'Suggests:' in your DESCRIPTION file. See Renviron.bioc for more information. |
| Package: biodbMirbase |
| Version: 1.5.1 |
| Command: rm -rf biodbMirbase.buildbin-libdir && mkdir biodbMirbase.buildbin-libdir && F:\biocbuild\bbs-3.18-bioc\R\bin\R.exe CMD INSTALL --build --library=biodbMirbase.buildbin-libdir biodbMirbase_1.5.1.tar.gz |
| StartedAt: 2023-08-12 08:02:16 -0400 (Sat, 12 Aug 2023) |
| EndedAt: 2023-08-12 08:02:31 -0400 (Sat, 12 Aug 2023) |
| EllapsedTime: 15.1 seconds |
| RetCode: 0 |
| Status: OK |
| PackageFile: biodbMirbase_1.5.1.zip |
| PackageFileSize: 362.6 KiB |
############################################################################## ############################################################################## ### ### Running command: ### ### rm -rf biodbMirbase.buildbin-libdir && mkdir biodbMirbase.buildbin-libdir && F:\biocbuild\bbs-3.18-bioc\R\bin\R.exe CMD INSTALL --build --library=biodbMirbase.buildbin-libdir biodbMirbase_1.5.1.tar.gz ### ############################################################################## ############################################################################## * installing *source* package 'biodbMirbase' ... ** using staged installation ** R ** inst ** byte-compile and prepare package for lazy loading ** help No man pages found in package 'biodbMirbase' *** installing help indices ** building package indices ** installing vignettes ** testing if installed package can be loaded from temporary location ** testing if installed package can be loaded from final location ** testing if installed package keeps a record of temporary installation path * MD5 sums packaged installation of 'biodbMirbase' as biodbMirbase_1.5.1.zip * DONE (biodbMirbase)