| Back to Multiple platform build/check report for BioC 3.18: simplified long |
|
This page was generated on 2024-03-04 11:37:09 -0500 (Mon, 04 Mar 2024).
| Hostname | OS | Arch (*) | R version | Installed pkgs |
|---|---|---|---|---|
| nebbiolo2 | Linux (Ubuntu 22.04.3 LTS) | x86_64 | 4.3.2 Patched (2023-11-13 r85521) -- "Eye Holes" | 4692 |
| palomino4 | Windows Server 2022 Datacenter | x64 | 4.3.2 (2023-10-31 ucrt) -- "Eye Holes" | 4445 |
| lconway | macOS 12.7.1 Monterey | x86_64 | 4.3.2 Patched (2023-11-01 r85457) -- "Eye Holes" | 4466 |
| Click on any hostname to see more info about the system (e.g. compilers) (*) as reported by 'uname -p', except on Windows and Mac OS X | ||||
| Package 158/2266 | Hostname | OS / Arch | INSTALL | BUILD | CHECK | BUILD BIN | ||||||||
| bgx 1.68.3 (landing page) Ernest Turro
| nebbiolo2 | Linux (Ubuntu 22.04.3 LTS) / x86_64 | OK | OK | OK | |||||||||
| palomino4 | Windows Server 2022 Datacenter / x64 | OK | OK | OK | OK | |||||||||
| lconway | macOS 12.7.1 Monterey / x86_64 | OK | OK | WARNINGS | OK | |||||||||
| kjohnson1 | macOS 13.6.1 Ventura / arm64 | see weekly results here | ||||||||||||
|
To the developers/maintainers of the bgx package: - Allow up to 24 hours (and sometimes 48 hours) for your latest push to git@git.bioconductor.org:packages/bgx.git to reflect on this report. See Troubleshooting Build Report for more information. - Use the following Renviron settings to reproduce errors and warnings. - If 'R CMD check' started to fail recently on the Linux builder(s) over a missing dependency, add the missing dependency to 'Suggests:' in your DESCRIPTION file. See Renviron.bioc for more information. |
| Package: bgx |
| Version: 1.68.3 |
| Command: /Library/Frameworks/R.framework/Resources/bin/R CMD INSTALL bgx |
| StartedAt: 2024-03-03 15:09:06 -0500 (Sun, 03 Mar 2024) |
| EndedAt: 2024-03-03 15:10:12 -0500 (Sun, 03 Mar 2024) |
| EllapsedTime: 66.1 seconds |
| RetCode: 0 |
| Status: OK |
##############################################################################
##############################################################################
###
### Running command:
###
### /Library/Frameworks/R.framework/Resources/bin/R CMD INSTALL bgx
###
##############################################################################
##############################################################################
* installing to library ‘/Library/Frameworks/R.framework/Versions/4.3-x86_64/Resources/library’
* installing *source* package ‘bgx’ ...
** using staged installation
checking for gcc... clang -arch x86_64
checking for C compiler default output file name... a.out
checking whether the C compiler works... yes
checking whether we are cross compiling... no
checking for suffix of executables...
checking for suffix of object files... o
checking whether we are using the GNU C compiler... yes
checking whether clang -arch x86_64 accepts -g... yes
checking for clang -arch x86_64 option to accept ISO C89... none needed
checking for C compiler vendor... gnu
checking whether C compiler accepts -ffast-math... yes
checking whether C compiler accepts -O3... yes
checking build system type... x86_64-apple-darwin21.6.0
checking host system type... x86_64-apple-darwin21.6.0
checking for gcc architecture flag...
checking for x86 cpuid 0 output... 16:756e6547:6c65746e:49656e69
checking for x86 cpuid 1 output... 50657:37400800:7ffefbff:bfebfbff
checking whether C compiler accepts -march=pentium2... no
checking whether C compiler accepts -mcpu=pentium2... yes
checking for gcc architecture flag... -mcpu=pentium2
checking for clang -arch x86_64 option to accept ISO C99... none needed
checking for main in -lm... yes
Untarring Boost header files...
checking for an ANSI C-conforming const... yes
checking for inline... inline
configure: creating ./config.status
config.status: creating src/Makevars
** libs
using C compiler: ‘Apple clang version 14.0.0 (clang-1400.0.29.202)’
using C++ compiler: ‘Apple clang version 14.0.0 (clang-1400.0.29.202)’
using SDK: ‘MacOSX11.3.sdk’
clang++ -arch x86_64 -std=gnu++17 -I"/Library/Frameworks/R.framework/Resources/include" -DNDEBUG -I ../boostIncl -I'/Library/Frameworks/R.framework/Versions/4.3-x86_64/Resources/library/Rcpp/include' -I/opt/R/x86_64/include -fPIC -falign-functions=64 -Wall -g -O2 -falign-functions=64 -Wall -g -O2 -ffast-math -O3 -DUSING_R -c bgx.cc -o bgx.o
bgx.cc:44:13: warning: 'FLUSH' macro redefined [-Wmacro-redefined]
#define FLUSH {R_FlushConsole(); R_ProcessEvents();}
^
./rand.hh:42:13: note: previous definition is here
#define FLUSH R_FlushConsole();
^
In file included from bgx.cc:36:
./bgx_updates.hh:47:8: warning: private field 'categories' is not used [-Wunused-private-field]
int* categories;
^
./bgx_updates.hh:310:8: warning: private field 'categories' is not used [-Wunused-private-field]
int *categories;
^
./bgx_updates.hh:311:7: warning: private field 'numberCategories' is not used [-Wunused-private-field]
int numberCategories;
^
4 warnings generated.
clang++ -arch x86_64 -std=gnu++17 -I"/Library/Frameworks/R.framework/Resources/include" -DNDEBUG -I ../boostIncl -I'/Library/Frameworks/R.framework/Versions/4.3-x86_64/Resources/library/Rcpp/include' -I/opt/R/x86_64/include -fPIC -falign-functions=64 -Wall -g -O2 -falign-functions=64 -Wall -g -O2 -ffast-math -O3 -DUSING_R -c bgx_frontend.cc -o bgx_frontend.o
clang -arch x86_64 -I"/Library/Frameworks/R.framework/Resources/include" -DNDEBUG -I ../boostIncl -I'/Library/Frameworks/R.framework/Versions/4.3-x86_64/Resources/library/Rcpp/include' -I/opt/R/x86_64/include -fPIC -falign-functions=64 -Wall -g -O2 -falign-functions=64 -Wall -g -O2 -mcpu=pentium2 -ffast-math -O3 -c qnorm.c -o qnorm.o
clang: warning: argument unused during compilation: '-mcpu=pentium2' [-Wunused-command-line-argument]
clang++ -arch x86_64 -std=gnu++17 -I"/Library/Frameworks/R.framework/Resources/include" -DNDEBUG -I ../boostIncl -I'/Library/Frameworks/R.framework/Versions/4.3-x86_64/Resources/library/Rcpp/include' -I/opt/R/x86_64/include -fPIC -falign-functions=64 -Wall -g -O2 -falign-functions=64 -Wall -g -O2 -ffast-math -O3 -DUSING_R -c rundir.cc -o rundir.o
clang++ -arch x86_64 -std=gnu++17 -I"/Library/Frameworks/R.framework/Resources/include" -DNDEBUG -I ../boostIncl -I'/Library/Frameworks/R.framework/Versions/4.3-x86_64/Resources/library/Rcpp/include' -I/opt/R/x86_64/include -fPIC -falign-functions=64 -Wall -g -O2 -falign-functions=64 -Wall -g -O2 -ffast-math -O3 -DUSING_R -c sokal.cc -o sokal.o
clang++ -arch x86_64 -std=gnu++17 -dynamiclib -Wl,-headerpad_max_install_names -undefined dynamic_lookup -L/Library/Frameworks/R.framework/Resources/lib -L/opt/R/x86_64/lib -o bgx.so bgx.o bgx_frontend.o qnorm.o rundir.o sokal.o -lm -F/Library/Frameworks/R.framework/.. -framework R -Wl,-framework -Wl,CoreFoundation
rm -r ../boostIncl
installing to /Library/Frameworks/R.framework/Versions/4.3-x86_64/Resources/library/00LOCK-bgx/00new/bgx/libs
** R
** byte-compile and prepare package for lazy loading
** help
*** installing help indices
** building package indices
** installing vignettes
** testing if installed package can be loaded from temporary location
** checking absolute paths in shared objects and dynamic libraries
** testing if installed package can be loaded from final location
** testing if installed package keeps a record of temporary installation path
* DONE (bgx)