| Back to Multiple platform build/check report for BioC 3.18: simplified long |
|
This page was generated on 2024-04-17 11:35:47 -0400 (Wed, 17 Apr 2024).
| Hostname | OS | Arch (*) | R version | Installed pkgs |
|---|---|---|---|---|
| nebbiolo2 | Linux (Ubuntu 22.04.3 LTS) | x86_64 | 4.3.3 (2024-02-29) -- "Angel Food Cake" | 4676 |
| palomino4 | Windows Server 2022 Datacenter | x64 | 4.3.3 (2024-02-29 ucrt) -- "Angel Food Cake" | 4414 |
| merida1 | macOS 12.7.1 Monterey | x86_64 | 4.3.3 (2024-02-29) -- "Angel Food Cake" | 4437 |
| Click on any hostname to see more info about the system (e.g. compilers) (*) as reported by 'uname -p', except on Windows and Mac OS X | ||||
| Package 158/2266 | Hostname | OS / Arch | INSTALL | BUILD | CHECK | BUILD BIN | ||||||||
| bgx 1.68.3 (landing page) Ernest Turro
| nebbiolo2 | Linux (Ubuntu 22.04.3 LTS) / x86_64 | OK | OK | OK | |||||||||
| palomino4 | Windows Server 2022 Datacenter / x64 | OK | OK | OK | OK | |||||||||
| merida1 | macOS 12.7.1 Monterey / x86_64 | OK | OK | WARNINGS | OK | |||||||||
| kjohnson1 | macOS 13.6.1 Ventura / arm64 | see weekly results here | ||||||||||||
|
To the developers/maintainers of the bgx package: - Allow up to 24 hours (and sometimes 48 hours) for your latest push to git@git.bioconductor.org:packages/bgx.git to reflect on this report. See Troubleshooting Build Report for more information. - Use the following Renviron settings to reproduce errors and warnings. - If 'R CMD check' started to fail recently on the Linux builder(s) over a missing dependency, add the missing dependency to 'Suggests:' in your DESCRIPTION file. See Renviron.bioc for more information. |
| Package: bgx |
| Version: 1.68.3 |
| Command: /home/biocbuild/bbs-3.18-bioc/R/bin/R CMD INSTALL bgx |
| StartedAt: 2024-04-15 15:11:05 -0400 (Mon, 15 Apr 2024) |
| EndedAt: 2024-04-15 15:11:37 -0400 (Mon, 15 Apr 2024) |
| EllapsedTime: 32.2 seconds |
| RetCode: 0 |
| Status: OK |
##############################################################################
##############################################################################
###
### Running command:
###
### /home/biocbuild/bbs-3.18-bioc/R/bin/R CMD INSTALL bgx
###
##############################################################################
##############################################################################
* installing to library ‘/home/biocbuild/bbs-3.18-bioc/R/site-library’
* installing *source* package ‘bgx’ ...
** using staged installation
checking for gcc... gcc
checking for C compiler default output file name... a.out
checking whether the C compiler works... yes
checking whether we are cross compiling... no
checking for suffix of executables...
checking for suffix of object files... o
checking whether we are using the GNU C compiler... yes
checking whether gcc accepts -g... yes
checking for gcc option to accept ISO C89... none needed
checking for C compiler vendor... gnu
checking whether C compiler accepts -ffast-math... yes
checking whether C compiler accepts -O3... yes
checking build system type... x86_64-pc-linux-gnu
checking host system type... x86_64-pc-linux-gnu
checking for gcc architecture flag...
checking for x86 cpuid 0 output... 16:756e6547:6c65746e:49656e69
checking for x86 cpuid 1 output... 50657:53400800:7ffefbff:bfebfbff
checking whether C compiler accepts -march=pentium2... no
checking whether C compiler accepts -mcpu=pentium2... no
checking whether C compiler accepts -mpentium2... no
checking whether C compiler accepts -march=pentiumpro... no
checking whether C compiler accepts -mcpu=pentiumpro... no
checking whether C compiler accepts -mpentiumpro... no
checking for gcc architecture flag... unknown
checking for gcc option to accept ISO C99... none needed
checking for main in -lm... yes
Untarring Boost header files...
tar: Ignoring unknown extended header keyword 'SCHILY.fflags'
checking for an ANSI C-conforming const... yes
checking for inline... inline
configure: creating ./config.status
config.status: creating src/Makevars
** libs
using C compiler: ‘gcc (Ubuntu 11.4.0-1ubuntu1~22.04) 11.4.0’
using C++ compiler: ‘g++ (Ubuntu 11.4.0-1ubuntu1~22.04) 11.4.0’
g++ -std=gnu++17 -I"/home/biocbuild/bbs-3.18-bioc/R/include" -DNDEBUG -I ../boostIncl -I'/home/biocbuild/bbs-3.18-bioc/R/site-library/Rcpp/include' -I/usr/local/include -fpic -g -O2 -Wall -g -O2 -Wall -ffast-math -O3 -DUSING_R -c bgx.cc -o bgx.o
In file included from bgx.cc:32:
rand.hh: In member function ‘RealType Rand<GenType, RealType>::Normal()’:
rand.hh:399:7: warning: this ‘if’ clause does not guard... [-Wmisleading-indentation]
399 | if(u0<.5) return y; return -y;
| ^~
rand.hh:399:27: note: ...this statement, but the latter is misleadingly indented as if it were guarded by the ‘if’
399 | if(u0<.5) return y; return -y;
| ^~~~~~
rand.hh:406:7: warning: this ‘if’ clause does not guard... [-Wmisleading-indentation]
406 | if(u0<.5) return y; return -y;
| ^~
rand.hh:406:27: note: ...this statement, but the latter is misleadingly indented as if it were guarded by the ‘if’
406 | if(u0<.5) return y; return -y;
| ^~~~~~
rand.hh:413:7: warning: this ‘if’ clause does not guard... [-Wmisleading-indentation]
413 | if(u0<.5) return y; return -y;
| ^~
rand.hh:413:27: note: ...this statement, but the latter is misleadingly indented as if it were guarded by the ‘if’
413 | if(u0<.5) return y; return -y;
| ^~~~~~
rand.hh:420:5: warning: this ‘if’ clause does not guard... [-Wmisleading-indentation]
420 | if(u0<.5) return y; return -y;
| ^~
rand.hh:420:25: note: ...this statement, but the latter is misleadingly indented as if it were guarded by the ‘if’
420 | if(u0<.5) return y; return -y;
| ^~~~~~
g++ -std=gnu++17 -I"/home/biocbuild/bbs-3.18-bioc/R/include" -DNDEBUG -I ../boostIncl -I'/home/biocbuild/bbs-3.18-bioc/R/site-library/Rcpp/include' -I/usr/local/include -fpic -g -O2 -Wall -g -O2 -Wall -ffast-math -O3 -DUSING_R -c bgx_frontend.cc -o bgx_frontend.o
gcc -I"/home/biocbuild/bbs-3.18-bioc/R/include" -DNDEBUG -I ../boostIncl -I'/home/biocbuild/bbs-3.18-bioc/R/site-library/Rcpp/include' -I/usr/local/include -fpic -g -O2 -Wall -g -O2 -Wall -ffast-math -O3 -c qnorm.c -o qnorm.o
g++ -std=gnu++17 -I"/home/biocbuild/bbs-3.18-bioc/R/include" -DNDEBUG -I ../boostIncl -I'/home/biocbuild/bbs-3.18-bioc/R/site-library/Rcpp/include' -I/usr/local/include -fpic -g -O2 -Wall -g -O2 -Wall -ffast-math -O3 -DUSING_R -c rundir.cc -o rundir.o
g++ -std=gnu++17 -I"/home/biocbuild/bbs-3.18-bioc/R/include" -DNDEBUG -I ../boostIncl -I'/home/biocbuild/bbs-3.18-bioc/R/site-library/Rcpp/include' -I/usr/local/include -fpic -g -O2 -Wall -g -O2 -Wall -ffast-math -O3 -DUSING_R -c sokal.cc -o sokal.o
g++ -std=gnu++17 -shared -L/home/biocbuild/bbs-3.18-bioc/R/lib -L/usr/local/lib -o bgx.so bgx.o bgx_frontend.o qnorm.o rundir.o sokal.o -lm -L/home/biocbuild/bbs-3.18-bioc/R/lib -lR
rm -r ../boostIncl
installing to /home/biocbuild/bbs-3.18-bioc/R/site-library/00LOCK-bgx/00new/bgx/libs
** R
** byte-compile and prepare package for lazy loading
** help
*** installing help indices
** building package indices
** installing vignettes
** testing if installed package can be loaded from temporary location
** checking absolute paths in shared objects and dynamic libraries
** testing if installed package can be loaded from final location
** testing if installed package keeps a record of temporary installation path
* DONE (bgx)