| Back to Multiple platform build/check report for BioC 3.18: simplified long |
|
This page was generated on 2023-11-02 11:40:24 -0400 (Thu, 02 Nov 2023).
| Hostname | OS | Arch (*) | R version | Installed pkgs |
|---|---|---|---|---|
| nebbiolo2 | Linux (Ubuntu 22.04.2 LTS) | x86_64 | 4.3.1 (2023-06-16) -- "Beagle Scouts" | 4729 |
| palomino4 | Windows Server 2022 Datacenter | x64 | 4.3.1 (2023-06-16 ucrt) -- "Beagle Scouts" | 4463 |
| lconway | macOS 12.6.5 Monterey | x86_64 | 4.3.1 Patched (2023-06-17 r84564) -- "Beagle Scouts" | 4478 |
| kunpeng2 | Linux (openEuler 22.03 LTS-SP1) | aarch64 | 4.3.1 (2023-06-16) -- "Beagle Scouts" | 4464 |
| Click on any hostname to see more info about the system (e.g. compilers) (*) as reported by 'uname -p', except on Windows and Mac OS X | ||||
| Package 68/2266 | Hostname | OS / Arch | INSTALL | BUILD | CHECK | BUILD BIN | ||||||||
| annotate 1.80.0 (landing page) Bioconductor Package Maintainer
| nebbiolo2 | Linux (Ubuntu 22.04.2 LTS) / x86_64 | OK | OK | OK | |||||||||
| palomino4 | Windows Server 2022 Datacenter / x64 | OK | OK | OK | OK | |||||||||
| lconway | macOS 12.6.5 Monterey / x86_64 | OK | ERROR | skipped | skipped | |||||||||
| kjohnson1 | macOS 13.6.1 Ventura / arm64 | see weekly results here | ||||||||||||
| kunpeng2 | Linux (openEuler 22.03 LTS-SP1) / aarch64 | OK | OK | ERROR | ||||||||||
|
To the developers/maintainers of the annotate package: - Allow up to 24 hours (and sometimes 48 hours) for your latest push to git@git.bioconductor.org:packages/annotate.git to reflect on this report. See Troubleshooting Build Report for more information. - Use the following Renviron settings to reproduce errors and warnings. - If 'R CMD check' started to fail recently on the Linux builder(s) over a missing dependency, add the missing dependency to 'Suggests:' in your DESCRIPTION file. See Renviron.bioc for more information. - See Martin Grigorov's blog post for how to debug Linux ARM64 related issues on a x86_64 host. |
| Package: annotate |
| Version: 1.80.0 |
| Command: /home/biocbuild/R/R-4.3.1/bin/R CMD check --install=check:annotate.install-out.txt --library=/home/biocbuild/R/R-4.3.1/site-library --no-vignettes --timings annotate_1.80.0.tar.gz |
| StartedAt: 2023-11-02 08:19:09 -0000 (Thu, 02 Nov 2023) |
| EndedAt: 2023-11-02 08:26:31 -0000 (Thu, 02 Nov 2023) |
| EllapsedTime: 441.9 seconds |
| RetCode: 137 |
| Status: ERROR |
| CheckDir: annotate.Rcheck |
| Warnings: NA |
##############################################################################
##############################################################################
###
### Running command:
###
### /home/biocbuild/R/R-4.3.1/bin/R CMD check --install=check:annotate.install-out.txt --library=/home/biocbuild/R/R-4.3.1/site-library --no-vignettes --timings annotate_1.80.0.tar.gz
###
##############################################################################
##############################################################################
* using log directory ‘/home/biocbuild/bbs-3.18-bioc/meat/annotate.Rcheck’
* using R version 4.3.1 (2023-06-16)
* using platform: aarch64-unknown-linux-gnu (64-bit)
* R was compiled by
gcc (GCC) 10.3.1
GNU Fortran (GCC) 10.3.1
* running under: openEuler 22.03 (LTS-SP1)
* using session charset: UTF-8
* using option ‘--no-vignettes’
* checking for file ‘annotate/DESCRIPTION’ ... OK
* this is package ‘annotate’ version ‘1.80.0’
* checking package namespace information ... OK
* checking package dependencies ... OK
* checking if this is a source package ... OK
* checking if there is a namespace ... OK
* checking for hidden files and directories ... OK
* checking for portable file names ... OK
* checking for sufficient/correct file permissions ... OK
* checking whether package ‘annotate’ can be installed ... OK
* checking installed package size ... OK
* checking package directory ... OK
* checking ‘build’ directory ... OK
* checking DESCRIPTION meta-information ... OK
* checking top-level files ... OK
* checking for left-over files ... OK
* checking index information ... OK
* checking package subdirectories ... OK
* checking R files for non-ASCII characters ... OK
* checking R files for syntax errors ... OK
* checking whether the package can be loaded ... OK
* checking whether the package can be loaded with stated dependencies ... OK
* checking whether the package can be unloaded cleanly ... OK
* checking whether the namespace can be loaded with stated dependencies ... OK
* checking whether the namespace can be unloaded cleanly ... OK
* checking loading without being on the library search path ... OK
* checking startup messages can be suppressed ... OK
* checking dependencies in R code ... NOTE
Unexported object imported by a ':::' call: ‘BiocGenerics:::testPackage’
See the note in ?`:::` about the use of this operator.
* checking S3 generic/method consistency ... OK
* checking replacement functions ... OK
* checking foreign function calls ... OK
* checking R code for possible problems ... OK
* checking Rd files ... NOTE
checkRd: (-1) chrCats.Rd:13: Escaped LaTeX specials: \_
checkRd: (-1) chrCats.Rd:14: Escaped LaTeX specials: \_
checkRd: (-1) chrCats.Rd:47: Escaped LaTeX specials: \_
checkRd: (-1) chrCats.Rd:53: Escaped LaTeX specials: \_
checkRd: (-1) chrCats.Rd:60: Escaped LaTeX specials: \_
checkRd: (-1) chrCats.Rd:69: Escaped LaTeX specials: \_ \_
checkRd: (-1) chrCats.Rd:77: Escaped LaTeX specials: \_
checkRd: (-1) htmlpage.Rd:56: Escaped LaTeX specials: \_
checkRd: (-1) htmlpage.Rd:57: Escaped LaTeX specials: \_
* checking Rd metadata ... OK
* checking Rd cross-references ... OK
* checking for missing documentation entries ... OK
* checking for code/documentation mismatches ... OK
* checking Rd \usage sections ... OK
* checking Rd contents ... OK
* checking for unstated dependencies in examples ... OK
* checking contents of ‘data’ directory ... OK
* checking data for non-ASCII characters ... OK
* checking data for ASCII and uncompressed saves ... OK
* checking files in ‘vignettes’ ... OK
* checking examples .../home/biocbuild/R/R-4.3.1/bin/check: line 10: 325140 Done echo 'tools:::.check_packages()'
325141 Killed | R_DEFAULT_PACKAGES= LC_COLLATE=C "${R_HOME}/bin/R" --no-restore --no-echo --args ${args}
annotate.Rcheck/00install.out
############################################################################## ############################################################################## ### ### Running command: ### ### /home/biocbuild/R/R-4.3.1/bin/R CMD INSTALL annotate ### ############################################################################## ############################################################################## * installing to library ‘/home/biocbuild/R/R-4.3.1/site-library’ * installing *source* package ‘annotate’ ... ** using staged installation ** R ** data ** inst ** byte-compile and prepare package for lazy loading ** help *** installing help indices ** building package indices ** installing vignettes ** testing if installed package can be loaded from temporary location ** testing if installed package can be loaded from final location ** testing if installed package keeps a record of temporary installation path * DONE (annotate)
annotate.Rcheck/annotate-Ex.timings
| name | user | system | elapsed | |
| ACCNUMStats | 2.130 | 0.032 | 2.167 | |
| GO2heatmap | 0.130 | 0.024 | 0.155 | |
| GOmnplot | 0.043 | 0.008 | 0.051 | |
| HTMLPage-class | 0 | 0 | 0 | |
| LL2homology | 0 | 0 | 0 | |
| PMIDAmat | 0.102 | 0.008 | 0.119 | |
| PWAmat | 1.997 | 0.080 | 2.081 | |
| UniGeneQuery | 0.001 | 0.000 | 0.001 | |
| accessionToUID | 0.378 | 0.087 | 10.780 | |
| annPkgName | 0.001 | 0.000 | 0.001 | |
| aqListGOIDs | 0.146 | 0.052 | 0.212 | |
| blastSequences | 158.604 | 9.214 | 219.681 | |
| buildChromLocation | 1.318 | 0.068 | 1.466 | |
| buildPubMedAbst | 0.042 | 0.003 | 1.593 | |
| chrCats | 14.538 | 0.124 | 14.721 | |
| chromLocation-class | 0.841 | 0.019 | 0.954 | |
| compatibleVersions | 0.050 | 0.005 | 0.058 | |
| dropECode | 0.048 | 0.004 | 0.058 | |
| entrezGeneByID | 0.001 | 0.000 | 0.000 | |
| entrezGeneQuery | 0.001 | 0.000 | 0.001 | |
| filterGOByOntology | 0.052 | 0.011 | 0.084 | |
| findNeighbors | 0.024 | 0.000 | 0.033 | |
| genbank | 0.245 | 0.020 | 3.262 | |
| getAnnMap | 0.025 | 0.008 | 0.034 | |
| getEvidence | 0.073 | 0.000 | 0.074 | |
| getGOTerm | 0.237 | 0.102 | 0.505 | |
| getOntology | 0.042 | 0.016 | 0.074 | |
| getPMInfo | 0.479 | 0.497 | 4.120 | |
| getSYMBOL | 0.138 | 0.024 | 0.196 | |
| getSeq4Acc | 0.017 | 0.000 | 1.515 | |
| hasGOannote | 0.030 | 0.000 | 0.031 | |
| hgByChroms | 0.004 | 0.012 | 0.017 | |
| hgCLengths | 0.001 | 0.000 | 0.002 | |
| hgu95Achroloc | 0.059 | 0.004 | 0.065 | |
| hgu95Achrom | 0.054 | 0.000 | 0.055 | |
| hgu95All | 0.089 | 0.004 | 0.095 | |
| hgu95Asym | 0.056 | 0.004 | 0.061 | |
| homoData-class | 0.000 | 0.003 | 0.003 | |
| htmlpage | 0.023 | 0.000 | 0.026 | |
| isValidkey | 0.000 | 0.000 | 0.001 | |
| makeAnchor | 0.001 | 0.000 | 0.001 | |
| organism | 0.957 | 0.020 | 1.049 | |
| p2LL | 0 | 0 | 0 | |
| pm.abstGrep | 1.209 | 0.241 | 4.364 | |
| pm.getabst | 1.241 | 0.032 | 4.243 | |
| pm.titles | 1.676 | 0.104 | 4.755 | |
| pmAbst2HTML | 0.070 | 0.007 | 1.589 | |
| pmid2MIAME | 0.001 | 0.000 | 0.000 | |
| pmidQuery | 0.001 | 0.000 | 0.000 | |
| pubMedAbst-class | 0.041 | 0.000 | 1.606 | |
| pubmed | 0.018 | 0.008 | 1.853 | |
| readGEOAnn | 0 | 0 | 0 | |
| serializeEnv | 0.000 | 0.001 | 0.002 | |
| setRepository | 0.000 | 0.001 | 0.001 | |
| updateSymbolsToValidKeys | 0 | 0 | 0 | |
| usedChromGenes | 0.078 | 0.002 | 0.081 | |