| Back to Multiple platform build/check report for BioC 3.18: simplified long |
|
This page was generated on 2024-04-17 11:36:31 -0400 (Wed, 17 Apr 2024).
| Hostname | OS | Arch (*) | R version | Installed pkgs |
|---|---|---|---|---|
| nebbiolo2 | Linux (Ubuntu 22.04.3 LTS) | x86_64 | 4.3.3 (2024-02-29) -- "Angel Food Cake" | 4676 |
| palomino4 | Windows Server 2022 Datacenter | x64 | 4.3.3 (2024-02-29 ucrt) -- "Angel Food Cake" | 4414 |
| merida1 | macOS 12.7.1 Monterey | x86_64 | 4.3.3 (2024-02-29) -- "Angel Food Cake" | 4437 |
| Click on any hostname to see more info about the system (e.g. compilers) (*) as reported by 'uname -p', except on Windows and Mac OS X | ||||
| Package 20/2266 | Hostname | OS / Arch | INSTALL | BUILD | CHECK | BUILD BIN | ||||||||
| adverSCarial 1.0.0 (landing page) Ghislain FIEVET
| nebbiolo2 | Linux (Ubuntu 22.04.3 LTS) / x86_64 | OK | OK | OK | |||||||||
| palomino4 | Windows Server 2022 Datacenter / x64 | OK | OK | OK | OK | |||||||||
| merida1 | macOS 12.7.1 Monterey / x86_64 | OK | OK | OK | OK | |||||||||
| kjohnson1 | macOS 13.6.1 Ventura / arm64 | see weekly results here | ||||||||||||
|
To the developers/maintainers of the adverSCarial package: - Allow up to 24 hours (and sometimes 48 hours) for your latest push to git@git.bioconductor.org:packages/adverSCarial.git to reflect on this report. See Troubleshooting Build Report for more information. - Use the following Renviron settings to reproduce errors and warnings. - If 'R CMD check' started to fail recently on the Linux builder(s) over a missing dependency, add the missing dependency to 'Suggests:' in your DESCRIPTION file. See Renviron.bioc for more information. |
| Package: adverSCarial |
| Version: 1.0.0 |
| Command: F:\biocbuild\bbs-3.18-bioc\R\bin\R.exe CMD check --no-multiarch --install=check:adverSCarial.install-out.txt --library=F:\biocbuild\bbs-3.18-bioc\R\library --no-vignettes --timings adverSCarial_1.0.0.tar.gz |
| StartedAt: 2024-04-15 22:07:59 -0400 (Mon, 15 Apr 2024) |
| EndedAt: 2024-04-15 22:10:20 -0400 (Mon, 15 Apr 2024) |
| EllapsedTime: 141.4 seconds |
| RetCode: 0 |
| Status: OK |
| CheckDir: adverSCarial.Rcheck |
| Warnings: 0 |
##############################################################################
##############################################################################
###
### Running command:
###
### F:\biocbuild\bbs-3.18-bioc\R\bin\R.exe CMD check --no-multiarch --install=check:adverSCarial.install-out.txt --library=F:\biocbuild\bbs-3.18-bioc\R\library --no-vignettes --timings adverSCarial_1.0.0.tar.gz
###
##############################################################################
##############################################################################
* using log directory 'F:/biocbuild/bbs-3.18-bioc/meat/adverSCarial.Rcheck'
* using R version 4.3.3 (2024-02-29 ucrt)
* using platform: x86_64-w64-mingw32 (64-bit)
* R was compiled by
gcc.exe (GCC) 12.3.0
GNU Fortran (GCC) 12.3.0
* running under: Windows Server 2022 x64 (build 20348)
* using session charset: UTF-8
* using option '--no-vignettes'
* checking for file 'adverSCarial/DESCRIPTION' ... OK
* this is package 'adverSCarial' version '1.0.0'
* package encoding: UTF-8
* checking package namespace information ... OK
* checking package dependencies ... OK
* checking if this is a source package ... OK
* checking if there is a namespace ... OK
* checking for hidden files and directories ... OK
* checking for portable file names ... OK
* checking whether package 'adverSCarial' can be installed ... OK
* checking installed package size ... OK
* checking package directory ... OK
* checking 'build' directory ... OK
* checking DESCRIPTION meta-information ... OK
* checking top-level files ... OK
* checking for left-over files ... OK
* checking index information ... OK
* checking package subdirectories ... OK
* checking R files for non-ASCII characters ... OK
* checking R files for syntax errors ... OK
* checking whether the package can be loaded ... OK
* checking whether the package can be loaded with stated dependencies ... OK
* checking whether the package can be unloaded cleanly ... OK
* checking whether the namespace can be loaded with stated dependencies ... OK
* checking whether the namespace can be unloaded cleanly ... OK
* checking dependencies in R code ... OK
* checking S3 generic/method consistency ... OK
* checking replacement functions ... OK
* checking foreign function calls ... OK
* checking R code for possible problems ... NOTE
.advModificationsFunction: no visible global function definition for
'is'
.advModificationsFunction : <anonymous>: no visible global function
definition for 'is'
.advModificationsNotFunction: no visible global function definition for
'is'
.advModificationsNotFunction: no visible global function definition for
'counts'
.advModificationsNotFunction : <anonymous>: no visible global function
definition for 'is'
.randWalkGetSeed: no visible global function definition for
'SingleCellExperiment'
.randWalkGetSeed: no visible global function definition for 'is'
.randWalkTryNewVector: no visible global function definition for
'SingleCellExperiment'
.randWalkTryNewVector: no visible global function definition for 'is'
MClassifier: no visible global function definition for 'is'
MClassifier: no visible global function definition for 'counts'
advChar: no visible global function definition for 'new'
advGridMinChange: no visible global function definition for 'is'
advGridMinChange: no visible global function definition for 'counts'
advGridMinChange: no visible global function definition for
'SingleCellExperiment'
advList: no visible global function definition for 'new'
advMaxChange: no visible global function definition for 'is'
advMaxChange: no visible global function definition for 'counts'
advMaxChange: no visible global function definition for 'new'
advModifications: no visible global function definition for 'is'
advModifications: no visible global function definition for 'counts'
advModifications: no visible global function definition for
'SingleCellExperiment'
advRandWalkMinChange: no visible global function definition for 'is'
advRandWalkMinChange: no visible global function definition for
'counts'
advSingleGene: no visible global function definition for 'is'
advSingleGene: no visible global function definition for 'counts'
advSingleGene: no visible binding for '<<-' assignment to
'lastResLength'
advSingleGene : <anonymous>: no visible binding for global variable
'lastResLength'
advSingleGene : <anonymous>: no visible binding for '<<-' assignment to
'lastResLength'
advSingleGene: no visible global function definition for 'new'
matrixFromSCE: no visible global function definition for 'is'
matrixFromSCE: no visible global function definition for 'colData'
maxChangeOverview: no visible global function definition for 'is'
maxChangeOverview: no visible global function definition for 'counts'
predictWithNewValue: no visible global function definition for 'is'
sceConvertToHGNC: no visible global function definition for 'is'
sceConvertToHGNC: no visible global function definition for
'SingleCellExperiment'
sceConvertToHGNC: no visible global function definition for 'colData'
singleGeneOverview: no visible global function definition for 'is'
singleGeneOverview: no visible global function definition for 'counts'
Undefined global functions or variables:
SingleCellExperiment colData counts is lastResLength new
Consider adding
importFrom("methods", "is", "new")
to your NAMESPACE file (and ensure that your DESCRIPTION Imports field
contains 'methods').
* checking Rd files ... OK
* checking Rd metadata ... OK
* checking Rd cross-references ... OK
* checking for missing documentation entries ... OK
* checking for code/documentation mismatches ... OK
* checking Rd \usage sections ... OK
* checking Rd contents ... OK
* checking for unstated dependencies in examples ... OK
* checking files in 'vignettes' ... NOTE
The following directory looks like a leftover from 'knitr':
'figure'
Please remove from your package.
* checking examples ... OK
Examples with CPU (user + system) or elapsed time > 5s
user system elapsed
MClassifier 27.28 3.70 62.77
advChar 10.22 1.89 12.10
matrixFromSCE 9.45 1.45 11.05
sceConvertToHGNC 9.59 1.09 10.81
* checking for unstated dependencies in 'tests' ... OK
* checking tests ...
Running 'runTests.R'
OK
* checking for unstated dependencies in vignettes ... OK
* checking package vignettes in 'inst/doc' ... OK
* checking running R code from vignettes ... SKIPPED
* checking re-building of vignette outputs ... SKIPPED
* checking PDF version of manual ... OK
* DONE
Status: 2 NOTEs
See
'F:/biocbuild/bbs-3.18-bioc/meat/adverSCarial.Rcheck/00check.log'
for details.
adverSCarial.Rcheck/00install.out
############################################################################## ############################################################################## ### ### Running command: ### ### F:\biocbuild\bbs-3.18-bioc\R\bin\R.exe CMD INSTALL adverSCarial ### ############################################################################## ############################################################################## * installing to library 'F:/biocbuild/bbs-3.18-bioc/R/library' * installing *source* package 'adverSCarial' ... ** using staged installation ** R ** inst ** byte-compile and prepare package for lazy loading ** help *** installing help indices ** building package indices ** installing vignettes ** testing if installed package can be loaded from temporary location ** testing if installed package can be loaded from final location ** testing if installed package keeps a record of temporary installation path * DONE (adverSCarial)
adverSCarial.Rcheck/tests/runTests.Rout
R version 4.3.3 (2024-02-29 ucrt) -- "Angel Food Cake"
Copyright (C) 2024 The R Foundation for Statistical Computing
Platform: x86_64-w64-mingw32/x64 (64-bit)
R is free software and comes with ABSOLUTELY NO WARRANTY.
You are welcome to redistribute it under certain conditions.
Type 'license()' or 'licence()' for distribution details.
R is a collaborative project with many contributors.
Type 'contributors()' for more information and
'citation()' on how to cite R or R packages in publications.
Type 'demo()' for some demos, 'help()' for on-line help, or
'help.start()' for an HTML browser interface to help.
Type 'q()' to quit R.
> BiocGenerics:::testPackage("adverSCarial")
Converting exprs object to a DelayedArray object
Running combination: 1 on 3
Running combination: 2 on 3
Running combination: 3 on 3
result length: 3
Converting exprs object to a DelayedArray object
Running first batch to determine walk seed: 1 on 3
Running first batch to determine walk seed: 2 on 3
Running first batch to determine walk seed: 3 on 3
No modified type, try with a higher firstBatch argument
Split number: 1/100
Split number: 2/100
Split number: 4/100
Split time: 0.000200033187866211
Split number: 8/100
Split time: 0.000133037567138672
Split number: 16/100
Split time: 0.000115871429443359
Split number: 32/100
Split time: 0.00012516975402832
Split number: 64/100
Split time: 0.000151872634887695
Split number: 100/100
Split time: 0.000165939331054688
result length: 3
result length: 3
Split number: 1/100
Split number: 2/100
Split number: 4/100
Split time: 0.000201940536499023
Split number: 8/100
Split time: 0.000121116638183594
Split number: 16/100
Split time: 0.000123023986816406
Split number: 32/100
Split time: 0.000125885009765625
Split number: 64/100
Split time: 0.000140905380249023
Split number: 100/100
Split time: 0.000131845474243164
Split number: 1/100
Split number: 2/100
Split number: 4/100
Split time: 0.000196933746337891
Split number: 8/100
Split time: 0.000120878219604492
Split number: 16/100
Split time: 0.000125885009765625
Split number: 32/100
Split time: 0.0001220703125
Split number: 64/100
Split time: 0.000128030776977539
Split number: 100/100
Split time: 0.000142097473144531
Split number: 1/100
Split number: 2/100
Split number: 4/100
Split time: 0.000185012817382812
Split number: 8/100
Split time: 0.000123023986816406
Split number: 16/100
Split time: 0.0001220703125
Split number: 32/100
Split time: 0.000132083892822266
Split number: 64/100
Split time: 0.00013279914855957
Split number: 100/100
Split time: 0.00012516975402832
Split number: 1/100
Split number: 2/100
Split number: 4/100
Split time: 0.000180959701538086
Split number: 8/100
Split time: 0.000126123428344727
Split number: 16/100
Split time: 0.000119209289550781
Split number: 32/100
Split time: 0.0141751766204834
Split number: 64/100
Split time: 0.000153064727783203
Split number: 100/100
Split time: 0.000142097473144531
RUNIT TEST PROTOCOL -- Mon Apr 15 22:10:11 2024
***********************************************
Number of test functions: 8
Number of errors: 0
Number of failures: 0
1 Test Suite :
adverSCarial RUnit Tests - 8 test functions, 0 errors, 0 failures
Number of test functions: 8
Number of errors: 0
Number of failures: 0
>
> proc.time()
user system elapsed
4.39 0.35 4.68
adverSCarial.Rcheck/adverSCarial-Ex.timings
| name | user | system | elapsed | |
| MClassifier | 27.28 | 3.70 | 62.77 | |
| advChar | 10.22 | 1.89 | 12.10 | |
| advGridMinChange | 0.72 | 0.03 | 0.78 | |
| advList | 0.02 | 0.00 | 0.01 | |
| advMaxChange | 0.22 | 0.00 | 0.22 | |
| advModifications | 0.21 | 0.08 | 0.28 | |
| advRandWalkMinChange | 0.45 | 0.06 | 0.52 | |
| advSingleGene | 0.23 | 0.02 | 0.25 | |
| matrixFromSCE | 9.45 | 1.45 | 11.05 | |
| maxChangeOverview | 0.30 | 0.05 | 0.35 | |
| predictWithNewValue | 0.24 | 0.05 | 0.28 | |
| sceConvertToHGNC | 9.59 | 1.09 | 10.81 | |
| singleGeneOverview | 0.22 | 0.05 | 0.27 | |