| Back to Multiple platform build/check report for BioC 3.18: simplified long |
|
This page was generated on 2024-04-17 11:37:28 -0400 (Wed, 17 Apr 2024).
| Hostname | OS | Arch (*) | R version | Installed pkgs |
|---|---|---|---|---|
| nebbiolo2 | Linux (Ubuntu 22.04.3 LTS) | x86_64 | 4.3.3 (2024-02-29) -- "Angel Food Cake" | 4676 |
| palomino4 | Windows Server 2022 Datacenter | x64 | 4.3.3 (2024-02-29 ucrt) -- "Angel Food Cake" | 4414 |
| merida1 | macOS 12.7.1 Monterey | x86_64 | 4.3.3 (2024-02-29) -- "Angel Food Cake" | 4437 |
| Click on any hostname to see more info about the system (e.g. compilers) (*) as reported by 'uname -p', except on Windows and Mac OS X | ||||
| Package 20/2266 | Hostname | OS / Arch | INSTALL | BUILD | CHECK | BUILD BIN | ||||||||
| adverSCarial 1.0.0 (landing page) Ghislain FIEVET
| nebbiolo2 | Linux (Ubuntu 22.04.3 LTS) / x86_64 | OK | OK | OK | |||||||||
| palomino4 | Windows Server 2022 Datacenter / x64 | OK | OK | OK | OK | |||||||||
| merida1 | macOS 12.7.1 Monterey / x86_64 | OK | OK | OK | OK | |||||||||
| kjohnson1 | macOS 13.6.1 Ventura / arm64 | see weekly results here | ||||||||||||
|
To the developers/maintainers of the adverSCarial package: - Allow up to 24 hours (and sometimes 48 hours) for your latest push to git@git.bioconductor.org:packages/adverSCarial.git to reflect on this report. See Troubleshooting Build Report for more information. - Use the following Renviron settings to reproduce errors and warnings. - If 'R CMD check' started to fail recently on the Linux builder(s) over a missing dependency, add the missing dependency to 'Suggests:' in your DESCRIPTION file. See Renviron.bioc for more information. |
| Package: adverSCarial |
| Version: 1.0.0 |
| Command: /Library/Frameworks/R.framework/Resources/bin/R CMD check --install=check:adverSCarial.install-out.txt --library=/Library/Frameworks/R.framework/Resources/library --no-vignettes --timings adverSCarial_1.0.0.tar.gz |
| StartedAt: 2024-04-15 23:03:57 -0400 (Mon, 15 Apr 2024) |
| EndedAt: 2024-04-15 23:07:00 -0400 (Mon, 15 Apr 2024) |
| EllapsedTime: 183.2 seconds |
| RetCode: 0 |
| Status: OK |
| CheckDir: adverSCarial.Rcheck |
| Warnings: 0 |
##############################################################################
##############################################################################
###
### Running command:
###
### /Library/Frameworks/R.framework/Resources/bin/R CMD check --install=check:adverSCarial.install-out.txt --library=/Library/Frameworks/R.framework/Resources/library --no-vignettes --timings adverSCarial_1.0.0.tar.gz
###
##############################################################################
##############################################################################
* using log directory ‘/Users/biocbuild/bbs-3.18-bioc/meat/adverSCarial.Rcheck’
* using R version 4.3.3 (2024-02-29)
* using platform: x86_64-apple-darwin20 (64-bit)
* R was compiled by
Apple clang version 14.0.0 (clang-1400.0.29.202)
GNU Fortran (GCC) 12.2.0
* running under: macOS Monterey 12.7.1
* using session charset: UTF-8
* using option ‘--no-vignettes’
* checking for file ‘adverSCarial/DESCRIPTION’ ... OK
* this is package ‘adverSCarial’ version ‘1.0.0’
* package encoding: UTF-8
* checking package namespace information ... OK
* checking package dependencies ... OK
* checking if this is a source package ... OK
* checking if there is a namespace ... OK
* checking for hidden files and directories ... OK
* checking for portable file names ... OK
* checking for sufficient/correct file permissions ... OK
* checking whether package ‘adverSCarial’ can be installed ... OK
* checking installed package size ... OK
* checking package directory ... OK
* checking ‘build’ directory ... OK
* checking DESCRIPTION meta-information ... OK
* checking top-level files ... OK
* checking for left-over files ... OK
* checking index information ... OK
* checking package subdirectories ... OK
* checking R files for non-ASCII characters ... OK
* checking R files for syntax errors ... OK
* checking whether the package can be loaded ... OK
* checking whether the package can be loaded with stated dependencies ... OK
* checking whether the package can be unloaded cleanly ... OK
* checking whether the namespace can be loaded with stated dependencies ... OK
* checking whether the namespace can be unloaded cleanly ... OK
* checking dependencies in R code ... OK
* checking S3 generic/method consistency ... OK
* checking replacement functions ... OK
* checking foreign function calls ... OK
* checking R code for possible problems ... NOTE
.advModificationsFunction: no visible global function definition for
‘is’
.advModificationsFunction : <anonymous>: no visible global function
definition for ‘is’
.advModificationsNotFunction: no visible global function definition for
‘is’
.advModificationsNotFunction: no visible global function definition for
‘counts’
.advModificationsNotFunction : <anonymous>: no visible global function
definition for ‘is’
.randWalkGetSeed: no visible global function definition for
‘SingleCellExperiment’
.randWalkGetSeed: no visible global function definition for ‘is’
.randWalkTryNewVector: no visible global function definition for
‘SingleCellExperiment’
.randWalkTryNewVector: no visible global function definition for ‘is’
MClassifier: no visible global function definition for ‘is’
MClassifier: no visible global function definition for ‘counts’
advChar: no visible global function definition for ‘new’
advGridMinChange: no visible global function definition for ‘is’
advGridMinChange: no visible global function definition for ‘counts’
advGridMinChange: no visible global function definition for
‘SingleCellExperiment’
advList: no visible global function definition for ‘new’
advMaxChange: no visible global function definition for ‘is’
advMaxChange: no visible global function definition for ‘counts’
advMaxChange: no visible global function definition for ‘new’
advModifications: no visible global function definition for ‘is’
advModifications: no visible global function definition for ‘counts’
advModifications: no visible global function definition for
‘SingleCellExperiment’
advRandWalkMinChange: no visible global function definition for ‘is’
advRandWalkMinChange: no visible global function definition for
‘counts’
advSingleGene: no visible global function definition for ‘is’
advSingleGene: no visible global function definition for ‘counts’
advSingleGene: no visible binding for '<<-' assignment to
‘lastResLength’
advSingleGene : <anonymous>: no visible binding for global variable
‘lastResLength’
advSingleGene : <anonymous>: no visible binding for '<<-' assignment to
‘lastResLength’
advSingleGene: no visible global function definition for ‘new’
matrixFromSCE: no visible global function definition for ‘is’
matrixFromSCE: no visible global function definition for ‘colData’
maxChangeOverview: no visible global function definition for ‘is’
maxChangeOverview: no visible global function definition for ‘counts’
predictWithNewValue: no visible global function definition for ‘is’
sceConvertToHGNC: no visible global function definition for ‘is’
sceConvertToHGNC: no visible global function definition for
‘SingleCellExperiment’
sceConvertToHGNC: no visible global function definition for ‘colData’
singleGeneOverview: no visible global function definition for ‘is’
singleGeneOverview: no visible global function definition for ‘counts’
Undefined global functions or variables:
SingleCellExperiment colData counts is lastResLength new
Consider adding
importFrom("methods", "is", "new")
to your NAMESPACE file (and ensure that your DESCRIPTION Imports field
contains 'methods').
* checking Rd files ... OK
* checking Rd metadata ... OK
* checking Rd cross-references ... OK
* checking for missing documentation entries ... OK
* checking for code/documentation mismatches ... OK
* checking Rd \usage sections ... OK
* checking Rd contents ... OK
* checking for unstated dependencies in examples ... OK
* checking files in ‘vignettes’ ... NOTE
The following directory looks like a leftover from 'knitr':
‘figure’
Please remove from your package.
* checking examples ... OK
Examples with CPU (user + system) or elapsed time > 5s
user system elapsed
MClassifier 39.263 3.643 52.794
advChar 18.854 1.550 22.023
matrixFromSCE 12.927 1.225 15.779
sceConvertToHGNC 13.011 0.955 15.425
* checking for unstated dependencies in ‘tests’ ... OK
* checking tests ...
Running ‘runTests.R’
OK
* checking for unstated dependencies in vignettes ... OK
* checking package vignettes in ‘inst/doc’ ... OK
* checking running R code from vignettes ... SKIPPED
* checking re-building of vignette outputs ... SKIPPED
* checking PDF version of manual ... OK
* DONE
Status: 2 NOTEs
See
‘/Users/biocbuild/bbs-3.18-bioc/meat/adverSCarial.Rcheck/00check.log’
for details.
adverSCarial.Rcheck/00install.out
############################################################################## ############################################################################## ### ### Running command: ### ### /Library/Frameworks/R.framework/Resources/bin/R CMD INSTALL adverSCarial ### ############################################################################## ############################################################################## * installing to library ‘/Library/Frameworks/R.framework/Versions/4.3-x86_64/Resources/library’ * installing *source* package ‘adverSCarial’ ... ** using staged installation ** R ** inst ** byte-compile and prepare package for lazy loading ** help *** installing help indices ** building package indices ** installing vignettes ** testing if installed package can be loaded from temporary location ** testing if installed package can be loaded from final location ** testing if installed package keeps a record of temporary installation path * DONE (adverSCarial)
adverSCarial.Rcheck/tests/runTests.Rout
R version 4.3.3 (2024-02-29) -- "Angel Food Cake"
Copyright (C) 2024 The R Foundation for Statistical Computing
Platform: x86_64-apple-darwin20 (64-bit)
R is free software and comes with ABSOLUTELY NO WARRANTY.
You are welcome to redistribute it under certain conditions.
Type 'license()' or 'licence()' for distribution details.
R is a collaborative project with many contributors.
Type 'contributors()' for more information and
'citation()' on how to cite R or R packages in publications.
Type 'demo()' for some demos, 'help()' for on-line help, or
'help.start()' for an HTML browser interface to help.
Type 'q()' to quit R.
> BiocGenerics:::testPackage("adverSCarial")
Converting exprs object to a DelayedArray object
Running combination: 1 on 3
Running combination: 2 on 3
Running combination: 3 on 3
result length: 3
Converting exprs object to a DelayedArray object
Running first batch to determine walk seed: 1 on 3
Running first batch to determine walk seed: 2 on 3
Running first batch to determine walk seed: 3 on 3
No modified type, try with a higher firstBatch argument
Split number: 1/100
Split number: 2/100
Split number: 4/100
Split time: 0.000388860702514648
Split number: 8/100
Split time: 0.000305891036987305
Split number: 16/100
Split time: 0.000298976898193359
Split number: 32/100
Split time: 0.000304937362670898
Split number: 64/100
Split time: 0.000319004058837891
Split number: 100/100
Split time: 0.000360965728759766
result length: 3
result length: 3
Split number: 1/100
Split number: 2/100
Split number: 4/100
Split time: 0.00041508674621582
Split number: 8/100
Split time: 0.000302791595458984
Split number: 16/100
Split time: 0.000313997268676758
Split number: 32/100
Split time: 0.000344991683959961
Split number: 64/100
Split time: 0.000342845916748047
Split number: 100/100
Split time: 0.000327110290527344
Split number: 1/100
Split number: 2/100
Split number: 4/100
Split time: 0.000440120697021484
Split number: 8/100
Split time: 0.000388145446777344
Split number: 16/100
Split time: 0.00031280517578125
Split number: 32/100
Split time: 0.000313997268676758
Split number: 64/100
Split time: 0.000325918197631836
Split number: 100/100
Split time: 0.000317096710205078
Split number: 1/100
Split number: 2/100
Split number: 4/100
Split time: 0.000416994094848633
Split number: 8/100
Split time: 0.000312089920043945
Split number: 16/100
Split time: 0.000570058822631836
Split number: 32/100
Split time: 0.000358819961547852
Split number: 64/100
Split time: 0.000328779220581055
Split number: 100/100
Split time: 0.000329017639160156
Split number: 1/100
Split number: 2/100
Split number: 4/100
Split time: 0.000409126281738281
Split number: 8/100
Split time: 0.000301122665405273
Split number: 16/100
Split time: 0.000321865081787109
Split number: 32/100
Split time: 0.000349998474121094
Split number: 64/100
Split time: 0.000334024429321289
Split number: 100/100
Split time: 0.000377893447875977
RUNIT TEST PROTOCOL -- Mon Apr 15 23:06:46 2024
***********************************************
Number of test functions: 8
Number of errors: 0
Number of failures: 0
1 Test Suite :
adverSCarial RUnit Tests - 8 test functions, 0 errors, 0 failures
Number of test functions: 8
Number of errors: 0
Number of failures: 0
>
> proc.time()
user system elapsed
9.642 0.578 10.622
adverSCarial.Rcheck/adverSCarial-Ex.timings
| name | user | system | elapsed | |
| MClassifier | 39.263 | 3.643 | 52.794 | |
| advChar | 18.854 | 1.550 | 22.023 | |
| advGridMinChange | 1.393 | 0.032 | 1.458 | |
| advList | 0.028 | 0.001 | 0.030 | |
| advMaxChange | 0.284 | 0.021 | 0.311 | |
| advModifications | 0.300 | 0.022 | 0.325 | |
| advRandWalkMinChange | 0.614 | 0.029 | 0.647 | |
| advSingleGene | 0.290 | 0.023 | 0.320 | |
| matrixFromSCE | 12.927 | 1.225 | 15.779 | |
| maxChangeOverview | 0.409 | 0.024 | 0.457 | |
| predictWithNewValue | 0.326 | 0.021 | 0.361 | |
| sceConvertToHGNC | 13.011 | 0.955 | 15.425 | |
| singleGeneOverview | 0.497 | 0.029 | 0.582 | |