| Back to Multiple platform build/check report for BioC 3.18: simplified long |
|
This page was generated on 2023-08-16 11:39:29 -0400 (Wed, 16 Aug 2023).
| Hostname | OS | Arch (*) | R version | Installed pkgs |
|---|---|---|---|---|
| nebbiolo2 | Linux (Ubuntu 22.04.2 LTS) | x86_64 | 4.3.1 (2023-06-16) -- "Beagle Scouts" | 4631 |
| palomino4 | Windows Server 2022 Datacenter | x64 | 4.3.1 (2023-06-16 ucrt) -- "Beagle Scouts" | 4369 |
| lconway | macOS 12.6.5 Monterey | x86_64 | 4.3.1 Patched (2023-06-17 r84564) -- "Beagle Scouts" | 4374 |
| kunpeng2 | Linux (openEuler 22.03 LTS-SP1) | aarch64 | 4.3.1 (2023-06-16) -- "Beagle Scouts" | 4371 |
| Click on any hostname to see more info about the system (e.g. compilers) (*) as reported by 'uname -p', except on Windows and Mac OS X | ||||
| Package 2088/2216 | Hostname | OS / Arch | INSTALL | BUILD | CHECK | BUILD BIN | ||||||||
| TimiRGeN 1.11.0 (landing page) Krutik Patel
| nebbiolo2 | Linux (Ubuntu 22.04.2 LTS) / x86_64 | OK | OK | OK | |||||||||
| palomino4 | Windows Server 2022 Datacenter / x64 | OK | OK | OK | OK | |||||||||
| lconway | macOS 12.6.5 Monterey / x86_64 | OK | OK | OK | OK | |||||||||
| kunpeng2 | Linux (openEuler 22.03 LTS-SP1) / aarch64 | OK | OK | OK | ||||||||||
| The builds on kunpeng2 (Linux ARM64) are experimental! |
|
To the developers/maintainers of the TimiRGeN package: - Allow up to 24 hours (and sometimes 48 hours) for your latest push to git@git.bioconductor.org:packages/TimiRGeN.git to reflect on this report. See Troubleshooting Build Report for more information. - Use the following Renviron settings to reproduce errors and warnings. - If 'R CMD check' started to fail recently on the Linux builder(s) over a missing dependency, add the missing dependency to 'Suggests:' in your DESCRIPTION file. See Renviron.bioc for more information. |
| Package: TimiRGeN |
| Version: 1.11.0 |
| Command: rm -rf TimiRGeN.buildbin-libdir && mkdir TimiRGeN.buildbin-libdir && /Users/biocbuild/BBS/utils/build-universal.sh TimiRGeN_1.11.0.tar.gz /Library/Frameworks/R.framework/Resources/bin/R TimiRGeN.buildbin-libdir |
| StartedAt: 2023-08-16 00:00:54 -0400 (Wed, 16 Aug 2023) |
| EndedAt: 2023-08-16 00:02:31 -0400 (Wed, 16 Aug 2023) |
| EllapsedTime: 96.3 seconds |
| RetCode: 0 |
| Status: OK |
| PackageFile: TimiRGeN_1.11.0.tgz |
| PackageFileSize: 2.842 MiB |
############################################################################## ############################################################################## ### ### Running command: ### ### rm -rf TimiRGeN.buildbin-libdir && mkdir TimiRGeN.buildbin-libdir && /Users/biocbuild/BBS/utils/build-universal.sh TimiRGeN_1.11.0.tar.gz /Library/Frameworks/R.framework/Resources/bin/R TimiRGeN.buildbin-libdir ### ############################################################################## ############################################################################## >>>>>>> >>>>>>> INSTALLATION WITH 'R CMD INSTALL --preclean --no-multiarch --library=TimiRGeN.buildbin-libdir TimiRGeN_1.11.0.tar.gz' >>>>>>> * installing *source* package ‘TimiRGeN’ ... ** using staged installation ** R ** data *** moving datasets to lazyload DB ** inst ** byte-compile and prepare package for lazy loading ** help *** installing help indices ** building package indices ** installing vignettes ** testing if installed package can be loaded from temporary location ** testing if installed package can be loaded from final location ** testing if installed package keeps a record of temporary installation path * DONE (TimiRGeN)