| Back to Multiple platform build/check report for BioC 3.18: simplified long | 
 | 
This page was generated on 2023-11-02 11:41:23 -0400 (Thu, 02 Nov 2023).
| Hostname | OS | Arch (*) | R version | Installed pkgs | 
|---|---|---|---|---|
| nebbiolo2 | Linux (Ubuntu 22.04.2 LTS) | x86_64 | 4.3.1 (2023-06-16) -- "Beagle Scouts" | 4729 | 
| palomino4 | Windows Server 2022 Datacenter | x64 | 4.3.1 (2023-06-16 ucrt) -- "Beagle Scouts" | 4463 | 
| lconway | macOS 12.6.5 Monterey | x86_64 | 4.3.1 Patched (2023-06-17 r84564) -- "Beagle Scouts" | 4478 | 
| kunpeng2 | Linux (openEuler 22.03 LTS-SP1) | aarch64 | 4.3.1 (2023-06-16) -- "Beagle Scouts" | 4464 | 
| Click on any hostname to see more info about the system (e.g. compilers) (*) as reported by 'uname -p', except on Windows and Mac OS X | ||||
| Package 2149/2266 | Hostname | OS / Arch | INSTALL | BUILD | CHECK | BUILD BIN | ||||||||
| TOP 1.2.0  (landing page) Harry Robertson 
 | nebbiolo2 | Linux (Ubuntu 22.04.2 LTS) / x86_64 | OK | OK | OK |  | ||||||||
| palomino4 | Windows Server 2022 Datacenter / x64 | OK | ERROR | skipped | skipped | |||||||||
| lconway | macOS 12.6.5 Monterey / x86_64 | OK | ERROR | skipped | skipped | |||||||||
| kjohnson1 | macOS 13.6.1 Ventura / arm64 | see weekly results here | ||||||||||||
| kunpeng2 | Linux (openEuler 22.03 LTS-SP1) / aarch64 | OK | OK | OK | ||||||||||
| To the developers/maintainers of the TOP package: - Allow up to 24 hours (and sometimes 48 hours) for your latest push to git@git.bioconductor.org:packages/TOP.git to reflect on this report. See Troubleshooting Build Report for more information. - Use the following Renviron settings to reproduce errors and warnings. - If 'R CMD check' started to fail recently on the Linux builder(s) over a missing dependency, add the missing dependency to 'Suggests:' in your DESCRIPTION file. See Renviron.bioc for more information. - See Martin Grigorov's blog post for how to debug Linux ARM64 related issues on a x86_64 host. | 
| Package: TOP | 
| Version: 1.2.0 | 
| Command: /home/biocbuild/R/R-4.3.1/bin/R CMD build --keep-empty-dirs --no-resave-data TOP | 
| StartedAt: 2023-11-02 07:07:37 -0000 (Thu, 02 Nov 2023) | 
| EndedAt: 2023-11-02 07:09:17 -0000 (Thu, 02 Nov 2023) | 
| EllapsedTime: 99.9 seconds | 
| RetCode: 0 | 
| Status: OK | 
| PackageFile: TOP_1.2.0.tar.gz | 
| PackageFileSize: 494.5 KiB | 
##############################################################################
##############################################################################
###
### Running command:
###
###   /home/biocbuild/R/R-4.3.1/bin/R CMD build --keep-empty-dirs --no-resave-data TOP
###
##############################################################################
##############################################################################
* checking for file ‘TOP/DESCRIPTION’ ... OK
* preparing ‘TOP’:
* checking DESCRIPTION meta-information ... OK
* installing the package to build vignettes
* creating vignettes ... OK
* checking for LF line-endings in source and make files and shell scripts
* checking for empty or unneeded directories
* looking to see if a ‘data/datalist’ file should be added
  NB: this package now depends on R (>= 3.5.0)
  WARNING: Added dependency on R >= 3.5.0 because serialized objects in
  serialize/load version 3 cannot be read in older versions of R.
  File(s) containing such objects:
    ‘TOP/data/TOP_data_binary.RData’
* building ‘TOP_1.2.0.tar.gz’