| Back to Multiple platform build/check report for BioC 3.18: simplified long |
|
This page was generated on 2024-03-04 11:37:54 -0500 (Mon, 04 Mar 2024).
| Hostname | OS | Arch (*) | R version | Installed pkgs |
|---|---|---|---|---|
| nebbiolo2 | Linux (Ubuntu 22.04.3 LTS) | x86_64 | 4.3.2 Patched (2023-11-13 r85521) -- "Eye Holes" | 4692 |
| palomino4 | Windows Server 2022 Datacenter | x64 | 4.3.2 (2023-10-31 ucrt) -- "Eye Holes" | 4445 |
| lconway | macOS 12.7.1 Monterey | x86_64 | 4.3.2 Patched (2023-11-01 r85457) -- "Eye Holes" | 4466 |
| Click on any hostname to see more info about the system (e.g. compilers) (*) as reported by 'uname -p', except on Windows and Mac OS X | ||||
| Package 2034/2266 | Hostname | OS / Arch | INSTALL | BUILD | CHECK | BUILD BIN | ||||||||
| SPLINTER 1.28.0 (landing page) Diana Low
| nebbiolo2 | Linux (Ubuntu 22.04.3 LTS) / x86_64 | OK | OK | OK | |||||||||
| palomino4 | Windows Server 2022 Datacenter / x64 | OK | OK | WARNINGS | OK | |||||||||
| lconway | macOS 12.7.1 Monterey / x86_64 | OK | OK | OK | OK | |||||||||
| kjohnson1 | macOS 13.6.1 Ventura / arm64 | see weekly results here | ||||||||||||
|
To the developers/maintainers of the SPLINTER package: - Allow up to 24 hours (and sometimes 48 hours) for your latest push to git@git.bioconductor.org:packages/SPLINTER.git to reflect on this report. See Troubleshooting Build Report for more information. - Use the following Renviron settings to reproduce errors and warnings. - If 'R CMD check' started to fail recently on the Linux builder(s) over a missing dependency, add the missing dependency to 'Suggests:' in your DESCRIPTION file. See Renviron.bioc for more information. |
| Package: SPLINTER |
| Version: 1.28.0 |
| Command: /Library/Frameworks/R.framework/Resources/bin/R CMD check --install=check:SPLINTER.install-out.txt --library=/Library/Frameworks/R.framework/Resources/library --no-vignettes --timings SPLINTER_1.28.0.tar.gz |
| StartedAt: 2024-03-03 23:42:18 -0500 (Sun, 03 Mar 2024) |
| EndedAt: 2024-03-03 23:48:41 -0500 (Sun, 03 Mar 2024) |
| EllapsedTime: 383.5 seconds |
| RetCode: 0 |
| Status: OK |
| CheckDir: SPLINTER.Rcheck |
| Warnings: 0 |
##############################################################################
##############################################################################
###
### Running command:
###
### /Library/Frameworks/R.framework/Resources/bin/R CMD check --install=check:SPLINTER.install-out.txt --library=/Library/Frameworks/R.framework/Resources/library --no-vignettes --timings SPLINTER_1.28.0.tar.gz
###
##############################################################################
##############################################################################
* using log directory ‘/Users/biocbuild/bbs-3.18-bioc/meat/SPLINTER.Rcheck’
* using R version 4.3.2 Patched (2023-11-01 r85457)
* using platform: x86_64-apple-darwin20 (64-bit)
* R was compiled by
Apple clang version 14.0.3 (clang-1403.0.22.14.1)
GNU Fortran (GCC) 12.2.0
* running under: macOS Monterey 12.7.1
* using session charset: UTF-8
* using option ‘--no-vignettes’
* checking for file ‘SPLINTER/DESCRIPTION’ ... OK
* checking extension type ... Package
* this is package ‘SPLINTER’ version ‘1.28.0’
* package encoding: UTF-8
* checking package namespace information ... OK
* checking package dependencies ... OK
* checking if this is a source package ... OK
* checking if there is a namespace ... OK
* checking for hidden files and directories ... OK
* checking for portable file names ... OK
* checking for sufficient/correct file permissions ... OK
* checking whether package ‘SPLINTER’ can be installed ... OK
* checking installed package size ... OK
* checking package directory ... OK
* checking ‘build’ directory ... OK
* checking DESCRIPTION meta-information ... OK
* checking top-level files ... OK
* checking for left-over files ... OK
* checking index information ... OK
* checking package subdirectories ... OK
* checking R files for non-ASCII characters ... OK
* checking R files for syntax errors ... OK
* checking whether the package can be loaded ... OK
* checking whether the package can be loaded with stated dependencies ... OK
* checking whether the package can be unloaded cleanly ... OK
* checking whether the namespace can be loaded with stated dependencies ... OK
* checking whether the namespace can be unloaded cleanly ... OK
* checking dependencies in R code ... OK
* checking S3 generic/method consistency ... OK
* checking replacement functions ... OK
* checking foreign function calls ... OK
* checking R code for possible problems ... OK
* checking Rd files ... OK
* checking Rd metadata ... OK
* checking Rd cross-references ... OK
* checking for missing documentation entries ... OK
* checking for code/documentation mismatches ... OK
* checking Rd \usage sections ... OK
* checking Rd contents ... OK
* checking for unstated dependencies in examples ... OK
* checking contents of ‘data’ directory ... OK
* checking data for non-ASCII characters ... OK
* checking LazyData ... OK
* checking data for ASCII and uncompressed saves ... OK
* checking sizes of PDF files under ‘inst/doc’ ... OK
* checking files in ‘vignettes’ ... OK
* checking examples ... OK
Examples with CPU (user + system) or elapsed time > 5s
user system elapsed
eventPlot 11.769 0.24 12.082
* checking for unstated dependencies in vignettes ... OK
* checking package vignettes in ‘inst/doc’ ... OK
* checking running R code from vignettes ... SKIPPED
* checking re-building of vignette outputs ... SKIPPED
* checking PDF version of manual ... OK
* DONE
Status: OK
SPLINTER.Rcheck/00install.out
############################################################################## ############################################################################## ### ### Running command: ### ### /Library/Frameworks/R.framework/Resources/bin/R CMD INSTALL SPLINTER ### ############################################################################## ############################################################################## * installing to library ‘/Library/Frameworks/R.framework/Versions/4.3-x86_64/Resources/library’ * installing *source* package ‘SPLINTER’ ... ** using staged installation ** R ** data *** moving datasets to lazyload DB ** inst ** byte-compile and prepare package for lazy loading ** help *** installing help indices ** building package indices ** installing vignettes ** testing if installed package can be loaded from temporary location ** testing if installed package can be loaded from final location ** testing if installed package keeps a record of temporary installation path * DONE (SPLINTER)
SPLINTER.Rcheck/SPLINTER-Ex.timings
| name | user | system | elapsed | |
| acceptor.m | 0.003 | 0.002 | 0.004 | |
| addEnsemblAnnotation | 1.171 | 0.009 | 1.185 | |
| callPrimer3 | 0 | 0 | 0 | |
| checkPrimer | 0.088 | 0.003 | 0.090 | |
| compatible_cds | 0.001 | 0.001 | 0.002 | |
| compatible_tx | 0.001 | 0.001 | 0.003 | |
| donor.m | 0.000 | 0.001 | 0.002 | |
| eventOutcomeCompare | 1.527 | 0.092 | 1.630 | |
| eventOutcomeTranslate | 0.535 | 0.043 | 0.581 | |
| eventPlot | 11.769 | 0.240 | 12.082 | |
| extendROI | 0.660 | 0.012 | 0.674 | |
| extractSpliceEvents | 0.003 | 0.001 | 0.003 | |
| extractSpliceSites | 0.070 | 0.001 | 0.070 | |
| findCompatibleEvents | 0.258 | 0.001 | 0.259 | |
| findCompatibleExon | 0.216 | 0.002 | 0.217 | |
| findTX | 0.017 | 0.001 | 0.017 | |
| getPCRsizes | 3.799 | 0.195 | 4.013 | |
| getRegionDNA | 0.392 | 0.024 | 0.420 | |
| insertRegion | 0.149 | 0.001 | 0.150 | |
| makeROI | 0.292 | 0.003 | 0.296 | |
| makeUniqueIDs | 0.005 | 0.000 | 0.005 | |
| pcr_result1 | 0.001 | 0.001 | 0.003 | |
| plot_seqlogo | 0.045 | 0.005 | 0.051 | |
| primers | 0.000 | 0.001 | 0.002 | |
| psiPlot | 0.263 | 0.019 | 0.283 | |
| region_minus_exon | 0.000 | 0.001 | 0.002 | |
| roi | 0.001 | 0.002 | 0.002 | |
| shapiroAcceptor | 0.597 | 0.036 | 0.641 | |
| shapiroDonor | 0.484 | 0.028 | 0.516 | |
| splice_data | 0.001 | 0.001 | 0.002 | |
| splice_fasta | 0.001 | 0.001 | 0.001 | |
| splitPCRhit | 0.002 | 0.000 | 0.002 | |
| thecds | 0.000 | 0.001 | 0.001 | |
| theexons | 0.000 | 0.001 | 0.001 | |
| valid_cds | 0.000 | 0.001 | 0.001 | |
| valid_tx | 0.000 | 0.001 | 0.001 | |