| Back to Multiple platform build/check report for BioC 3.18: simplified long |
|
This page was generated on 2023-10-24 11:41:34 -0400 (Tue, 24 Oct 2023).
| Hostname | OS | Arch (*) | R version | Installed pkgs |
|---|---|---|---|---|
| nebbiolo2 | Linux (Ubuntu 22.04.2 LTS) | x86_64 | 4.3.1 (2023-06-16) -- "Beagle Scouts" | 4724 |
| palomino4 | Windows Server 2022 Datacenter | x64 | 4.3.1 (2023-06-16 ucrt) -- "Beagle Scouts" | 4459 |
| lconway | macOS 12.6.5 Monterey | x86_64 | 4.3.1 Patched (2023-06-17 r84564) -- "Beagle Scouts" | 4473 |
| kunpeng2 | Linux (openEuler 22.03 LTS-SP1) | aarch64 | 4.3.1 (2023-06-16) -- "Beagle Scouts" | 4461 |
| Click on any hostname to see more info about the system (e.g. compilers) (*) as reported by 'uname -p', except on Windows and Mac OS X | ||||
| Package 2021/2264 | Hostname | OS / Arch | INSTALL | BUILD | CHECK | BUILD BIN | ||||||||
| SPIAT 1.3.5 (landing page) Yuzhou Feng
| nebbiolo2 | Linux (Ubuntu 22.04.2 LTS) / x86_64 | OK | OK | OK | |||||||||
| palomino4 | Windows Server 2022 Datacenter / x64 | OK | OK | OK | OK | |||||||||
| lconway | macOS 12.6.5 Monterey / x86_64 | OK | OK | OK | OK | |||||||||
| kjohnson1 | macOS 13.3.1 Ventura / arm64 | see weekly results here | ||||||||||||
| kunpeng2 | Linux (openEuler 22.03 LTS-SP1) / aarch64 | OK | OK | OK | ||||||||||
|
To the developers/maintainers of the SPIAT package: - Allow up to 24 hours (and sometimes 48 hours) for your latest push to git@git.bioconductor.org:packages/SPIAT.git to reflect on this report. See Troubleshooting Build Report for more information. - Use the following Renviron settings to reproduce errors and warnings. - If 'R CMD check' started to fail recently on the Linux builder(s) over a missing dependency, add the missing dependency to 'Suggests:' in your DESCRIPTION file. See Renviron.bioc for more information. - See Martin Grigorov's blog post for how to debug Linux ARM64 related issues on a x86_64 host. |
| Package: SPIAT |
| Version: 1.3.5 |
| Command: /home/biocbuild/R/R-4.3.1/bin/R CMD check --install=check:SPIAT.install-out.txt --library=/home/biocbuild/R/R-4.3.1/site-library --timings SPIAT_1.3.5.tar.gz |
| StartedAt: 2023-10-24 13:31:20 -0000 (Tue, 24 Oct 2023) |
| EndedAt: 2023-10-24 13:44:50 -0000 (Tue, 24 Oct 2023) |
| EllapsedTime: 809.2 seconds |
| RetCode: 0 |
| Status: OK |
| CheckDir: SPIAT.Rcheck |
| Warnings: 0 |
##############################################################################
##############################################################################
###
### Running command:
###
### /home/biocbuild/R/R-4.3.1/bin/R CMD check --install=check:SPIAT.install-out.txt --library=/home/biocbuild/R/R-4.3.1/site-library --timings SPIAT_1.3.5.tar.gz
###
##############################################################################
##############################################################################
* using log directory ‘/home/biocbuild/bbs-3.18-bioc/meat/SPIAT.Rcheck’
* using R version 4.3.1 (2023-06-16)
* using platform: aarch64-unknown-linux-gnu (64-bit)
* R was compiled by
gcc (GCC) 10.3.1
GNU Fortran (GCC) 10.3.1
* running under: openEuler 22.03 (LTS-SP1)
* using session charset: UTF-8
* checking for file ‘SPIAT/DESCRIPTION’ ... OK
* checking extension type ... Package
* this is package ‘SPIAT’ version ‘1.3.5’
* package encoding: UTF-8
* checking package namespace information ... OK
* checking package dependencies ... OK
* checking if this is a source package ... OK
* checking if there is a namespace ... OK
* checking for hidden files and directories ... OK
* checking for portable file names ... OK
* checking for sufficient/correct file permissions ... OK
* checking whether package ‘SPIAT’ can be installed ... OK
* checking installed package size ... OK
* checking package directory ... OK
* checking ‘build’ directory ... OK
* checking DESCRIPTION meta-information ... OK
* checking top-level files ... NOTE
File
LICENSE
is not mentioned in the DESCRIPTION file.
* checking for left-over files ... OK
* checking index information ... OK
* checking package subdirectories ... OK
* checking R files for non-ASCII characters ... OK
* checking R files for syntax errors ... OK
* checking whether the package can be loaded ... OK
* checking whether the package can be loaded with stated dependencies ... OK
* checking whether the package can be unloaded cleanly ... OK
* checking whether the namespace can be loaded with stated dependencies ... OK
* checking whether the namespace can be unloaded cleanly ... OK
* checking loading without being on the library search path ... OK
* checking dependencies in R code ... OK
* checking S3 generic/method consistency ... OK
* checking replacement functions ... OK
* checking foreign function calls ... OK
* checking R code for possible problems ... OK
* checking Rd files ... OK
* checking Rd metadata ... OK
* checking Rd cross-references ... OK
* checking for missing documentation entries ... OK
* checking for code/documentation mismatches ... OK
* checking Rd \usage sections ... OK
* checking Rd contents ... OK
* checking for unstated dependencies in examples ... OK
* checking contents of ‘data’ directory ... OK
* checking data for non-ASCII characters ... OK
* checking LazyData ... OK
* checking data for ASCII and uncompressed saves ... OK
* checking files in ‘vignettes’ ... OK
* checking examples ... OK
Examples with CPU (user + system) or elapsed time > 5s
user system elapsed
dimensionality_reduction_plot 40.111 0.048 40.232
calculate_percentage_of_grids 13.296 0.056 13.376
calculate_spatial_autocorrelation 6.997 0.024 7.034
calculate_pairwise_distances_between_celltypes 6.368 0.299 6.680
grid_metrics 6.477 0.024 6.512
plot_composition_heatmap 5.847 0.016 5.873
calculate_summary_distances_between_celltypes 5.571 0.100 5.682
* checking for unstated dependencies in ‘tests’ ... OK
* checking tests ...
Running ‘testthat.R’
OK
* checking for unstated dependencies in vignettes ... OK
* checking package vignettes in ‘inst/doc’ ... OK
* checking running R code from vignettes ...
‘SPIAT.Rmd’ using ‘UTF-8’... OK
‘basic_analysis.Rmd’ using ‘UTF-8’... OK
‘cell-colocalisation.Rmd’ using ‘UTF-8’... OK
‘data_reading-formatting.Rmd’ using ‘UTF-8’... OK
‘neighborhood.Rmd’ using ‘UTF-8’... OK
‘quality-control_visualisation.Rmd’ using ‘UTF-8’... OK
‘spatial-heterogeneity.Rmd’ using ‘UTF-8’... OK
‘tissue-structure.Rmd’ using ‘UTF-8’... OK
NONE
* checking re-building of vignette outputs ... OK
* checking PDF version of manual ... OK
* DONE
Status: 1 NOTE
See
‘/home/biocbuild/bbs-3.18-bioc/meat/SPIAT.Rcheck/00check.log’
for details.
SPIAT.Rcheck/00install.out
############################################################################## ############################################################################## ### ### Running command: ### ### /home/biocbuild/R/R-4.3.1/bin/R CMD INSTALL SPIAT ### ############################################################################## ############################################################################## * installing to library ‘/home/biocbuild/R/R-4.3.1/site-library’ * installing *source* package ‘SPIAT’ ... ** using staged installation ** R ** data *** moving datasets to lazyload DB ** inst ** byte-compile and prepare package for lazy loading ** help *** installing help indices ** building package indices ** installing vignettes ** testing if installed package can be loaded from temporary location ** testing if installed package can be loaded from final location ** testing if installed package keeps a record of temporary installation path * DONE (SPIAT)
SPIAT.Rcheck/tests/testthat.Rout
R version 4.3.1 (2023-06-16) -- "Beagle Scouts"
Copyright (C) 2023 The R Foundation for Statistical Computing
Platform: aarch64-unknown-linux-gnu (64-bit)
R is free software and comes with ABSOLUTELY NO WARRANTY.
You are welcome to redistribute it under certain conditions.
Type 'license()' or 'licence()' for distribution details.
R is a collaborative project with many contributors.
Type 'contributors()' for more information and
'citation()' on how to cite R or R packages in publications.
Type 'demo()' for some demos, 'help()' for on-line help, or
'help.start()' for an HTML browser interface to help.
Type 'q()' to quit R.
> library(testthat)
> library(SPIAT)
Loading required package: SpatialExperiment
Loading required package: SingleCellExperiment
Loading required package: SummarizedExperiment
Loading required package: MatrixGenerics
Loading required package: matrixStats
Attaching package: 'MatrixGenerics'
The following objects are masked from 'package:matrixStats':
colAlls, colAnyNAs, colAnys, colAvgsPerRowSet, colCollapse,
colCounts, colCummaxs, colCummins, colCumprods, colCumsums,
colDiffs, colIQRDiffs, colIQRs, colLogSumExps, colMadDiffs,
colMads, colMaxs, colMeans2, colMedians, colMins, colOrderStats,
colProds, colQuantiles, colRanges, colRanks, colSdDiffs, colSds,
colSums2, colTabulates, colVarDiffs, colVars, colWeightedMads,
colWeightedMeans, colWeightedMedians, colWeightedSds,
colWeightedVars, rowAlls, rowAnyNAs, rowAnys, rowAvgsPerColSet,
rowCollapse, rowCounts, rowCummaxs, rowCummins, rowCumprods,
rowCumsums, rowDiffs, rowIQRDiffs, rowIQRs, rowLogSumExps,
rowMadDiffs, rowMads, rowMaxs, rowMeans2, rowMedians, rowMins,
rowOrderStats, rowProds, rowQuantiles, rowRanges, rowRanks,
rowSdDiffs, rowSds, rowSums2, rowTabulates, rowVarDiffs, rowVars,
rowWeightedMads, rowWeightedMeans, rowWeightedMedians,
rowWeightedSds, rowWeightedVars
Loading required package: GenomicRanges
Loading required package: stats4
Loading required package: BiocGenerics
Attaching package: 'BiocGenerics'
The following objects are masked from 'package:stats':
IQR, mad, sd, var, xtabs
The following objects are masked from 'package:base':
Filter, Find, Map, Position, Reduce, anyDuplicated, aperm, append,
as.data.frame, basename, cbind, colnames, dirname, do.call,
duplicated, eval, evalq, get, grep, grepl, intersect, is.unsorted,
lapply, mapply, match, mget, order, paste, pmax, pmax.int, pmin,
pmin.int, rank, rbind, rownames, sapply, setdiff, sort, table,
tapply, union, unique, unsplit, which.max, which.min
Loading required package: S4Vectors
Attaching package: 'S4Vectors'
The following object is masked from 'package:utils':
findMatches
The following objects are masked from 'package:base':
I, expand.grid, unname
Loading required package: IRanges
Loading required package: GenomeInfoDb
Loading required package: Biobase
Welcome to Bioconductor
Vignettes contain introductory material; view with
'browseVignettes()'. To cite Bioconductor, see
'citation("Biobase")', and for packages 'citation("pkgname")'.
Attaching package: 'Biobase'
The following object is masked from 'package:MatrixGenerics':
rowMedians
The following objects are masked from 'package:matrixStats':
anyMissing, rowMedians
>
> test_check("SPIAT")
[1] "Markers had been selected in minimum distance calculation: "
[1] "Immune1" "Tumour"
[1] "Crossing of cross K function is detected for this image, indicating a potential immune ring."
[1] "The crossing happens at the 50% of the specified distance."
[1] "The alpha of Polygon is: 63.24375"
[1] "Markers had been selected in minimum distance calculation: "
[1] "Non-border" "Border"
[1] "Tumour_marker"
[1] "Immune_marker1"
[1] "Immune_marker2"
[1] "Immune_marker3"
[1] "Immune_marker4"
[1] "Tumour_marker"
[1] "Immune_marker1"
[1] "Immune_marker2"
[1] "Immune_marker3"
[1] "Immune_marker4"
[1] "Tumour_marker threshold intensity: 0.445450443784465"
[1] "Immune_marker1 threshold intensity: 0.116980867970434"
[1] "Immune_marker2 threshold intensity: 0.124283809517202"
[1] "Immune_marker3 threshold intensity: 0.0166413130263845"
[1] "Immune_marker4 threshold intensity: 0.00989731350898589"
[ FAIL 0 | WARN 0 | SKIP 0 | PASS 80 ]
>
> proc.time()
user system elapsed
105.109 2.762 108.023
SPIAT.Rcheck/SPIAT-Ex.timings
| name | user | system | elapsed | |
| AUC_of_cross_function | 0.305 | 0.001 | 0.305 | |
| R_BC | 1.757 | 0.032 | 1.796 | |
| average_marker_intensity_within_radius | 0.825 | 0.000 | 0.827 | |
| average_minimum_distance | 0.025 | 0.000 | 0.025 | |
| average_nearest_neighbor_index | 0.441 | 0.000 | 0.442 | |
| average_percentage_of_cells_within_radius | 1.628 | 0.008 | 1.638 | |
| calculate_cell_proportions | 0.017 | 0.000 | 0.017 | |
| calculate_cross_functions | 0.237 | 0.000 | 0.238 | |
| calculate_distance_to_margin | 1.907 | 0.019 | 1.931 | |
| calculate_entropy | 0.015 | 0.000 | 0.015 | |
| calculate_minimum_distances_between_celltypes | 0.024 | 0.000 | 0.024 | |
| calculate_pairwise_distances_between_celltypes | 6.368 | 0.299 | 6.680 | |
| calculate_percentage_of_grids | 13.296 | 0.056 | 13.376 | |
| calculate_proportions_of_cells_in_structure | 2.061 | 0.028 | 2.093 | |
| calculate_spatial_autocorrelation | 6.997 | 0.024 | 7.034 | |
| calculate_summary_distances_between_celltypes | 5.571 | 0.100 | 5.682 | |
| calculate_summary_distances_of_cells_to_borders | 1.885 | 0.028 | 1.916 | |
| composition_of_neighborhoods | 1.584 | 0.039 | 1.627 | |
| compute_gradient | 0.078 | 0.000 | 0.078 | |
| crossing_of_crossK | 0.161 | 0.000 | 0.161 | |
| define_celltypes | 1.197 | 0.020 | 1.219 | |
| define_structure | 2.411 | 0.008 | 2.424 | |
| dimensionality_reduction_plot | 40.111 | 0.048 | 40.232 | |
| entropy_gradient_aggregated | 0.643 | 0.020 | 0.664 | |
| format_cellprofiler_to_spe | 0.255 | 0.012 | 0.268 | |
| format_codex_to_spe | 0.247 | 0.000 | 0.249 | |
| format_colData_to_spe | 0.266 | 0.008 | 0.274 | |
| format_halo_to_spe | 0.664 | 0.060 | 0.684 | |
| format_image_to_spe | 0.253 | 0.004 | 0.258 | |
| format_inform_to_spe | 0.370 | 0.036 | 0.393 | |
| format_spe_to_ppp | 0.021 | 0.003 | 0.025 | |
| grid_metrics | 6.477 | 0.024 | 6.512 | |
| identify_bordering_cells | 0.970 | 0.008 | 0.980 | |
| identify_neighborhoods | 2.528 | 0.076 | 2.608 | |
| image_splitter | 2.180 | 0.012 | 2.196 | |
| marker_intensity_boxplot | 0.381 | 0.000 | 0.382 | |
| marker_prediction_plot | 0.806 | 0.008 | 0.815 | |
| marker_surface_plot | 0.280 | 0.016 | 0.297 | |
| marker_surface_plot_stack | 0.363 | 0.008 | 0.371 | |
| measure_association_to_cell_properties | 0.477 | 0.000 | 0.478 | |
| mixing_score_summary | 0.023 | 0.000 | 0.023 | |
| number_of_cells_within_radius | 0.016 | 0.000 | 0.016 | |
| plot_average_intensity | 0.400 | 0.000 | 0.401 | |
| plot_cell_categories | 0.375 | 0.004 | 0.379 | |
| plot_cell_distances_violin | 1.608 | 0.008 | 1.619 | |
| plot_cell_marker_levels | 0.233 | 0.000 | 0.233 | |
| plot_cell_percentages | 0.906 | 0.000 | 0.908 | |
| plot_composition_heatmap | 5.847 | 0.016 | 5.873 | |
| plot_distance_heatmap | 3.929 | 0.008 | 3.943 | |
| plot_marker_level_heatmap | 0.579 | 0.000 | 0.580 | |
| predict_phenotypes | 1.393 | 0.000 | 1.395 | |
| select_celltypes | 0.068 | 0.000 | 0.069 | |