| Back to Multiple platform build/check report for BioC 3.18: simplified long |
|
This page was generated on 2023-11-02 11:41:12 -0400 (Thu, 02 Nov 2023).
| Hostname | OS | Arch (*) | R version | Installed pkgs |
|---|---|---|---|---|
| nebbiolo2 | Linux (Ubuntu 22.04.2 LTS) | x86_64 | 4.3.1 (2023-06-16) -- "Beagle Scouts" | 4729 |
| palomino4 | Windows Server 2022 Datacenter | x64 | 4.3.1 (2023-06-16 ucrt) -- "Beagle Scouts" | 4463 |
| lconway | macOS 12.6.5 Monterey | x86_64 | 4.3.1 Patched (2023-06-17 r84564) -- "Beagle Scouts" | 4478 |
| kunpeng2 | Linux (openEuler 22.03 LTS-SP1) | aarch64 | 4.3.1 (2023-06-16) -- "Beagle Scouts" | 4464 |
| Click on any hostname to see more info about the system (e.g. compilers) (*) as reported by 'uname -p', except on Windows and Mac OS X | ||||
| Package 1809/2266 | Hostname | OS / Arch | INSTALL | BUILD | CHECK | BUILD BIN | ||||||||
| Rsubread 2.16.0 (landing page) Wei Shi
| nebbiolo2 | Linux (Ubuntu 22.04.2 LTS) / x86_64 | OK | OK | OK | |||||||||
| palomino4 | Windows Server 2022 Datacenter / x64 | OK | OK | OK | OK | |||||||||
| lconway | macOS 12.6.5 Monterey / x86_64 | OK | OK | OK | OK | |||||||||
| kjohnson1 | macOS 13.6.1 Ventura / arm64 | see weekly results here | ||||||||||||
| kunpeng2 | Linux (openEuler 22.03 LTS-SP1) / aarch64 | OK | OK | OK | ||||||||||
|
To the developers/maintainers of the Rsubread package: - Allow up to 24 hours (and sometimes 48 hours) for your latest push to git@git.bioconductor.org:packages/Rsubread.git to reflect on this report. See Troubleshooting Build Report for more information. - Use the following Renviron settings to reproduce errors and warnings. - If 'R CMD check' started to fail recently on the Linux builder(s) over a missing dependency, add the missing dependency to 'Suggests:' in your DESCRIPTION file. See Renviron.bioc for more information. - See Martin Grigorov's blog post for how to debug Linux ARM64 related issues on a x86_64 host. |
| Package: Rsubread |
| Version: 2.16.0 |
| Command: /home/biocbuild/R/R-4.3.1/bin/R CMD check --install=check:Rsubread.install-out.txt --library=/home/biocbuild/R/R-4.3.1/site-library --no-vignettes --timings Rsubread_2.16.0.tar.gz |
| StartedAt: 2023-11-02 13:56:24 -0000 (Thu, 02 Nov 2023) |
| EndedAt: 2023-11-02 13:59:47 -0000 (Thu, 02 Nov 2023) |
| EllapsedTime: 203.4 seconds |
| RetCode: 0 |
| Status: OK |
| CheckDir: Rsubread.Rcheck |
| Warnings: 0 |
##############################################################################
##############################################################################
###
### Running command:
###
### /home/biocbuild/R/R-4.3.1/bin/R CMD check --install=check:Rsubread.install-out.txt --library=/home/biocbuild/R/R-4.3.1/site-library --no-vignettes --timings Rsubread_2.16.0.tar.gz
###
##############################################################################
##############################################################################
* using log directory ‘/home/biocbuild/bbs-3.18-bioc/meat/Rsubread.Rcheck’
* using R version 4.3.1 (2023-06-16)
* using platform: aarch64-unknown-linux-gnu (64-bit)
* R was compiled by
gcc (GCC) 10.3.1
GNU Fortran (GCC) 10.3.1
* running under: openEuler 22.03 (LTS-SP1)
* using session charset: UTF-8
* using option ‘--no-vignettes’
* checking for file ‘Rsubread/DESCRIPTION’ ... OK
* this is package ‘Rsubread’ version ‘2.16.0’
* checking package namespace information ... OK
* checking package dependencies ... OK
* checking if this is a source package ... OK
* checking if there is a namespace ... OK
* checking for hidden files and directories ... OK
* checking for portable file names ... OK
* checking for sufficient/correct file permissions ... OK
* checking whether package ‘Rsubread’ can be installed ... OK
* used C compiler: ‘gcc (GCC) 10.3.1’
* checking installed package size ... NOTE
installed size is 40.1Mb
sub-directories of 1Mb or more:
annot 30.9Mb
libs 4.3Mb
qualf 3.4Mb
* checking package directory ... OK
* checking ‘build’ directory ... OK
* checking DESCRIPTION meta-information ... OK
* checking top-level files ... OK
* checking for left-over files ... OK
* checking index information ... OK
* checking package subdirectories ... OK
* checking R files for non-ASCII characters ... OK
* checking R files for syntax errors ... OK
* checking whether the package can be loaded ... OK
* checking whether the package can be loaded with stated dependencies ... OK
* checking whether the package can be unloaded cleanly ... OK
* checking whether the namespace can be loaded with stated dependencies ... OK
* checking whether the namespace can be unloaded cleanly ... OK
* checking loading without being on the library search path ... OK
* checking dependencies in R code ... OK
* checking S3 generic/method consistency ... OK
* checking replacement functions ... OK
* checking foreign function calls ... OK
* checking R code for possible problems ... OK
* checking Rd files ... OK
* checking Rd metadata ... OK
* checking Rd cross-references ... OK
* checking for missing documentation entries ... OK
* checking for code/documentation mismatches ... OK
* checking Rd \usage sections ... OK
* checking Rd contents ... OK
* checking for unstated dependencies in examples ... OK
* checking line endings in shell scripts ... OK
* checking line endings in C/C++/Fortran sources/headers ... OK
* checking line endings in Makefiles ... OK
* checking compilation flags in Makevars ... OK
* checking for GNU extensions in Makefiles ... OK
* checking for portable use of $(BLAS_LIBS) and $(LAPACK_LIBS) ... OK
* checking use of PKG_*FLAGS in Makefiles ... OK
* checking compiled code ... NOTE
Note: information on .o files is not available
* checking installed files from ‘inst/doc’ ... OK
* checking files in ‘vignettes’ ... OK
* checking examples ... OK
Examples with CPU (user + system) or elapsed time > 5s
user system elapsed
propmapped 30.777 18.018 50.495
align 30.895 17.304 48.287
sublong 24.524 5.876 30.310
buildindex 9.285 2.342 13.969
* checking for unstated dependencies in vignettes ... OK
* checking package vignettes in ‘inst/doc’ ... OK
* checking running R code from vignettes ... SKIPPED
* checking re-building of vignette outputs ... SKIPPED
* checking PDF version of manual ... OK
* DONE
Status: 2 NOTEs
See
‘/home/biocbuild/bbs-3.18-bioc/meat/Rsubread.Rcheck/00check.log’
for details.
Rsubread.Rcheck/00install.out
##############################################################################
##############################################################################
###
### Running command:
###
### /home/biocbuild/R/R-4.3.1/bin/R CMD INSTALL Rsubread
###
##############################################################################
##############################################################################
* installing to library ‘/home/biocbuild/R/R-4.3.1/site-library’
* installing *source* package ‘Rsubread’ ...
** using staged installation
@@@@@ The operating system is Linux.
** libs
using C compiler: ‘gcc (GCC) 10.3.1’
gcc -I"/home/biocbuild/R/R-4.3.1/include" -DNDEBUG -I/usr/local/include -DMAKE_FOR_EXON -D SUBREAD_VERSION="\"Rsubread 2.16.0\"" -fPIC -g -O2 -Wall -c HelperFunctions.c -o HelperFunctions.o
gcc -I"/home/biocbuild/R/R-4.3.1/include" -DNDEBUG -I/usr/local/include -DMAKE_FOR_EXON -D SUBREAD_VERSION="\"Rsubread 2.16.0\"" -fPIC -g -O2 -Wall -c LRMbase-index.c -o LRMbase-index.o
gcc -I"/home/biocbuild/R/R-4.3.1/include" -DNDEBUG -I/usr/local/include -DMAKE_FOR_EXON -D SUBREAD_VERSION="\"Rsubread 2.16.0\"" -fPIC -g -O2 -Wall -c LRMchro-event.c -o LRMchro-event.o
gcc -I"/home/biocbuild/R/R-4.3.1/include" -DNDEBUG -I/usr/local/include -DMAKE_FOR_EXON -D SUBREAD_VERSION="\"Rsubread 2.16.0\"" -fPIC -g -O2 -Wall -c LRMfile-io.c -o LRMfile-io.o
gcc -I"/home/biocbuild/R/R-4.3.1/include" -DNDEBUG -I/usr/local/include -DMAKE_FOR_EXON -D SUBREAD_VERSION="\"Rsubread 2.16.0\"" -fPIC -g -O2 -Wall -c LRMhashtable.c -o LRMhashtable.o
gcc -I"/home/biocbuild/R/R-4.3.1/include" -DNDEBUG -I/usr/local/include -DMAKE_FOR_EXON -D SUBREAD_VERSION="\"Rsubread 2.16.0\"" -fPIC -g -O2 -Wall -c LRMhelper.c -o LRMhelper.o
gcc -I"/home/biocbuild/R/R-4.3.1/include" -DNDEBUG -I/usr/local/include -DMAKE_FOR_EXON -D SUBREAD_VERSION="\"Rsubread 2.16.0\"" -fPIC -g -O2 -Wall -c LRMseek-zlib.c -o LRMseek-zlib.o
gcc -I"/home/biocbuild/R/R-4.3.1/include" -DNDEBUG -I/usr/local/include -DMAKE_FOR_EXON -D SUBREAD_VERSION="\"Rsubread 2.16.0\"" -fPIC -g -O2 -Wall -c LRMsorted-hashtable.c -o LRMsorted-hashtable.o
gcc -I"/home/biocbuild/R/R-4.3.1/include" -DNDEBUG -I/usr/local/include -DMAKE_FOR_EXON -D SUBREAD_VERSION="\"Rsubread 2.16.0\"" -fPIC -g -O2 -Wall -c R_wrapper.c -o R_wrapper.o
gcc -I"/home/biocbuild/R/R-4.3.1/include" -DNDEBUG -I/usr/local/include -DMAKE_FOR_EXON -D SUBREAD_VERSION="\"Rsubread 2.16.0\"" -fPIC -g -O2 -Wall -c RsimReads.c -o RsimReads.o
gcc -I"/home/biocbuild/R/R-4.3.1/include" -DNDEBUG -I/usr/local/include -DMAKE_FOR_EXON -D SUBREAD_VERSION="\"Rsubread 2.16.0\"" -fPIC -g -O2 -Wall -c SNPCalling.c -o SNPCalling.o
gcc -I"/home/biocbuild/R/R-4.3.1/include" -DNDEBUG -I/usr/local/include -DMAKE_FOR_EXON -D SUBREAD_VERSION="\"Rsubread 2.16.0\"" -fPIC -g -O2 -Wall -c aligner.c -o aligner.o
gcc -I"/home/biocbuild/R/R-4.3.1/include" -DNDEBUG -I/usr/local/include -DMAKE_FOR_EXON -D SUBREAD_VERSION="\"Rsubread 2.16.0\"" -fPIC -g -O2 -Wall -c atgcContent.c -o atgcContent.o
gcc -I"/home/biocbuild/R/R-4.3.1/include" -DNDEBUG -I/usr/local/include -DMAKE_FOR_EXON -D SUBREAD_VERSION="\"Rsubread 2.16.0\"" -fPIC -g -O2 -Wall -c build-sam-index.c -o build-sam-index.o
gcc -I"/home/biocbuild/R/R-4.3.1/include" -DNDEBUG -I/usr/local/include -DMAKE_FOR_EXON -D SUBREAD_VERSION="\"Rsubread 2.16.0\"" -fPIC -g -O2 -Wall -c cell-counts.c -o cell-counts.o
cell-counts.c: In function ‘cellCounts_find_hits_for_mapped_section’:
cell-counts.c:1611:5: warning: ‘search_start’ may be used uninitialized in this function [-Wmaybe-uninitialized]
1611 | if(search_start>0xffffff00) return;
| ^
gcc -I"/home/biocbuild/R/R-4.3.1/include" -DNDEBUG -I/usr/local/include -DMAKE_FOR_EXON -D SUBREAD_VERSION="\"Rsubread 2.16.0\"" -fPIC -g -O2 -Wall -c core-bigtable.c -o core-bigtable.o
gcc -I"/home/biocbuild/R/R-4.3.1/include" -DNDEBUG -I/usr/local/include -DMAKE_FOR_EXON -D SUBREAD_VERSION="\"Rsubread 2.16.0\"" -fPIC -g -O2 -Wall -c core-indel.c -o core-indel.o
gcc -I"/home/biocbuild/R/R-4.3.1/include" -DNDEBUG -I/usr/local/include -DMAKE_FOR_EXON -D SUBREAD_VERSION="\"Rsubread 2.16.0\"" -fPIC -g -O2 -Wall -c core-interface-aligner.c -o core-interface-aligner.o
gcc -I"/home/biocbuild/R/R-4.3.1/include" -DNDEBUG -I/usr/local/include -DMAKE_FOR_EXON -D SUBREAD_VERSION="\"Rsubread 2.16.0\"" -fPIC -g -O2 -Wall -c core-interface-subjunc.c -o core-interface-subjunc.o
gcc -I"/home/biocbuild/R/R-4.3.1/include" -DNDEBUG -I/usr/local/include -DMAKE_FOR_EXON -D SUBREAD_VERSION="\"Rsubread 2.16.0\"" -fPIC -g -O2 -Wall -c core-junction.c -o core-junction.o
gcc -I"/home/biocbuild/R/R-4.3.1/include" -DNDEBUG -I/usr/local/include -DMAKE_FOR_EXON -D SUBREAD_VERSION="\"Rsubread 2.16.0\"" -fPIC -g -O2 -Wall -c core.c -o core.o
gcc -I"/home/biocbuild/R/R-4.3.1/include" -DNDEBUG -I/usr/local/include -DMAKE_FOR_EXON -D SUBREAD_VERSION="\"Rsubread 2.16.0\"" -fPIC -g -O2 -Wall -c detection-calls.c -o detection-calls.o
gcc -I"/home/biocbuild/R/R-4.3.1/include" -DNDEBUG -I/usr/local/include -DMAKE_FOR_EXON -D SUBREAD_VERSION="\"Rsubread 2.16.0\"" -fPIC -g -O2 -Wall -c detectionCall.c -o detectionCall.o
gcc -I"/home/biocbuild/R/R-4.3.1/include" -DNDEBUG -I/usr/local/include -DMAKE_FOR_EXON -D SUBREAD_VERSION="\"Rsubread 2.16.0\"" -fPIC -g -O2 -Wall -c detectionCallAnnotation.c -o detectionCallAnnotation.o
gcc -I"/home/biocbuild/R/R-4.3.1/include" -DNDEBUG -I/usr/local/include -DMAKE_FOR_EXON -D SUBREAD_VERSION="\"Rsubread 2.16.0\"" -fPIC -g -O2 -Wall -c exon-algorithms.c -o exon-algorithms.o
gcc -I"/home/biocbuild/R/R-4.3.1/include" -DNDEBUG -I/usr/local/include -DMAKE_FOR_EXON -D SUBREAD_VERSION="\"Rsubread 2.16.0\"" -fPIC -g -O2 -Wall -c exon-align-indel.c -o exon-align-indel.o
gcc -I"/home/biocbuild/R/R-4.3.1/include" -DNDEBUG -I/usr/local/include -DMAKE_FOR_EXON -D SUBREAD_VERSION="\"Rsubread 2.16.0\"" -fPIC -g -O2 -Wall -c exon-align.c -o exon-align.o
gcc -I"/home/biocbuild/R/R-4.3.1/include" -DNDEBUG -I/usr/local/include -DMAKE_FOR_EXON -D SUBREAD_VERSION="\"Rsubread 2.16.0\"" -fPIC -g -O2 -Wall -c flattenAnnotations.c -o flattenAnnotations.o
gcc -I"/home/biocbuild/R/R-4.3.1/include" -DNDEBUG -I/usr/local/include -DMAKE_FOR_EXON -D SUBREAD_VERSION="\"Rsubread 2.16.0\"" -fPIC -g -O2 -Wall -c fullscan.c -o fullscan.o
gcc -I"/home/biocbuild/R/R-4.3.1/include" -DNDEBUG -I/usr/local/include -DMAKE_FOR_EXON -D SUBREAD_VERSION="\"Rsubread 2.16.0\"" -fPIC -g -O2 -Wall -c fusion-align.c -o fusion-align.o
gcc -I"/home/biocbuild/R/R-4.3.1/include" -DNDEBUG -I/usr/local/include -DMAKE_FOR_EXON -D SUBREAD_VERSION="\"Rsubread 2.16.0\"" -fPIC -g -O2 -Wall -c gen_rand_reads.c -o gen_rand_reads.o
gcc -I"/home/biocbuild/R/R-4.3.1/include" -DNDEBUG -I/usr/local/include -DMAKE_FOR_EXON -D SUBREAD_VERSION="\"Rsubread 2.16.0\"" -fPIC -g -O2 -Wall -c gene-algorithms.c -o gene-algorithms.o
gcc -I"/home/biocbuild/R/R-4.3.1/include" -DNDEBUG -I/usr/local/include -DMAKE_FOR_EXON -D SUBREAD_VERSION="\"Rsubread 2.16.0\"" -fPIC -g -O2 -Wall -c gene-value-index.c -o gene-value-index.o
gcc -I"/home/biocbuild/R/R-4.3.1/include" -DNDEBUG -I/usr/local/include -DMAKE_FOR_EXON -D SUBREAD_VERSION="\"Rsubread 2.16.0\"" -fPIC -g -O2 -Wall -c hashtable.c -o hashtable.o
gcc -I"/home/biocbuild/R/R-4.3.1/include" -DNDEBUG -I/usr/local/include -DMAKE_FOR_EXON -D SUBREAD_VERSION="\"Rsubread 2.16.0\"" -fPIC -g -O2 -Wall -c index-builder.c -o index-builder.o
gcc -I"/home/biocbuild/R/R-4.3.1/include" -DNDEBUG -I/usr/local/include -DMAKE_FOR_EXON -D SUBREAD_VERSION="\"Rsubread 2.16.0\"" -fPIC -g -O2 -Wall -c input-blc.c -o input-blc.o
input-blc.c: In function ‘iCache_continuous_read_lanes’:
input-blc.c:580:17: warning: unused variable ‘npos’ [-Wunused-variable]
580 | long long npos = lseek(tfp -> cbcl_bin_fd, next_tile_start_off , SEEK_SET);
| ^~~~
gcc -I"/home/biocbuild/R/R-4.3.1/include" -DNDEBUG -I/usr/local/include -DMAKE_FOR_EXON -D SUBREAD_VERSION="\"Rsubread 2.16.0\"" -fPIC -g -O2 -Wall -c input-files.c -o input-files.o
gcc -I"/home/biocbuild/R/R-4.3.1/include" -DNDEBUG -I/usr/local/include -DMAKE_FOR_EXON -D SUBREAD_VERSION="\"Rsubread 2.16.0\"" -fPIC -g -O2 -Wall -c interval_merge.c -o interval_merge.o
gcc -I"/home/biocbuild/R/R-4.3.1/include" -DNDEBUG -I/usr/local/include -DMAKE_FOR_EXON -D SUBREAD_VERSION="\"Rsubread 2.16.0\"" -fPIC -g -O2 -Wall -c long-hashtable.c -o long-hashtable.o
gcc -I"/home/biocbuild/R/R-4.3.1/include" -DNDEBUG -I/usr/local/include -DMAKE_FOR_EXON -D SUBREAD_VERSION="\"Rsubread 2.16.0\"" -fPIC -g -O2 -Wall -c longread-mapping.c -o longread-mapping.o
gcc -I"/home/biocbuild/R/R-4.3.1/include" -DNDEBUG -I/usr/local/include -DMAKE_FOR_EXON -D SUBREAD_VERSION="\"Rsubread 2.16.0\"" -fPIC -g -O2 -Wall -c mergeVCF.c -o mergeVCF.o
gcc -I"/home/biocbuild/R/R-4.3.1/include" -DNDEBUG -I/usr/local/include -DMAKE_FOR_EXON -D SUBREAD_VERSION="\"Rsubread 2.16.0\"" -fPIC -g -O2 -Wall -c processExons.c -o processExons.o
gcc -I"/home/biocbuild/R/R-4.3.1/include" -DNDEBUG -I/usr/local/include -DMAKE_FOR_EXON -D SUBREAD_VERSION="\"Rsubread 2.16.0\"" -fPIC -g -O2 -Wall -c propmapped.c -o propmapped.o
gcc -I"/home/biocbuild/R/R-4.3.1/include" -DNDEBUG -I/usr/local/include -DMAKE_FOR_EXON -D SUBREAD_VERSION="\"Rsubread 2.16.0\"" -fPIC -g -O2 -Wall -c qualityScores.c -o qualityScores.o
gcc -I"/home/biocbuild/R/R-4.3.1/include" -DNDEBUG -I/usr/local/include -DMAKE_FOR_EXON -D SUBREAD_VERSION="\"Rsubread 2.16.0\"" -fPIC -g -O2 -Wall -c read-repair.c -o read-repair.o
gcc -I"/home/biocbuild/R/R-4.3.1/include" -DNDEBUG -I/usr/local/include -DMAKE_FOR_EXON -D SUBREAD_VERSION="\"Rsubread 2.16.0\"" -fPIC -g -O2 -Wall -c readSummary.c -o readSummary.o
readSummary.c: In function ‘vote_and_add_count’:
readSummary.c:4923:31: warning: ‘longest_overlap_score’ may be used uninitialized in this function [-Wmaybe-uninitialized]
4923 | if(longest_overlap_score > scoring_numbers[score_x1]) scoring_numbers[score_x1] = 0;
| ~~~~~~~~~~~~~~~~~~~~~~^~~~~~~~~~~~~~~~~~~~~~~~~~~
gcc -I"/home/biocbuild/R/R-4.3.1/include" -DNDEBUG -I/usr/local/include -DMAKE_FOR_EXON -D SUBREAD_VERSION="\"Rsubread 2.16.0\"" -fPIC -g -O2 -Wall -c removeDupReads.c -o removeDupReads.o
gcc -I"/home/biocbuild/R/R-4.3.1/include" -DNDEBUG -I/usr/local/include -DMAKE_FOR_EXON -D SUBREAD_VERSION="\"Rsubread 2.16.0\"" -fPIC -g -O2 -Wall -c sam2bed.c -o sam2bed.o
gcc -I"/home/biocbuild/R/R-4.3.1/include" -DNDEBUG -I/usr/local/include -DMAKE_FOR_EXON -D SUBREAD_VERSION="\"Rsubread 2.16.0\"" -fPIC -g -O2 -Wall -c sambam-file.c -o sambam-file.o
gcc -I"/home/biocbuild/R/R-4.3.1/include" -DNDEBUG -I/usr/local/include -DMAKE_FOR_EXON -D SUBREAD_VERSION="\"Rsubread 2.16.0\"" -fPIC -g -O2 -Wall -c seek-zlib.c -o seek-zlib.o
gcc -I"/home/biocbuild/R/R-4.3.1/include" -DNDEBUG -I/usr/local/include -DMAKE_FOR_EXON -D SUBREAD_VERSION="\"Rsubread 2.16.0\"" -fPIC -g -O2 -Wall -c sorted-hashtable.c -o sorted-hashtable.o
gcc -I"/home/biocbuild/R/R-4.3.1/include" -DNDEBUG -I/usr/local/include -DMAKE_FOR_EXON -D SUBREAD_VERSION="\"Rsubread 2.16.0\"" -fPIC -g -O2 -Wall -c sublog.c -o sublog.o
gcc -I"/home/biocbuild/R/R-4.3.1/include" -DNDEBUG -I/usr/local/include -DMAKE_FOR_EXON -D SUBREAD_VERSION="\"Rsubread 2.16.0\"" -fPIC -g -O2 -Wall -c tx-unique.c -o tx-unique.o
gcc -shared -L/home/biocbuild/R/R-4.3.1/lib -L/usr/local/lib -o Rsubread.so HelperFunctions.o LRMbase-index.o LRMchro-event.o LRMfile-io.o LRMhashtable.o LRMhelper.o LRMseek-zlib.o LRMsorted-hashtable.o R_wrapper.o RsimReads.o SNPCalling.o aligner.o atgcContent.o build-sam-index.o cell-counts.o core-bigtable.o core-indel.o core-interface-aligner.o core-interface-subjunc.o core-junction.o core.o detection-calls.o detectionCall.o detectionCallAnnotation.o exon-algorithms.o exon-align-indel.o exon-align.o flattenAnnotations.o fullscan.o fusion-align.o gen_rand_reads.o gene-algorithms.o gene-value-index.o hashtable.o index-builder.o input-blc.o input-files.o interval_merge.o long-hashtable.o longread-mapping.o mergeVCF.o processExons.o propmapped.o qualityScores.o read-repair.o readSummary.o removeDupReads.o sam2bed.o sambam-file.o seek-zlib.o sorted-hashtable.o sublog.o tx-unique.o -lz -lpthread -DMAKE_FOR_EXON -L/home/biocbuild/R/R-4.3.1/lib -lR
installing to /home/biocbuild/R/R-4.3.1/site-library/00LOCK-Rsubread/00new/Rsubread/libs
** R
** inst
** byte-compile and prepare package for lazy loading
** help
*** installing help indices
** building package indices
** installing vignettes
** testing if installed package can be loaded from temporary location
** checking absolute paths in shared objects and dynamic libraries
** testing if installed package can be loaded from final location
** testing if installed package keeps a record of temporary installation path
* DONE (Rsubread)
Rsubread.Rcheck/Rsubread-Ex.timings
| name | user | system | elapsed | |
| align | 30.895 | 17.304 | 48.287 | |
| buildindex | 9.285 | 2.342 | 13.969 | |
| cellCounts | 0 | 0 | 0 | |
| featureCounts | 0 | 0 | 0 | |
| findCommonVariants | 0 | 0 | 0 | |
| getInBuiltAnnotation | 0.377 | 0.043 | 0.423 | |
| promoterRegions | 2.033 | 0.040 | 2.077 | |
| propmapped | 30.777 | 18.018 | 50.495 | |
| qualityScores | 0.047 | 0.003 | 0.050 | |
| simReads | 0 | 0 | 0 | |
| sublong | 24.524 | 5.876 | 30.310 | |