| Back to Multiple platform build/check report for BioC 3.18: simplified long |
|
This page was generated on 2023-11-02 11:41:08 -0400 (Thu, 02 Nov 2023).
| Hostname | OS | Arch (*) | R version | Installed pkgs |
|---|---|---|---|---|
| nebbiolo2 | Linux (Ubuntu 22.04.2 LTS) | x86_64 | 4.3.1 (2023-06-16) -- "Beagle Scouts" | 4729 |
| palomino4 | Windows Server 2022 Datacenter | x64 | 4.3.1 (2023-06-16 ucrt) -- "Beagle Scouts" | 4463 |
| lconway | macOS 12.6.5 Monterey | x86_64 | 4.3.1 Patched (2023-06-17 r84564) -- "Beagle Scouts" | 4478 |
| kunpeng2 | Linux (openEuler 22.03 LTS-SP1) | aarch64 | 4.3.1 (2023-06-16) -- "Beagle Scouts" | 4464 |
| Click on any hostname to see more info about the system (e.g. compilers) (*) as reported by 'uname -p', except on Windows and Mac OS X | ||||
| Package 1670/2266 | Hostname | OS / Arch | INSTALL | BUILD | CHECK | BUILD BIN | ||||||||
| Rbowtie 1.42.0 (landing page) Michael Stadler
| nebbiolo2 | Linux (Ubuntu 22.04.2 LTS) / x86_64 | OK | OK | OK | |||||||||
| palomino4 | Windows Server 2022 Datacenter / x64 | OK | OK | OK | OK | |||||||||
| lconway | macOS 12.6.5 Monterey / x86_64 | OK | OK | WARNINGS | OK | |||||||||
| kjohnson1 | macOS 13.6.1 Ventura / arm64 | see weekly results here | ||||||||||||
| kunpeng2 | Linux (openEuler 22.03 LTS-SP1) / aarch64 | OK | OK | OK | ||||||||||
|
To the developers/maintainers of the Rbowtie package: - Allow up to 24 hours (and sometimes 48 hours) for your latest push to git@git.bioconductor.org:packages/Rbowtie.git to reflect on this report. See Troubleshooting Build Report for more information. - Use the following Renviron settings to reproduce errors and warnings. - If 'R CMD check' started to fail recently on the Linux builder(s) over a missing dependency, add the missing dependency to 'Suggests:' in your DESCRIPTION file. See Renviron.bioc for more information. - See Martin Grigorov's blog post for how to debug Linux ARM64 related issues on a x86_64 host. |
| Package: Rbowtie |
| Version: 1.42.0 |
| Command: /home/biocbuild/R/R-4.3.1/bin/R CMD INSTALL Rbowtie |
| StartedAt: 2023-11-01 20:07:39 -0000 (Wed, 01 Nov 2023) |
| EndedAt: 2023-11-01 20:10:07 -0000 (Wed, 01 Nov 2023) |
| EllapsedTime: 148.0 seconds |
| RetCode: 0 |
| Status: OK |
##############################################################################
##############################################################################
###
### Running command:
###
### /home/biocbuild/R/R-4.3.1/bin/R CMD INSTALL Rbowtie
###
##############################################################################
##############################################################################
* installing to library ‘/home/biocbuild/R/R-4.3.1/site-library’
* installing *source* package ‘Rbowtie’ ...
** using staged installation
** libs
g++ -O3 -DCOMPILER_OPTIONS="\"-O3 -Wl,--hash-style=both -g -O2 -Wall -g -O2 -Wall \"" -Wl,--hash-style=both -g -O2 -Wall -g -O2 -Wall \
-fno-strict-aliasing -DBOWTIE_VERSION="\"`cat VERSION`\"" -DBUILD_HOST="\"`hostname`\"" -DBUILD_TIME="\"2023-11-01T20:07:40\"" -DCOMPILER_VERSION="\"`g++ -v 2>&1 | tail -1`\"" -D_LARGEFILE_SOURCE -D_FILE_OFFSET_BITS=64 -D_GNU_SOURCE -DPREFETCH_LOCALITY=2 -DBOWTIE_MM -DBOWTIE_SHARED_MEM -DNDEBUG -Wall -Wno-unused-parameter -Wno-reorder \
-I third_party \
-o bowtie-build-s ebwt_build.cpp \
ccnt_lut.cpp ref_read.cpp alphabet.cpp shmem.cpp edit.cpp ebwt.cpp bt2_locks.cpp tinythread.cpp bowtie_build_main.cpp \
-L/usr/local/lib -lz -lpthread
In file included from ebwt_build.cpp:8:
ds.h: In function ‘void mkeyQSortSuf2(const T&, size_t, TIndexOffU*, size_t, TIndexOffU*, int, size_t, size_t, size_t, size_t, EList<long unsigned int>*) [with T = S2bDnaString]’:
ds.h:497:3: warning: ‘tmp2’ may be used uninitialized in this function [-Wmaybe-uninitialized]
497 | list_[cur_++] = el;
| ^~~~~
ds.h:497:3: warning: ‘tmp3’ may be used uninitialized in this function [-Wmaybe-uninitialized]
497 | list_[cur_++] = el;
| ^~~~~
ds.h:497:3: warning: ‘tmp4’ may be used uninitialized in this function [-Wmaybe-uninitialized]
497 | list_[cur_++] = el;
| ^~~~~
ds.h: In function ‘void mkeyQSortSuf2(const T&, size_t, TIndexOffU*, size_t, TIndexOffU*, int, size_t, size_t, size_t, size_t, EList<long unsigned int>*) [with T = SString<char>]’:
ds.h:497:3: warning: ‘tmp2’ may be used uninitialized in this function [-Wmaybe-uninitialized]
497 | list_[cur_++] = el;
| ^~~~~
ds.h:497:3: warning: ‘tmp3’ may be used uninitialized in this function [-Wmaybe-uninitialized]
497 | list_[cur_++] = el;
| ^~~~~
ds.h:497:3: warning: ‘tmp4’ may be used uninitialized in this function [-Wmaybe-uninitialized]
497 | list_[cur_++] = el;
| ^~~~~
g++ -O3 -DCOMPILER_OPTIONS="\"-O3 -Wl,--hash-style=both -g -O2 -Wall -g -O2 -Wall \"" -Wl,--hash-style=both -g -O2 -Wall -g -O2 -Wall \
-fno-strict-aliasing -DBOWTIE_VERSION="\"`cat VERSION`\"" -DBUILD_HOST="\"`hostname`\"" -DBUILD_TIME="\"2023-11-01T20:08:04\"" -DCOMPILER_VERSION="\"`g++ -v 2>&1 | tail -1`\"" -D_LARGEFILE_SOURCE -D_FILE_OFFSET_BITS=64 -D_GNU_SOURCE -DPREFETCH_LOCALITY=2 -DBOWTIE_MM -DBOWTIE_SHARED_MEM -DNDEBUG -Wall -Wno-unused-parameter -Wno-reorder \
-I third_party \
-o bowtie-align-s ebwt_search.cpp \
ccnt_lut.cpp ref_read.cpp alphabet.cpp shmem.cpp edit.cpp ebwt.cpp bt2_locks.cpp tinythread.cpp qual.cpp pat.cpp ebwt_search_util.cpp ref_aligner.cpp log.cpp hit_set.cpp sam.cpp hit.cpp bowtie_main.cpp \
-L/usr/local/lib -lz -lpthread
mkdir -p ../inst
cp bowtie-align-s ../inst/bowtie
cp bowtie-build-s ../inst/bowtie-build
cd SpliceMap; \
make -f Makefile; \
echo "MAKE of SpliceMap DONE"
make[1]: Entering directory '/home/biocbuild/bbs-3.18-bioc/meat/Rbowtie/src/SpliceMap'
`"/home/biocbuild/R/R-4.3.1/bin/R" CMD config CXX` `"/home/biocbuild/R/R-4.3.1/bin/R" CMD config CXXFLAGS` -c SpliceMap_utils_QuasR.cpp
`"/home/biocbuild/R/R-4.3.1/bin/R" CMD config CXX` `"/home/biocbuild/R/R-4.3.1/bin/R" CMD config CXXFLAGS` -c params.cpp
`"/home/biocbuild/R/R-4.3.1/bin/R" CMD config CXX` `"/home/biocbuild/R/R-4.3.1/bin/R" CMD config CXXFLAGS` -c cfgfile.cpp
`"/home/biocbuild/R/R-4.3.1/bin/R" CMD config CXX` `"/home/biocbuild/R/R-4.3.1/bin/R" CMD config LDFLAGS` `"/home/biocbuild/R/R-4.3.1/bin/R" CMD config CXXFLAGS` -o runSpliceMap_QuasR SpliceMap_utils_QuasR.o cfgfile.o runSpliceMap_QuasR.cpp params.o
runSpliceMap_QuasR.cpp: In function ‘int main(int, char* const*)’:
runSpliceMap_QuasR.cpp:108:31: warning: variable ‘chr_file_list_it’ set but not used [-Wunused-but-set-variable]
108 | vector<string>::iterator chr_file_list_it = chr_file_list.begin();
| ^~~~~~~~~~~~~~~~
runSpliceMap_QuasR.cpp:537:26: warning: comparison of integer expressions of different signedness: ‘std::__cxx11::basic_string<char>::size_type’ {aka ‘long unsigned int’} and ‘int’ [-Wsign-compare]
537 | if (line.length() > head_clip_length) {
| ~~~~~~~~~~~~~~^~~~~~~~~~~~~~~~~~
runSpliceMap_QuasR.cpp:595:26: warning: comparison of integer expressions of different signedness: ‘std::__cxx11::basic_string<char>::size_type’ {aka ‘long unsigned int’} and ‘int’ [-Wsign-compare]
595 | if (line.length() > head_clip_length) {
| ~~~~~~~~~~~~~~^~~~~~~~~~~~~~~~~~
runSpliceMap_QuasR.cpp:716:26: warning: comparison of integer expressions of different signedness: ‘std::__cxx11::basic_string<char>::size_type’ {aka ‘long unsigned int’} and ‘int’ [-Wsign-compare]
716 | if (line.length() > head_clip_length) {
| ~~~~~~~~~~~~~~^~~~~~~~~~~~~~~~~~
runSpliceMap_QuasR.cpp:841:22: warning: comparison of integer expressions of different signedness: ‘std::__cxx11::basic_string<char>::size_type’ {aka ‘long unsigned int’} and ‘int’ [-Wsign-compare]
841 | if (line.length() > head_clip_length) {
| ~~~~~~~~~~~~~~^~~~~~~~~~~~~~~~~~
runSpliceMap_QuasR.cpp: In function ‘void processbowtie(std::string&, std::string&)’:
runSpliceMap_QuasR.cpp:1327:9: warning: variable ‘min_mismatch’ set but not used [-Wunused-but-set-variable]
1327 | int min_mismatch;
| ^~~~~~~~~~~~
`"/home/biocbuild/R/R-4.3.1/bin/R" CMD config CXX` `"/home/biocbuild/R/R-4.3.1/bin/R" CMD config LDFLAGS` `"/home/biocbuild/R/R-4.3.1/bin/R" CMD config CXXFLAGS` -o sortsam sortsam.cpp SpliceMap_utils_QuasR.o params.o
sortsam.cpp: In function ‘int main(int, char* const*)’:
sortsam.cpp:189:13: warning: comparison of integer expressions of different signedness: ‘int’ and ‘const size_type’ {aka ‘const long unsigned int’} [-Wsign-compare]
189 | if (nmloc == string::npos) { // unaligned, no NM tag
| ~~~~~~^~~~~~~~~~~~~~~
sortsam.cpp:194:18: warning: comparison of integer expressions of different signedness: ‘int’ and ‘const size_type’ {aka ‘const long unsigned int’} [-Wsign-compare]
194 | if (nmloc2 == string::npos) {
| ~~~~~~~^~~~~~~~~~~~~~~
sortsam.cpp:231:14: warning: comparison of integer expressions of different signedness: ‘int’ and ‘const size_type’ {aka ‘const long unsigned int’} [-Wsign-compare]
231 | if (nmloc == string::npos) { // unaligned, no NM tag
| ~~~~~~^~~~~~~~~~~~~~~
sortsam.cpp:236:19: warning: comparison of integer expressions of different signedness: ‘int’ and ‘const size_type’ {aka ‘const long unsigned int’} [-Wsign-compare]
236 | if (nmloc2 == string::npos) {
| ~~~~~~~^~~~~~~~~~~~~~~
`"/home/biocbuild/R/R-4.3.1/bin/R" CMD config CXX` `"/home/biocbuild/R/R-4.3.1/bin/R" CMD config LDFLAGS` `"/home/biocbuild/R/R-4.3.1/bin/R" CMD config CXXFLAGS` -o amalgamateSAM amalgamateSAM.cpp SpliceMap_utils_QuasR.o params.o
amalgamateSAM.cpp: In function ‘int extractId(const string&)’:
amalgamateSAM.cpp:19:18: warning: comparison of integer expressions of different signedness: ‘int’ and ‘const size_type’ {aka ‘const long unsigned int’} [-Wsign-compare]
19 | if(start_pos != string::npos && end_pos != string::npos)
| ~~~~~~~~~~^~~~~~~~~~~~~~~
amalgamateSAM.cpp:19:45: warning: comparison of integer expressions of different signedness: ‘int’ and ‘const size_type’ {aka ‘const long unsigned int’} [-Wsign-compare]
19 | if(start_pos != string::npos && end_pos != string::npos)
| ~~~~~~~~^~~~~~~~~~~~~~~
amalgamateSAM.cpp: In function ‘void update_jun_coverage(std::map<std::__cxx11::basic_string<char>, std::map<int, std::map<int, jun_store_ij> > >&, std::string, bool)’:
amalgamateSAM.cpp:695:17: warning: variable ‘front_clip’ set but not used [-Wunused-but-set-variable]
695 | uint_fast32_t front_clip = 0;
| ^~~~~~~~~~
`"/home/biocbuild/R/R-4.3.1/bin/R" CMD config CXX` `"/home/biocbuild/R/R-4.3.1/bin/R" CMD config LDFLAGS` `"/home/biocbuild/R/R-4.3.1/bin/R" CMD config CXXFLAGS` -o getSpliceMapUnmapped getSpliceMapUnmapped.cpp
getSpliceMapUnmapped.cpp: In function ‘int extractNextId(const string&)’:
getSpliceMapUnmapped.cpp:88:18: warning: comparison of integer expressions of different signedness: ‘int’ and ‘const size_type’ {aka ‘const long unsigned int’} [-Wsign-compare]
88 | if(start_pos != string::npos && end_pos != string::npos)
| ~~~~~~~~~~^~~~~~~~~~~~~~~
getSpliceMapUnmapped.cpp:88:45: warning: comparison of integer expressions of different signedness: ‘int’ and ‘const size_type’ {aka ‘const long unsigned int’} [-Wsign-compare]
88 | if(start_pos != string::npos && end_pos != string::npos)
| ~~~~~~~~^~~~~~~~~~~~~~~
`"/home/biocbuild/R/R-4.3.1/bin/R" CMD config CXX` `"/home/biocbuild/R/R-4.3.1/bin/R" CMD config LDFLAGS` `"/home/biocbuild/R/R-4.3.1/bin/R" CMD config CXXFLAGS` -o fuseReorder fuseReorder.cpp
`"/home/biocbuild/R/R-4.3.1/bin/R" CMD config CXX` `"/home/biocbuild/R/R-4.3.1/bin/R" CMD config LDFLAGS` `"/home/biocbuild/R/R-4.3.1/bin/R" CMD config CXXFLAGS` -o SpliceMap main.cpp SpliceMap_utils_QuasR.o params.o cfgfile.o
make[1]: Leaving directory '/home/biocbuild/bbs-3.18-bioc/meat/Rbowtie/src/SpliceMap'
MAKE of SpliceMap DONE
mkdir -p ../inst
cp SpliceMap/SpliceMap ../inst/SpliceMap
cp SpliceMap/amalgamateSAM ../inst/amalgamateSAM
cp SpliceMap/getSpliceMapUnmapped ../inst/getSpliceMapUnmapped
cp SpliceMap/fuseReorder ../inst/fuseReorder
cp SpliceMap/runSpliceMap_QuasR ../inst/runSpliceMap_QuasR
cp SpliceMap/sortsam ../inst/sortsam
** R
** inst
** byte-compile and prepare package for lazy loading
** help
*** installing help indices
** building package indices
** installing vignettes
** testing if installed package can be loaded from temporary location
** testing if installed package can be loaded from final location
** testing if installed package keeps a record of temporary installation path
* DONE (Rbowtie)