| Back to Multiple platform build/check report for BioC 3.18: simplified long |
|
This page was generated on 2023-11-02 11:41:11 -0400 (Thu, 02 Nov 2023).
| Hostname | OS | Arch (*) | R version | Installed pkgs |
|---|---|---|---|---|
| nebbiolo2 | Linux (Ubuntu 22.04.2 LTS) | x86_64 | 4.3.1 (2023-06-16) -- "Beagle Scouts" | 4729 |
| palomino4 | Windows Server 2022 Datacenter | x64 | 4.3.1 (2023-06-16 ucrt) -- "Beagle Scouts" | 4463 |
| lconway | macOS 12.6.5 Monterey | x86_64 | 4.3.1 Patched (2023-06-17 r84564) -- "Beagle Scouts" | 4478 |
| kunpeng2 | Linux (openEuler 22.03 LTS-SP1) | aarch64 | 4.3.1 (2023-06-16) -- "Beagle Scouts" | 4464 |
| Click on any hostname to see more info about the system (e.g. compilers) (*) as reported by 'uname -p', except on Windows and Mac OS X | ||||
| Package 1765/2266 | Hostname | OS / Arch | INSTALL | BUILD | CHECK | BUILD BIN | ||||||||
| RMassBank 3.12.0 (landing page) RMassBank at Eawag
| nebbiolo2 | Linux (Ubuntu 22.04.2 LTS) / x86_64 | OK | OK | ERROR | |||||||||
| palomino4 | Windows Server 2022 Datacenter / x64 | OK | OK | OK | OK | |||||||||
| lconway | macOS 12.6.5 Monterey / x86_64 | OK | OK | ERROR | OK | |||||||||
| kjohnson1 | macOS 13.6.1 Ventura / arm64 | see weekly results here | ||||||||||||
| kunpeng2 | Linux (openEuler 22.03 LTS-SP1) / aarch64 | OK | OK | OK | ||||||||||
|
To the developers/maintainers of the RMassBank package: - Allow up to 24 hours (and sometimes 48 hours) for your latest push to git@git.bioconductor.org:packages/RMassBank.git to reflect on this report. See Troubleshooting Build Report for more information. - Use the following Renviron settings to reproduce errors and warnings. - If 'R CMD check' started to fail recently on the Linux builder(s) over a missing dependency, add the missing dependency to 'Suggests:' in your DESCRIPTION file. See Renviron.bioc for more information. - See Martin Grigorov's blog post for how to debug Linux ARM64 related issues on a x86_64 host. |
| Package: RMassBank |
| Version: 3.12.0 |
| Command: /home/biocbuild/R/R-4.3.1/bin/R CMD check --install=check:RMassBank.install-out.txt --library=/home/biocbuild/R/R-4.3.1/site-library --no-vignettes --timings RMassBank_3.12.0.tar.gz |
| StartedAt: 2023-11-02 13:46:58 -0000 (Thu, 02 Nov 2023) |
| EndedAt: 2023-11-02 13:50:53 -0000 (Thu, 02 Nov 2023) |
| EllapsedTime: 235.2 seconds |
| RetCode: 0 |
| Status: OK |
| CheckDir: RMassBank.Rcheck |
| Warnings: 0 |
##############################################################################
##############################################################################
###
### Running command:
###
### /home/biocbuild/R/R-4.3.1/bin/R CMD check --install=check:RMassBank.install-out.txt --library=/home/biocbuild/R/R-4.3.1/site-library --no-vignettes --timings RMassBank_3.12.0.tar.gz
###
##############################################################################
##############################################################################
* using log directory ‘/home/biocbuild/bbs-3.18-bioc/meat/RMassBank.Rcheck’
* using R version 4.3.1 (2023-06-16)
* using platform: aarch64-unknown-linux-gnu (64-bit)
* R was compiled by
gcc (GCC) 10.3.1
GNU Fortran (GCC) 10.3.1
* running under: openEuler 22.03 (LTS-SP1)
* using session charset: UTF-8
* using option ‘--no-vignettes’
* checking for file ‘RMassBank/DESCRIPTION’ ... OK
* checking extension type ... Package
* this is package ‘RMassBank’ version ‘3.12.0’
* package encoding: UTF-8
* checking package namespace information ... OK
* checking package dependencies ... OK
* checking if this is a source package ... OK
* checking if there is a namespace ... OK
* checking for hidden files and directories ... NOTE
Found the following hidden files and directories:
.travis.yml
These were most likely included in error. See section ‘Package
structure’ in the ‘Writing R Extensions’ manual.
* checking for portable file names ... OK
* checking for sufficient/correct file permissions ... OK
* checking whether package ‘RMassBank’ can be installed ... OK
* checking installed package size ... OK
* checking package directory ... OK
* checking ‘build’ directory ... OK
* checking DESCRIPTION meta-information ... OK
* checking top-level files ... OK
* checking for left-over files ... OK
* checking index information ... OK
* checking package subdirectories ... OK
* checking R files for non-ASCII characters ... OK
* checking R files for syntax errors ... OK
* checking whether the package can be loaded ... OK
* checking whether the package can be loaded with stated dependencies ... OK
* checking whether the package can be unloaded cleanly ... OK
* checking whether the namespace can be loaded with stated dependencies ... OK
* checking whether the namespace can be unloaded cleanly ... OK
* checking loading without being on the library search path ... OK
* checking startup messages can be suppressed ... OK
* checking dependencies in R code ... NOTE
Namespace in Imports field not imported from: ‘ChemmineOB’
All declared Imports should be used.
Unexported object imported by a ':::' call: ‘MSnbase:::writeMgfContent’
See the note in ?`:::` about the use of this operator.
* checking S3 generic/method consistency ... OK
* checking replacement functions ... OK
* checking foreign function calls ... OK
* checking R code for possible problems ... NOTE
analyzeMsMs.formula.optimized: no visible binding for global variable
‘occurrenceMatrix’
msmsRead.ticms2: no visible global function definition for
‘c.msmsWSspecs’
reanalyzeFailpeak: no visible binding for global variable ‘mass.calc’
updateObject,RmbSpectraSet: no visible global function definition for
‘updateObjectFromSlots’
Undefined global functions or variables:
c.msmsWSspecs mass.calc occurrenceMatrix updateObjectFromSlots
* checking Rd files ... OK
* checking Rd metadata ... OK
* checking Rd cross-references ... OK
* checking for missing documentation entries ... OK
* checking for code/documentation mismatches ... OK
* checking Rd \usage sections ... OK
* checking Rd contents ... OK
* checking for unstated dependencies in examples ... OK
* checking line endings in Makefiles ... OK
* checking for GNU extensions in Makefiles ... OK
* checking include directives in Makefiles ... OK
* checking files in ‘vignettes’ ... OK
* checking examples ... OK
* checking for unstated dependencies in ‘tests’ ... OK
* checking tests ...
Running ‘doRUnit.R’
OK
* checking for unstated dependencies in vignettes ... OK
* checking package vignettes in ‘inst/doc’ ... OK
* checking running R code from vignettes ... SKIPPED
* checking re-building of vignette outputs ... SKIPPED
* checking PDF version of manual ... OK
* DONE
Status: 3 NOTEs
See
‘/home/biocbuild/bbs-3.18-bioc/meat/RMassBank.Rcheck/00check.log’
for details.
RMassBank.Rcheck/00install.out
############################################################################## ############################################################################## ### ### Running command: ### ### /home/biocbuild/R/R-4.3.1/bin/R CMD INSTALL RMassBank ### ############################################################################## ############################################################################## * installing to library ‘/home/biocbuild/R/R-4.3.1/site-library’ * installing *source* package ‘RMassBank’ ... ** using staged installation ** R ** inst ** byte-compile and prepare package for lazy loading ** help *** installing help indices ** building package indices ** installing vignettes ** testing if installed package can be loaded from temporary location ** testing if installed package can be loaded from final location ** testing if installed package keeps a record of temporary installation path * DONE (RMassBank)
RMassBank.Rcheck/tests/doRUnit.Rout
R version 4.3.1 (2023-06-16) -- "Beagle Scouts"
Copyright (C) 2023 The R Foundation for Statistical Computing
Platform: aarch64-unknown-linux-gnu (64-bit)
R is free software and comes with ABSOLUTELY NO WARRANTY.
You are welcome to redistribute it under certain conditions.
Type 'license()' or 'licence()' for distribution details.
R is a collaborative project with many contributors.
Type 'contributors()' for more information and
'citation()' on how to cite R or R packages in publications.
Type 'demo()' for some demos, 'help()' for on-line help, or
'help.start()' for an HTML browser interface to help.
Type 'q()' to quit R.
> #### doRUnit.R --- Run RUnit tests
> ####------------------------------------------------------------------------
>
> ### Structure borrowed from rcppgls:
> ### https://github.com/eddelbuettel/rcppgsl/blob/master/tests/doRUnit.R
>
> if(require("RUnit", quietly = TRUE)) {
+ if(require("RMassBankData", quietly = TRUE) && !(compareVersion(installed.packages()["RMassBankData","Version"],"1.99.0") == -1)) {
+ pkg <- "RMassBank"
+ print("Starting tests")
+ require(pkg, character.only=TRUE)
+
+ path <- system.file("unitTests", package = pkg)
+
+ stopifnot(file.exists(path), file.info(path.expand(path))$isdir)
+
+ source(file.path(path, "runTests.R"), echo = TRUE)
+ } else {
+ ## Taking this message out until the new RMassBankData is on bioc, just to avoid confusion.
+ # message("Package RMassBankData with version > 1.99 not available, cannot run unit tests")
+ }
+ } else {
+ message("Package RUnit not available, cannot run unit tests")
+ }
NULL
>
> proc.time()
user system elapsed
0.305 0.045 0.397
RMassBank.Rcheck/RMassBank-Ex.timings
| name | user | system | elapsed | |
| CAS2SMILES | 0.040 | 0.020 | 2.003 | |
| CTS.externalIdSubset | 0 | 0 | 0 | |
| CTS.externalIdTypes | 0 | 0 | 0 | |
| RmbDefaultSettings | 0.001 | 0.005 | 0.008 | |
| add.formula | 0.002 | 0.003 | 0.004 | |
| addMB | 0 | 0 | 0 | |
| addPeaks | 0 | 0 | 0 | |
| addPeaksManually | 0 | 0 | 0 | |
| aggregateSpectra | 0 | 0 | 0 | |
| analyzeMsMs | 0 | 0 | 0 | |
| annotator.default | 0 | 0 | 0 | |
| archiveResults | 0.009 | 0.002 | 0.011 | |
| cleanElnoise | 0.000 | 0.000 | 0.001 | |
| combineMultiplicities | 0 | 0 | 0 | |
| compoundlist2SDF | 0 | 0 | 0 | |
| createCompoundlist | 0 | 0 | 0 | |
| createMolfile | 0 | 0 | 0 | |
| dbe | 0 | 0 | 0 | |
| deprofile | 0 | 0 | 0 | |
| dot-parseTitleString | 0.000 | 0.001 | 0.000 | |
| filterCompoundlist | 0 | 0 | 0 | |
| filterLowaccResults | 0 | 0 | 0 | |
| filterMultiplicity | 0 | 0 | 0 | |
| filterPeakSatellites | 0 | 0 | 0 | |
| filterPeaksMultiplicity | 0 | 0 | 0 | |
| findMass | 0.820 | 0.094 | 0.542 | |
| findMsMsHR | 0 | 0 | 0 | |
| findMsMsHRperxcms | 0 | 0 | 0 | |
| findMz | 0 | 0 | 0 | |
| findMz.formula | 0.445 | 0.024 | 0.426 | |
| findProgress | 0.001 | 0.000 | 0.001 | |
| flatten | 0 | 0 | 0 | |
| formulastring.to.list | 0.001 | 0.000 | 0.001 | |
| gatherData | 0 | 0 | 0 | |
| gatherDataBabel | 0 | 0 | 0 | |
| gatherDataUnknown | 0.001 | 0.000 | 0.000 | |
| gatherPubChem | 0 | 0 | 0 | |
| getCSID | 0 | 0 | 0 | |
| getCactus | 0.033 | 0.004 | 1.625 | |
| getCtsKey | 0.022 | 0.001 | 3.045 | |
| getCtsRecord | 0.021 | 0.001 | 0.454 | |
| getField | 0 | 0 | 0 | |
| getMolecule | 0.050 | 0.000 | 0.031 | |
| getPcId | 0.023 | 0.000 | 1.427 | |
| is.valid.formula | 0.001 | 0.000 | 0.000 | |
| loadInfolists | 0 | 0 | 0 | |
| loadList | 0 | 0 | 0 | |
| makeRecalibration | 0.001 | 0.000 | 0.000 | |
| mbWorkflow | 0 | 0 | 0 | |
| mergePeaks | 0.000 | 0.000 | 0.001 | |
| order.formula | 0.002 | 0.000 | 0.002 | |
| parseMassBank | 0 | 0 | 0 | |
| parseMbRecord | 0.001 | 0.000 | 0.000 | |
| plotMbWorkspaces | 0 | 0 | 0 | |
| ppm | 0.000 | 0.000 | 0.001 | |
| problematicPeaks | 0.600 | 0.011 | 0.611 | |
| reanalyzeFailpeaks | 0 | 0 | 0 | |
| recalibrate | 0 | 0 | 0 | |
| recalibrate.addMS1data | 0.000 | 0.000 | 0.001 | |
| smiles2mass | 0 | 0 | 0 | |
| to.limits.rcdk | 0.002 | 0.000 | 0.001 | |
| toMassbank | 0 | 0 | 0 | |
| toRMB | 0 | 0 | 0 | |
| updateHeader | 0 | 0 | 0 | |
| updateSettings | 0 | 0 | 0 | |
| validate | 0.001 | 0.000 | 0.000 | |