| Back to Multiple platform build/check report for BioC 3.18: simplified long |
|
This page was generated on 2023-11-02 11:41:07 -0400 (Thu, 02 Nov 2023).
| Hostname | OS | Arch (*) | R version | Installed pkgs |
|---|---|---|---|---|
| nebbiolo2 | Linux (Ubuntu 22.04.2 LTS) | x86_64 | 4.3.1 (2023-06-16) -- "Beagle Scouts" | 4729 |
| palomino4 | Windows Server 2022 Datacenter | x64 | 4.3.1 (2023-06-16 ucrt) -- "Beagle Scouts" | 4463 |
| lconway | macOS 12.6.5 Monterey | x86_64 | 4.3.1 Patched (2023-06-17 r84564) -- "Beagle Scouts" | 4478 |
| kunpeng2 | Linux (openEuler 22.03 LTS-SP1) | aarch64 | 4.3.1 (2023-06-16) -- "Beagle Scouts" | 4464 |
| Click on any hostname to see more info about the system (e.g. compilers) (*) as reported by 'uname -p', except on Windows and Mac OS X | ||||
| Package 1641/2266 | Hostname | OS / Arch | INSTALL | BUILD | CHECK | BUILD BIN | ||||||||
| QUBIC 1.30.0 (landing page) Yu Zhang
| nebbiolo2 | Linux (Ubuntu 22.04.2 LTS) / x86_64 | OK | OK | OK | |||||||||
| palomino4 | Windows Server 2022 Datacenter / x64 | OK | OK | OK | OK | |||||||||
| lconway | macOS 12.6.5 Monterey / x86_64 | OK | OK | OK | OK | |||||||||
| kjohnson1 | macOS 13.6.1 Ventura / arm64 | see weekly results here | ||||||||||||
| kunpeng2 | Linux (openEuler 22.03 LTS-SP1) / aarch64 | OK | OK | OK | ||||||||||
|
To the developers/maintainers of the QUBIC package: - Allow up to 24 hours (and sometimes 48 hours) for your latest push to git@git.bioconductor.org:packages/QUBIC.git to reflect on this report. See Troubleshooting Build Report for more information. - Use the following Renviron settings to reproduce errors and warnings. - If 'R CMD check' started to fail recently on the Linux builder(s) over a missing dependency, add the missing dependency to 'Suggests:' in your DESCRIPTION file. See Renviron.bioc for more information. - See Martin Grigorov's blog post for how to debug Linux ARM64 related issues on a x86_64 host. |
| Package: QUBIC |
| Version: 1.30.0 |
| Command: /home/biocbuild/R/R-4.3.1/bin/R CMD check --install=check:QUBIC.install-out.txt --library=/home/biocbuild/R/R-4.3.1/site-library --no-vignettes --timings QUBIC_1.30.0.tar.gz |
| StartedAt: 2023-11-02 13:25:20 -0000 (Thu, 02 Nov 2023) |
| EndedAt: 2023-11-02 13:26:06 -0000 (Thu, 02 Nov 2023) |
| EllapsedTime: 46.1 seconds |
| RetCode: 0 |
| Status: OK |
| CheckDir: QUBIC.Rcheck |
| Warnings: 0 |
##############################################################################
##############################################################################
###
### Running command:
###
### /home/biocbuild/R/R-4.3.1/bin/R CMD check --install=check:QUBIC.install-out.txt --library=/home/biocbuild/R/R-4.3.1/site-library --no-vignettes --timings QUBIC_1.30.0.tar.gz
###
##############################################################################
##############################################################################
* using log directory ‘/home/biocbuild/bbs-3.18-bioc/meat/QUBIC.Rcheck’
* using R version 4.3.1 (2023-06-16)
* using platform: aarch64-unknown-linux-gnu (64-bit)
* R was compiled by
gcc (GCC) 10.3.1
GNU Fortran (GCC) 10.3.1
* running under: openEuler 22.03 (LTS-SP1)
* using session charset: UTF-8
* using option ‘--no-vignettes’
* checking for file ‘QUBIC/DESCRIPTION’ ... OK
* checking extension type ... Package
* this is package ‘QUBIC’ version ‘1.30.0’
* checking package namespace information ... OK
* checking package dependencies ... OK
* checking if this is a source package ... OK
* checking if there is a namespace ... OK
* checking for hidden files and directories ... OK
* checking for portable file names ... OK
* checking for sufficient/correct file permissions ... OK
* checking whether package ‘QUBIC’ can be installed ... OK
* used C compiler: ‘gcc (GCC) 10.3.1’
* used C++ compiler: ‘g++ (GCC) 10.3.1’
* checking C++ specification ... NOTE
Specified C++11: please drop specification unless essential
* checking installed package size ... NOTE
installed size is 5.8Mb
sub-directories of 1Mb or more:
libs 5.6Mb
* checking package directory ... OK
* checking ‘build’ directory ... OK
* checking DESCRIPTION meta-information ... OK
* checking top-level files ... OK
* checking for left-over files ... OK
* checking index information ... OK
* checking package subdirectories ... OK
* checking R files for non-ASCII characters ... OK
* checking R files for syntax errors ... OK
* checking whether the package can be loaded ... OK
* checking whether the package can be loaded with stated dependencies ... OK
* checking whether the package can be unloaded cleanly ... OK
* checking whether the namespace can be loaded with stated dependencies ... OK
* checking whether the namespace can be unloaded cleanly ... OK
* checking loading without being on the library search path ... OK
* checking dependencies in R code ... OK
* checking S3 generic/method consistency ... OK
* checking replacement functions ... OK
* checking foreign function calls ... OK
* checking R code for possible problems ... OK
* checking Rd files ... OK
* checking Rd metadata ... OK
* checking Rd cross-references ... OK
* checking for missing documentation entries ... OK
* checking for code/documentation mismatches ... OK
* checking Rd \usage sections ... OK
* checking Rd contents ... OK
* checking for unstated dependencies in examples ... OK
* checking line endings in C/C++/Fortran sources/headers ... OK
* checking line endings in Makefiles ... OK
* checking compilation flags in Makevars ... OK
* checking for GNU extensions in Makefiles ... OK
* checking for portable use of $(BLAS_LIBS) and $(LAPACK_LIBS) ... OK
* checking use of PKG_*FLAGS in Makefiles ... OK
* checking compiled code ... NOTE
Note: information on .o files is not available
File ‘/home/biocbuild/R/R-4.3.1/site-library/QUBIC/libs/QUBIC.so’:
Found ‘stderr’, possibly from ‘stderr’ (C)
Found ‘stdout’, possibly from ‘stdout’ (C)
Compiled code should not call entry points which might terminate R nor
write to stdout/stderr instead of to the console, nor use Fortran I/O
nor system RNGs nor [v]sprintf. The detected symbols are linked into
the code but might come from libraries and not actually be called.
See ‘Writing portable packages’ in the ‘Writing R Extensions’ manual.
* checking files in ‘vignettes’ ... OK
* checking examples ... OK
* checking for unstated dependencies in vignettes ... OK
* checking package vignettes in ‘inst/doc’ ... OK
* checking running R code from vignettes ... SKIPPED
* checking re-building of vignette outputs ... SKIPPED
* checking PDF version of manual ... OK
* DONE
Status: 3 NOTEs
See
‘/home/biocbuild/bbs-3.18-bioc/meat/QUBIC.Rcheck/00check.log’
for details.
QUBIC.Rcheck/00install.out
##############################################################################
##############################################################################
###
### Running command:
###
### /home/biocbuild/R/R-4.3.1/bin/R CMD INSTALL QUBIC
###
##############################################################################
##############################################################################
* installing to library ‘/home/biocbuild/R/R-4.3.1/site-library’
* installing *source* package ‘QUBIC’ ...
** using staged installation
** libs
using C compiler: ‘gcc (GCC) 10.3.1’
using C++ compiler: ‘g++ (GCC) 10.3.1’
using C++11
g++ -std=gnu++11 -I"/home/biocbuild/R/R-4.3.1/include" -DNDEBUG -I'/home/biocbuild/R/R-4.3.1/site-library/Rcpp/include' -I'/home/biocbuild/R/R-4.3.1/site-library/RcppArmadillo/include' -I/usr/local/include -fopenmp -fPIC -g -O2 -Wall -c RcppExports.cpp -o RcppExports.o
g++ -std=gnu++11 -I"/home/biocbuild/R/R-4.3.1/include" -DNDEBUG -I'/home/biocbuild/R/R-4.3.1/site-library/Rcpp/include' -I'/home/biocbuild/R/R-4.3.1/site-library/RcppArmadillo/include' -I/usr/local/include -fopenmp -fPIC -g -O2 -Wall -c charset.cc -o charset.o
g++ -std=gnu++11 -I"/home/biocbuild/R/R-4.3.1/include" -DNDEBUG -I'/home/biocbuild/R/R-4.3.1/site-library/Rcpp/include' -I'/home/biocbuild/R/R-4.3.1/site-library/RcppArmadillo/include' -I/usr/local/include -fopenmp -fPIC -g -O2 -Wall -c cluster.cc -o cluster.o
cluster.cc: In function ‘bool internal::check_seed(const Edge*, const std::vector<Block>&, std::size_t)’:
cluster.cc:132:19: warning: comparison of integer expressions of different signedness: ‘const int’ and ‘std::size_t’ {aka ‘long unsigned int’} [-Wsign-compare]
132 | return e->score >= b3;
| ~~~~~~~~~^~~~~
g++ -std=gnu++11 -I"/home/biocbuild/R/R-4.3.1/include" -DNDEBUG -I'/home/biocbuild/R/R-4.3.1/site-library/Rcpp/include' -I'/home/biocbuild/R/R-4.3.1/site-library/RcppArmadillo/include' -I/usr/local/include -fopenmp -fPIC -g -O2 -Wall -c discretize.cc -o discretize.o
g++ -std=gnu++11 -I"/home/biocbuild/R/R-4.3.1/include" -DNDEBUG -I'/home/biocbuild/R/R-4.3.1/site-library/Rcpp/include' -I'/home/biocbuild/R/R-4.3.1/site-library/RcppArmadillo/include' -I/usr/local/include -fopenmp -fPIC -g -O2 -Wall -c edge_list.cc -o edge_list.o
gcc -I"/home/biocbuild/R/R-4.3.1/include" -DNDEBUG -I'/home/biocbuild/R/R-4.3.1/site-library/Rcpp/include' -I'/home/biocbuild/R/R-4.3.1/site-library/RcppArmadillo/include' -I/usr/local/include -fPIC -g -O2 -Wall -c fib.c -o fib.o
g++ -std=gnu++11 -I"/home/biocbuild/R/R-4.3.1/include" -DNDEBUG -I'/home/biocbuild/R/R-4.3.1/site-library/Rcpp/include' -I'/home/biocbuild/R/R-4.3.1/site-library/RcppArmadillo/include' -I/usr/local/include -fopenmp -fPIC -g -O2 -Wall -c fopen_matrix.cc -o fopen_matrix.o
g++ -std=gnu++11 -I"/home/biocbuild/R/R-4.3.1/include" -DNDEBUG -I'/home/biocbuild/R/R-4.3.1/site-library/Rcpp/include' -I'/home/biocbuild/R/R-4.3.1/site-library/RcppArmadillo/include' -I/usr/local/include -fopenmp -fPIC -g -O2 -Wall -c qubic.cc -o qubic.o
g++ -std=gnu++11 -I"/home/biocbuild/R/R-4.3.1/include" -DNDEBUG -I'/home/biocbuild/R/R-4.3.1/site-library/Rcpp/include' -I'/home/biocbuild/R/R-4.3.1/site-library/RcppArmadillo/include' -I/usr/local/include -fopenmp -fPIC -g -O2 -Wall -c rcpp_qubic.cpp -o rcpp_qubic.o
g++ -std=gnu++11 -I"/home/biocbuild/R/R-4.3.1/include" -DNDEBUG -I'/home/biocbuild/R/R-4.3.1/site-library/Rcpp/include' -I'/home/biocbuild/R/R-4.3.1/site-library/RcppArmadillo/include' -I/usr/local/include -fopenmp -fPIC -g -O2 -Wall -c struct.cc -o struct.o
g++ -std=gnu++11 -shared -L/home/biocbuild/R/R-4.3.1/lib -L/usr/local/lib -o QUBIC.so RcppExports.o charset.o cluster.o discretize.o edge_list.o fib.o fopen_matrix.o qubic.o rcpp_qubic.o struct.o -fopenmp -L/home/biocbuild/R/R-4.3.1/lib -lR
installing to /home/biocbuild/R/R-4.3.1/site-library/00LOCK-QUBIC/00new/QUBIC/libs
** R
** inst
** byte-compile and prepare package for lazy loading
** help
*** installing help indices
** building package indices
** installing vignettes
** testing if installed package can be loaded from temporary location
** checking absolute paths in shared objects and dynamic libraries
** testing if installed package can be loaded from final location
** testing if installed package keeps a record of temporary installation path
* DONE (QUBIC)
QUBIC.Rcheck/QUBIC-Ex.timings
| name | user | system | elapsed | |
| QUBIC | 0.054 | 0.000 | 0.055 | |
| qudiscretize | 0.003 | 0.000 | 0.003 | |
| quheatmap | 0.981 | 0.100 | 1.099 | |
| qunet2xml | 0.027 | 0.028 | 0.055 | |
| qunetwork | 0.009 | 0.004 | 0.013 | |
| showinfo | 0.027 | 0.004 | 0.031 | |