| Back to Multiple platform build/check report for BioC 3.18: simplified long |
|
This page was generated on 2024-04-17 11:36:12 -0400 (Wed, 17 Apr 2024).
| Hostname | OS | Arch (*) | R version | Installed pkgs |
|---|---|---|---|---|
| nebbiolo2 | Linux (Ubuntu 22.04.3 LTS) | x86_64 | 4.3.3 (2024-02-29) -- "Angel Food Cake" | 4676 |
| palomino4 | Windows Server 2022 Datacenter | x64 | 4.3.3 (2024-02-29 ucrt) -- "Angel Food Cake" | 4414 |
| merida1 | macOS 12.7.1 Monterey | x86_64 | 4.3.3 (2024-02-29) -- "Angel Food Cake" | 4437 |
| Click on any hostname to see more info about the system (e.g. compilers) (*) as reported by 'uname -p', except on Windows and Mac OS X | ||||
| Package 1480/2266 | Hostname | OS / Arch | INSTALL | BUILD | CHECK | BUILD BIN | ||||||||
| OUTRIDER 1.20.0 (landing page) Christian Mertes
| nebbiolo2 | Linux (Ubuntu 22.04.3 LTS) / x86_64 | OK | OK | OK | |||||||||
| palomino4 | Windows Server 2022 Datacenter / x64 | OK | OK | OK | OK | |||||||||
| merida1 | macOS 12.7.1 Monterey / x86_64 | OK | OK | OK | OK | |||||||||
| kjohnson1 | macOS 13.6.1 Ventura / arm64 | see weekly results here | ||||||||||||
|
To the developers/maintainers of the OUTRIDER package: - Allow up to 24 hours (and sometimes 48 hours) for your latest push to git@git.bioconductor.org:packages/OUTRIDER.git to reflect on this report. See Troubleshooting Build Report for more information. - Use the following Renviron settings to reproduce errors and warnings. - If 'R CMD check' started to fail recently on the Linux builder(s) over a missing dependency, add the missing dependency to 'Suggests:' in your DESCRIPTION file. See Renviron.bioc for more information. |
| Package: OUTRIDER |
| Version: 1.20.0 |
| Command: /home/biocbuild/bbs-3.18-bioc/R/bin/R CMD check --install=check:OUTRIDER.install-out.txt --library=/home/biocbuild/bbs-3.18-bioc/R/site-library --timings OUTRIDER_1.20.0.tar.gz |
| StartedAt: 2024-04-16 01:56:05 -0400 (Tue, 16 Apr 2024) |
| EndedAt: 2024-04-16 02:18:26 -0400 (Tue, 16 Apr 2024) |
| EllapsedTime: 1340.5 seconds |
| RetCode: 0 |
| Status: OK |
| CheckDir: OUTRIDER.Rcheck |
| Warnings: 0 |
##############################################################################
##############################################################################
###
### Running command:
###
### /home/biocbuild/bbs-3.18-bioc/R/bin/R CMD check --install=check:OUTRIDER.install-out.txt --library=/home/biocbuild/bbs-3.18-bioc/R/site-library --timings OUTRIDER_1.20.0.tar.gz
###
##############################################################################
##############################################################################
* using log directory ‘/home/biocbuild/bbs-3.18-bioc/meat/OUTRIDER.Rcheck’
* using R version 4.3.3 (2024-02-29)
* using platform: x86_64-pc-linux-gnu (64-bit)
* R was compiled by
gcc (Ubuntu 11.4.0-1ubuntu1~22.04) 11.4.0
GNU Fortran (Ubuntu 11.4.0-1ubuntu1~22.04) 11.4.0
* running under: Ubuntu 22.04.4 LTS
* using session charset: UTF-8
* checking for file ‘OUTRIDER/DESCRIPTION’ ... OK
* checking extension type ... Package
* this is package ‘OUTRIDER’ version ‘1.20.0’
* package encoding: UTF-8
* checking package namespace information ... OK
* checking package dependencies ... OK
* checking if this is a source package ... OK
* checking if there is a namespace ... OK
* checking for hidden files and directories ... OK
* checking for portable file names ... OK
* checking for sufficient/correct file permissions ... OK
* checking whether package ‘OUTRIDER’ can be installed ... OK
* used C++ compiler: ‘g++ (Ubuntu 11.4.0-1ubuntu1~22.04) 11.4.0’
* checking C++ specification ... NOTE
Specified C++11: please drop specification unless essential
* checking installed package size ... OK
* checking package directory ... OK
* checking ‘build’ directory ... OK
* checking DESCRIPTION meta-information ... OK
* checking top-level files ... OK
* checking for left-over files ... OK
* checking index information ... OK
* checking package subdirectories ... OK
* checking R files for non-ASCII characters ... OK
* checking R files for syntax errors ... OK
* checking whether the package can be loaded ... OK
* checking whether the package can be loaded with stated dependencies ... OK
* checking whether the package can be unloaded cleanly ... OK
* checking whether the namespace can be loaded with stated dependencies ... OK
* checking whether the namespace can be unloaded cleanly ... OK
* checking loading without being on the library search path ... OK
* checking dependencies in R code ... OK
* checking S3 generic/method consistency ... OK
* checking replacement functions ... OK
* checking foreign function calls ... OK
* checking R code for possible problems ... NOTE
padjOnSubset: no visible global function definition for ‘bpmapply’
Undefined global functions or variables:
bpmapply
* checking Rd files ... OK
* checking Rd metadata ... OK
* checking Rd cross-references ... OK
* checking for missing documentation entries ... OK
* checking for code/documentation mismatches ... OK
* checking Rd \usage sections ... OK
* checking Rd contents ... OK
* checking for unstated dependencies in examples ... OK
* checking line endings in C/C++/Fortran sources/headers ... OK
* checking line endings in Makefiles ... OK
* checking compilation flags in Makevars ... OK
* checking for GNU extensions in Makefiles ... OK
* checking for portable use of $(BLAS_LIBS) and $(LAPACK_LIBS) ... OK
* checking use of PKG_*FLAGS in Makefiles ... OK
* checking compiled code ... NOTE
Note: information on .o files is not available
* checking files in ‘vignettes’ ... OK
* checking examples ... OK
Examples with CPU (user + system) or elapsed time > 5s
user system elapsed
OUTRIDER 23.566 4.265 33.477
findEncodingDim 21.633 0.743 22.609
plotFunctions 7.296 0.164 7.413
computePvalues 3.332 3.567 5.653
* checking for unstated dependencies in ‘tests’ ... OK
* checking tests ...
Running ‘testthat.R’
OK
* checking for unstated dependencies in vignettes ... OK
* checking package vignettes in ‘inst/doc’ ... OK
* checking running R code from vignettes ...
‘OUTRIDER.Rnw’ using ‘UTF-8’... OK
OK
* checking re-building of vignette outputs ... OK
* checking PDF version of manual ... OK
* DONE
Status: 3 NOTEs
See
‘/home/biocbuild/bbs-3.18-bioc/meat/OUTRIDER.Rcheck/00check.log’
for details.
OUTRIDER.Rcheck/00install.out
############################################################################## ############################################################################## ### ### Running command: ### ### /home/biocbuild/bbs-3.18-bioc/R/bin/R CMD INSTALL OUTRIDER ### ############################################################################## ############################################################################## * installing to library ‘/home/biocbuild/bbs-3.18-bioc/R/site-library’ * installing *source* package ‘OUTRIDER’ ... ** using staged installation ** libs using C++ compiler: ‘g++ (Ubuntu 11.4.0-1ubuntu1~22.04) 11.4.0’ using C++11 g++ -std=gnu++11 -I"/home/biocbuild/bbs-3.18-bioc/R/include" -DNDEBUG -I'/home/biocbuild/bbs-3.18-bioc/R/site-library/Rcpp/include' -I'/home/biocbuild/bbs-3.18-bioc/R/site-library/RcppArmadillo/include' -I/usr/local/include -fopenmp -DARMA_DONT_USE_OPENMP -fpic -g -O2 -Wall -c RcppExports.cpp -o RcppExports.o g++ -std=gnu++11 -I"/home/biocbuild/bbs-3.18-bioc/R/include" -DNDEBUG -I'/home/biocbuild/bbs-3.18-bioc/R/site-library/Rcpp/include' -I'/home/biocbuild/bbs-3.18-bioc/R/site-library/RcppArmadillo/include' -I/usr/local/include -fopenmp -DARMA_DONT_USE_OPENMP -fpic -g -O2 -Wall -c loss_n_gradient_functions.cpp -o loss_n_gradient_functions.o g++ -std=gnu++11 -shared -L/home/biocbuild/bbs-3.18-bioc/R/lib -L/usr/local/lib -o OUTRIDER.so RcppExports.o loss_n_gradient_functions.o -fopenmp -llapack -L/home/biocbuild/bbs-3.18-bioc/R/lib -lRblas -lgfortran -lm -lquadmath -L/home/biocbuild/bbs-3.18-bioc/R/lib -lR installing to /home/biocbuild/bbs-3.18-bioc/R/site-library/00LOCK-OUTRIDER/00new/OUTRIDER/libs ** R ** inst ** byte-compile and prepare package for lazy loading ** help *** installing help indices ** building package indices ** installing vignettes ** testing if installed package can be loaded from temporary location ** checking absolute paths in shared objects and dynamic libraries ** testing if installed package can be loaded from final location ** testing if installed package keeps a record of temporary installation path * DONE (OUTRIDER)
OUTRIDER.Rcheck/tests/testthat.Rout
R version 4.3.3 (2024-02-29) -- "Angel Food Cake"
Copyright (C) 2024 The R Foundation for Statistical Computing
Platform: x86_64-pc-linux-gnu (64-bit)
R is free software and comes with ABSOLUTELY NO WARRANTY.
You are welcome to redistribute it under certain conditions.
Type 'license()' or 'licence()' for distribution details.
R is a collaborative project with many contributors.
Type 'contributors()' for more information and
'citation()' on how to cite R or R packages in publications.
Type 'demo()' for some demos, 'help()' for on-line help, or
'help.start()' for an HTML browser interface to help.
Type 'q()' to quit R.
> library(testthat)
> library(OUTRIDER)
Loading required package: BiocParallel
Loading required package: GenomicFeatures
Loading required package: BiocGenerics
Attaching package: 'BiocGenerics'
The following objects are masked from 'package:stats':
IQR, mad, sd, var, xtabs
The following objects are masked from 'package:base':
Filter, Find, Map, Position, Reduce, anyDuplicated, aperm, append,
as.data.frame, basename, cbind, colnames, dirname, do.call,
duplicated, eval, evalq, get, grep, grepl, intersect, is.unsorted,
lapply, mapply, match, mget, order, paste, pmax, pmax.int, pmin,
pmin.int, rank, rbind, rownames, sapply, setdiff, sort, table,
tapply, union, unique, unsplit, which.max, which.min
Loading required package: S4Vectors
Loading required package: stats4
Attaching package: 'S4Vectors'
The following object is masked from 'package:utils':
findMatches
The following objects are masked from 'package:base':
I, expand.grid, unname
Loading required package: IRanges
Loading required package: GenomeInfoDb
Loading required package: GenomicRanges
Loading required package: AnnotationDbi
Loading required package: Biobase
Welcome to Bioconductor
Vignettes contain introductory material; view with
'browseVignettes()'. To cite Bioconductor, see
'citation("Biobase")', and for packages 'citation("pkgname")'.
Loading required package: SummarizedExperiment
Loading required package: MatrixGenerics
Loading required package: matrixStats
Attaching package: 'matrixStats'
The following objects are masked from 'package:Biobase':
anyMissing, rowMedians
Attaching package: 'MatrixGenerics'
The following objects are masked from 'package:matrixStats':
colAlls, colAnyNAs, colAnys, colAvgsPerRowSet, colCollapse,
colCounts, colCummaxs, colCummins, colCumprods, colCumsums,
colDiffs, colIQRDiffs, colIQRs, colLogSumExps, colMadDiffs,
colMads, colMaxs, colMeans2, colMedians, colMins, colOrderStats,
colProds, colQuantiles, colRanges, colRanks, colSdDiffs, colSds,
colSums2, colTabulates, colVarDiffs, colVars, colWeightedMads,
colWeightedMeans, colWeightedMedians, colWeightedSds,
colWeightedVars, rowAlls, rowAnyNAs, rowAnys, rowAvgsPerColSet,
rowCollapse, rowCounts, rowCummaxs, rowCummins, rowCumprods,
rowCumsums, rowDiffs, rowIQRDiffs, rowIQRs, rowLogSumExps,
rowMadDiffs, rowMads, rowMaxs, rowMeans2, rowMedians, rowMins,
rowOrderStats, rowProds, rowQuantiles, rowRanges, rowRanks,
rowSdDiffs, rowSds, rowSums2, rowTabulates, rowVarDiffs, rowVars,
rowWeightedMads, rowWeightedMeans, rowWeightedMedians,
rowWeightedSds, rowWeightedVars
The following object is masked from 'package:Biobase':
rowMedians
Loading required package: data.table
Attaching package: 'data.table'
The following object is masked from 'package:SummarizedExperiment':
shift
The following object is masked from 'package:GenomicRanges':
shift
The following object is masked from 'package:IRanges':
shift
The following objects are masked from 'package:S4Vectors':
first, second
>
> register(SerialParam())
>
> test_check("OUTRIDER")
[1] "Tue Apr 16 02:06:50 2024: Initial PCA loss: 5.97534670793608"
[1] "Tue Apr 16 02:06:52 2024: Iteration: 1 loss: 4.29439555026151"
[1] "Tue Apr 16 02:06:53 2024: Iteration: 2 loss: 4.23654437310289"
[1] "Tue Apr 16 02:06:54 2024: Iteration: 3 loss: 4.21855914549604"
[1] "Tue Apr 16 02:06:55 2024: Iteration: 4 loss: 4.2086527490138"
[1] "Tue Apr 16 02:06:57 2024: Iteration: 5 loss: 4.20277466179413"
[1] "Tue Apr 16 02:06:58 2024: Iteration: 6 loss: 4.19580380609528"
Time difference of 7.266503 secs
[1] "Tue Apr 16 02:06:58 2024: 6 Final nb-AE loss: 4.19580380609528"
[1] "Tue Apr 16 02:07:02 2024: Initial PCA loss: 5.97534670793608"
[1] "Tue Apr 16 02:07:03 2024: Iteration: 1 loss: 4.29439555026151"
[1] "Tue Apr 16 02:07:04 2024: Iteration: 2 loss: 4.23654437310289"
[1] "Tue Apr 16 02:07:04 2024: Iteration: 3 loss: 4.21855914549604"
[1] "Tue Apr 16 02:07:05 2024: Iteration: 4 loss: 4.2086527490138"
[1] "Tue Apr 16 02:07:05 2024: Iteration: 5 loss: 4.20277466179413"
[1] "Tue Apr 16 02:07:07 2024: Iteration: 6 loss: 4.19580380609528"
Time difference of 5.238101 secs
[1] "Tue Apr 16 02:07:07 2024: 6 Final nb-AE loss: 4.19580380609528"
class: OutriderDataSet
class: RangedSummarizedExperiment
dim: 100 50
metadata(1): version
assays(1): counts
rownames(100): ENSG00000223972.4 ENSG00000227232.4 ...
ENSG00000107404.13 ENSG00000162576.12
rowData names(0):
colnames(50): GTEX.UPK5.0426.SM.3GAEK GTEX.WFG7.2026.SM.3GIL7 ...
GTEX.11UD2.2526.SM.5CVNU GTEX.13O61.1426.SM.5KM3D
colData names(1): sampleID
[1] "Tue Apr 16 02:07:33 2024: Initial PCA loss: 4.50248663597247"
[1] "Tue Apr 16 02:07:39 2024: Iteration: 1 loss: 4.17881950119175"
[1] "Tue Apr 16 02:07:41 2024: Iteration: 2 loss: 4.16378432800157"
Time difference of 5.664885 secs
[1] "Tue Apr 16 02:07:41 2024: 2 Final nb-AE loss: 4.16378432800157"
[1] "Evaluation loss: 0.422955065982615 for q=3"
[1] "Tue Apr 16 02:07:43 2024: Initial PCA loss: 4.46574333569974"
[1] "Tue Apr 16 02:07:46 2024: Iteration: 1 loss: 4.05315653090338"
[1] "Tue Apr 16 02:07:48 2024: Iteration: 2 loss: 4.0303639713358"
Time difference of 3.972703 secs
[1] "Tue Apr 16 02:07:48 2024: 2 Final nb-AE loss: 4.0303639713358"
[1] "Evaluation loss: 0.448599764490529 for q=4"
[1] "Tue Apr 16 02:07:50 2024: Initial PCA loss: 4.43775079702117"
[1] "Tue Apr 16 02:07:52 2024: Iteration: 1 loss: 3.96133674516232"
[1] "Tue Apr 16 02:07:52 2024: Iteration: 2 loss: 3.91571654308136"
Time difference of 1.735839 secs
[1] "Tue Apr 16 02:07:52 2024: 2 Final nb-AE loss: 3.91571654308136"
[1] "Evaluation loss: 0.456361518869089 for q=5"
[1] "Tue Apr 16 02:08:06 2024: Initial PCA loss: 6.46616282459584"
[1] "Tue Apr 16 02:08:08 2024: Iteration: 1 loss: 4.81520071473822"
[1] "Tue Apr 16 02:08:09 2024: Iteration: 2 loss: 4.78981527904659"
Time difference of 2.599005 secs
[1] "Tue Apr 16 02:08:09 2024: 2 Final nb-AE loss: 4.78981527904659"
[ FAIL 0 | WARN 33 | SKIP 0 | PASS 103 ]
[ FAIL 0 | WARN 33 | SKIP 0 | PASS 103 ]
>
> proc.time()
user system elapsed
109.912 2.341 143.434
OUTRIDER.Rcheck/OUTRIDER-Ex.timings
| name | user | system | elapsed | |
| OUTRIDER | 23.566 | 4.265 | 33.477 | |
| OutriderDataSet-class | 1.175 | 0.064 | 1.243 | |
| aberrant | 1.977 | 0.664 | 1.847 | |
| computeGeneLength | 1.400 | 0.124 | 1.524 | |
| computeLatentSpace | 0.866 | 0.044 | 0.910 | |
| computePvalues | 3.332 | 3.567 | 5.653 | |
| computeZscores | 2.041 | 0.240 | 3.146 | |
| controlForConfounders | 2.573 | 0.176 | 4.007 | |
| counts | 1.231 | 0.020 | 1.792 | |
| estimateBestQ | 0.821 | 0.028 | 1.192 | |
| filterExpression | 3.068 | 0.168 | 3.410 | |
| findEncodingDim | 21.633 | 0.743 | 22.609 | |
| fit | 0.789 | 0.048 | 0.836 | |
| fpkm | 0.680 | 0.000 | 0.679 | |
| getter_setter_functions | 2.833 | 0.017 | 2.849 | |
| makeExampleOutriderDataSet | 1.046 | 0.004 | 1.050 | |
| normalizationFactors | 0.701 | 0.004 | 0.705 | |
| plotFunctions | 7.296 | 0.164 | 7.413 | |
| results | 2.863 | 0.009 | 2.871 | |
| sampleExclusionMask | 0.378 | 0.000 | 0.378 | |
| sizeFactors | 0.589 | 0.008 | 0.596 | |