| Back to Multiple platform build/check report for BioC 3.18: simplified long |
|
This page was generated on 2024-04-17 11:38:02 -0400 (Wed, 17 Apr 2024).
| Hostname | OS | Arch (*) | R version | Installed pkgs |
|---|---|---|---|---|
| nebbiolo2 | Linux (Ubuntu 22.04.3 LTS) | x86_64 | 4.3.3 (2024-02-29) -- "Angel Food Cake" | 4676 |
| palomino4 | Windows Server 2022 Datacenter | x64 | 4.3.3 (2024-02-29 ucrt) -- "Angel Food Cake" | 4414 |
| merida1 | macOS 12.7.1 Monterey | x86_64 | 4.3.3 (2024-02-29) -- "Angel Food Cake" | 4437 |
| Click on any hostname to see more info about the system (e.g. compilers) (*) as reported by 'uname -p', except on Windows and Mac OS X | ||||
| Package 1480/2266 | Hostname | OS / Arch | INSTALL | BUILD | CHECK | BUILD BIN | ||||||||
| OUTRIDER 1.20.0 (landing page) Christian Mertes
| nebbiolo2 | Linux (Ubuntu 22.04.3 LTS) / x86_64 | OK | OK | OK | |||||||||
| palomino4 | Windows Server 2022 Datacenter / x64 | OK | OK | OK | OK | |||||||||
| merida1 | macOS 12.7.1 Monterey / x86_64 | OK | OK | OK | OK | |||||||||
| kjohnson1 | macOS 13.6.1 Ventura / arm64 | see weekly results here | ||||||||||||
|
To the developers/maintainers of the OUTRIDER package: - Allow up to 24 hours (and sometimes 48 hours) for your latest push to git@git.bioconductor.org:packages/OUTRIDER.git to reflect on this report. See Troubleshooting Build Report for more information. - Use the following Renviron settings to reproduce errors and warnings. - If 'R CMD check' started to fail recently on the Linux builder(s) over a missing dependency, add the missing dependency to 'Suggests:' in your DESCRIPTION file. See Renviron.bioc for more information. |
| Package: OUTRIDER |
| Version: 1.20.0 |
| Command: /Library/Frameworks/R.framework/Resources/bin/R CMD check --install=check:OUTRIDER.install-out.txt --library=/Library/Frameworks/R.framework/Resources/library --no-vignettes --timings OUTRIDER_1.20.0.tar.gz |
| StartedAt: 2024-04-16 06:33:14 -0400 (Tue, 16 Apr 2024) |
| EndedAt: 2024-04-16 06:49:02 -0400 (Tue, 16 Apr 2024) |
| EllapsedTime: 948.4 seconds |
| RetCode: 0 |
| Status: OK |
| CheckDir: OUTRIDER.Rcheck |
| Warnings: 0 |
##############################################################################
##############################################################################
###
### Running command:
###
### /Library/Frameworks/R.framework/Resources/bin/R CMD check --install=check:OUTRIDER.install-out.txt --library=/Library/Frameworks/R.framework/Resources/library --no-vignettes --timings OUTRIDER_1.20.0.tar.gz
###
##############################################################################
##############################################################################
* using log directory ‘/Users/biocbuild/bbs-3.18-bioc/meat/OUTRIDER.Rcheck’
* using R version 4.3.3 (2024-02-29)
* using platform: x86_64-apple-darwin20 (64-bit)
* R was compiled by
Apple clang version 14.0.0 (clang-1400.0.29.202)
GNU Fortran (GCC) 12.2.0
* running under: macOS Monterey 12.7.1
* using session charset: UTF-8
* using option ‘--no-vignettes’
* checking for file ‘OUTRIDER/DESCRIPTION’ ... OK
* checking extension type ... Package
* this is package ‘OUTRIDER’ version ‘1.20.0’
* package encoding: UTF-8
* checking package namespace information ... OK
* checking package dependencies ... OK
* checking if this is a source package ... OK
* checking if there is a namespace ... OK
* checking for hidden files and directories ... OK
* checking for portable file names ... OK
* checking for sufficient/correct file permissions ... OK
* checking whether package ‘OUTRIDER’ can be installed ... OK
* used C++ compiler: ‘Apple clang version 14.0.0 (clang-1400.0.29.202)’
* used SDK: ‘MacOSX11.3.sdk’
* checking C++ specification ... NOTE
Specified C++11: please drop specification unless essential
* checking installed package size ... OK
* checking package directory ... OK
* checking ‘build’ directory ... OK
* checking DESCRIPTION meta-information ... OK
* checking top-level files ... OK
* checking for left-over files ... OK
* checking index information ... OK
* checking package subdirectories ... OK
* checking R files for non-ASCII characters ... OK
* checking R files for syntax errors ... OK
* checking whether the package can be loaded ... OK
* checking whether the package can be loaded with stated dependencies ... OK
* checking whether the package can be unloaded cleanly ... OK
* checking whether the namespace can be loaded with stated dependencies ... OK
* checking whether the namespace can be unloaded cleanly ... OK
* checking dependencies in R code ... OK
* checking S3 generic/method consistency ... OK
* checking replacement functions ... OK
* checking foreign function calls ... OK
* checking R code for possible problems ... NOTE
padjOnSubset: no visible global function definition for ‘bpmapply’
Undefined global functions or variables:
bpmapply
* checking Rd files ... OK
* checking Rd metadata ... OK
* checking Rd cross-references ... OK
* checking for missing documentation entries ... OK
* checking for code/documentation mismatches ... OK
* checking Rd \usage sections ... OK
* checking Rd contents ... OK
* checking for unstated dependencies in examples ... OK
* checking line endings in C/C++/Fortran sources/headers ... OK
* checking line endings in Makefiles ... OK
* checking compilation flags in Makevars ... OK
* checking for GNU extensions in Makefiles ... OK
* checking for portable use of $(BLAS_LIBS) and $(LAPACK_LIBS) ... OK
* checking use of PKG_*FLAGS in Makefiles ... OK
* checking compiled code ... NOTE
Note: information on .o files is not available
* checking sizes of PDF files under ‘inst/doc’ ... OK
* checking files in ‘vignettes’ ... OK
* checking examples ... OK
Examples with CPU (user + system) or elapsed time > 5s
user system elapsed
findEncodingDim 24.212 0.456 25.271
OUTRIDER 18.745 3.709 21.548
plotFunctions 16.044 0.662 17.404
computePvalues 5.119 2.502 5.868
results 6.976 0.079 7.241
getter_setter_functions 6.585 0.044 6.958
aberrant 4.302 1.143 4.265
* checking for unstated dependencies in ‘tests’ ... OK
* checking tests ...
Running ‘testthat.R’
OK
* checking for unstated dependencies in vignettes ... OK
* checking package vignettes in ‘inst/doc’ ... OK
* checking running R code from vignettes ... SKIPPED
* checking re-building of vignette outputs ... SKIPPED
* checking PDF version of manual ... OK
* DONE
Status: 3 NOTEs
See
‘/Users/biocbuild/bbs-3.18-bioc/meat/OUTRIDER.Rcheck/00check.log’
for details.
OUTRIDER.Rcheck/00install.out
############################################################################## ############################################################################## ### ### Running command: ### ### /Library/Frameworks/R.framework/Resources/bin/R CMD INSTALL OUTRIDER ### ############################################################################## ############################################################################## * installing to library ‘/Library/Frameworks/R.framework/Versions/4.3-x86_64/Resources/library’ * installing *source* package ‘OUTRIDER’ ... ** using staged installation ** libs using C++ compiler: ‘Apple clang version 14.0.0 (clang-1400.0.29.202)’ using C++11 using SDK: ‘MacOSX11.3.sdk’ clang++ -arch x86_64 -std=gnu++11 -I"/Library/Frameworks/R.framework/Resources/include" -DNDEBUG -I'/Library/Frameworks/R.framework/Versions/4.3-x86_64/Resources/library/Rcpp/include' -I'/Library/Frameworks/R.framework/Versions/4.3-x86_64/Resources/library/RcppArmadillo/include' -I/opt/R/x86_64/include -DARMA_DONT_USE_OPENMP -fPIC -falign-functions=64 -Wall -g -O2 -c RcppExports.cpp -o RcppExports.o clang++ -arch x86_64 -std=gnu++11 -I"/Library/Frameworks/R.framework/Resources/include" -DNDEBUG -I'/Library/Frameworks/R.framework/Versions/4.3-x86_64/Resources/library/Rcpp/include' -I'/Library/Frameworks/R.framework/Versions/4.3-x86_64/Resources/library/RcppArmadillo/include' -I/opt/R/x86_64/include -DARMA_DONT_USE_OPENMP -fPIC -falign-functions=64 -Wall -g -O2 -c loss_n_gradient_functions.cpp -o loss_n_gradient_functions.o clang++ -arch x86_64 -std=gnu++11 -dynamiclib -Wl,-headerpad_max_install_names -undefined dynamic_lookup -L/Library/Frameworks/R.framework/Resources/lib -L/opt/R/x86_64/lib -o OUTRIDER.so RcppExports.o loss_n_gradient_functions.o -L/Library/Frameworks/R.framework/Resources/lib -lRlapack -L/Library/Frameworks/R.framework/Resources/lib -lRblas -L/opt/gfortran/lib/gcc/x86_64-apple-darwin20.0/12.2.0 -L/opt/gfortran/lib -lgfortran -lquadmath -F/Library/Frameworks/R.framework/.. -framework R -Wl,-framework -Wl,CoreFoundation installing to /Library/Frameworks/R.framework/Versions/4.3-x86_64/Resources/library/00LOCK-OUTRIDER/00new/OUTRIDER/libs ** R ** inst ** byte-compile and prepare package for lazy loading ** help *** installing help indices ** building package indices ** installing vignettes ** testing if installed package can be loaded from temporary location ** checking absolute paths in shared objects and dynamic libraries ** testing if installed package can be loaded from final location ** testing if installed package keeps a record of temporary installation path * DONE (OUTRIDER)
OUTRIDER.Rcheck/tests/testthat.Rout
R version 4.3.3 (2024-02-29) -- "Angel Food Cake"
Copyright (C) 2024 The R Foundation for Statistical Computing
Platform: x86_64-apple-darwin20 (64-bit)
R is free software and comes with ABSOLUTELY NO WARRANTY.
You are welcome to redistribute it under certain conditions.
Type 'license()' or 'licence()' for distribution details.
R is a collaborative project with many contributors.
Type 'contributors()' for more information and
'citation()' on how to cite R or R packages in publications.
Type 'demo()' for some demos, 'help()' for on-line help, or
'help.start()' for an HTML browser interface to help.
Type 'q()' to quit R.
> library(testthat)
> library(OUTRIDER)
Loading required package: BiocParallel
Loading required package: GenomicFeatures
Loading required package: BiocGenerics
Attaching package: 'BiocGenerics'
The following objects are masked from 'package:stats':
IQR, mad, sd, var, xtabs
The following objects are masked from 'package:base':
Filter, Find, Map, Position, Reduce, anyDuplicated, aperm, append,
as.data.frame, basename, cbind, colnames, dirname, do.call,
duplicated, eval, evalq, get, grep, grepl, intersect, is.unsorted,
lapply, mapply, match, mget, order, paste, pmax, pmax.int, pmin,
pmin.int, rank, rbind, rownames, sapply, setdiff, sort, table,
tapply, union, unique, unsplit, which.max, which.min
Loading required package: S4Vectors
Loading required package: stats4
Attaching package: 'S4Vectors'
The following object is masked from 'package:utils':
findMatches
The following objects are masked from 'package:base':
I, expand.grid, unname
Loading required package: IRanges
Loading required package: GenomeInfoDb
Loading required package: GenomicRanges
Loading required package: AnnotationDbi
Loading required package: Biobase
Welcome to Bioconductor
Vignettes contain introductory material; view with
'browseVignettes()'. To cite Bioconductor, see
'citation("Biobase")', and for packages 'citation("pkgname")'.
Loading required package: SummarizedExperiment
Loading required package: MatrixGenerics
Loading required package: matrixStats
Attaching package: 'matrixStats'
The following objects are masked from 'package:Biobase':
anyMissing, rowMedians
Attaching package: 'MatrixGenerics'
The following objects are masked from 'package:matrixStats':
colAlls, colAnyNAs, colAnys, colAvgsPerRowSet, colCollapse,
colCounts, colCummaxs, colCummins, colCumprods, colCumsums,
colDiffs, colIQRDiffs, colIQRs, colLogSumExps, colMadDiffs,
colMads, colMaxs, colMeans2, colMedians, colMins, colOrderStats,
colProds, colQuantiles, colRanges, colRanks, colSdDiffs, colSds,
colSums2, colTabulates, colVarDiffs, colVars, colWeightedMads,
colWeightedMeans, colWeightedMedians, colWeightedSds,
colWeightedVars, rowAlls, rowAnyNAs, rowAnys, rowAvgsPerColSet,
rowCollapse, rowCounts, rowCummaxs, rowCummins, rowCumprods,
rowCumsums, rowDiffs, rowIQRDiffs, rowIQRs, rowLogSumExps,
rowMadDiffs, rowMads, rowMaxs, rowMeans2, rowMedians, rowMins,
rowOrderStats, rowProds, rowQuantiles, rowRanges, rowRanks,
rowSdDiffs, rowSds, rowSums2, rowTabulates, rowVarDiffs, rowVars,
rowWeightedMads, rowWeightedMeans, rowWeightedMedians,
rowWeightedSds, rowWeightedVars
The following object is masked from 'package:Biobase':
rowMedians
Loading required package: data.table
Attaching package: 'data.table'
The following object is masked from 'package:SummarizedExperiment':
shift
The following object is masked from 'package:GenomicRanges':
shift
The following object is masked from 'package:IRanges':
shift
The following objects are masked from 'package:S4Vectors':
first, second
>
> register(SerialParam())
>
> test_check("OUTRIDER")
[1] "Tue Apr 16 06:46:41 2024: Initial PCA loss: 6.2649665154296"
[1] "Tue Apr 16 06:46:44 2024: Iteration: 1 loss: 4.74386306049221"
[1] "Tue Apr 16 06:46:45 2024: Iteration: 2 loss: 4.63526266794325"
[1] "Tue Apr 16 06:46:47 2024: Iteration: 3 loss: 4.57432476646886"
[1] "Tue Apr 16 06:46:48 2024: Iteration: 4 loss: 4.55454837124262"
[1] "Tue Apr 16 06:46:50 2024: Iteration: 5 loss: 4.54431983997764"
[1] "Tue Apr 16 06:46:51 2024: Iteration: 6 loss: 4.5371336274725"
Time difference of 9.182261 secs
[1] "Tue Apr 16 06:46:51 2024: 6 Final nb-AE loss: 4.5371336274725"
[1] "Tue Apr 16 06:46:54 2024: Initial PCA loss: 6.2649665154296"
[1] "Tue Apr 16 06:46:57 2024: Iteration: 1 loss: 4.74386306049221"
[1] "Tue Apr 16 06:46:58 2024: Iteration: 2 loss: 4.63526266794325"
[1] "Tue Apr 16 06:47:00 2024: Iteration: 3 loss: 4.57432476646886"
[1] "Tue Apr 16 06:47:01 2024: Iteration: 4 loss: 4.55454837124262"
[1] "Tue Apr 16 06:47:03 2024: Iteration: 5 loss: 4.54431983997764"
[1] "Tue Apr 16 06:47:04 2024: Iteration: 6 loss: 4.5371336274725"
Time difference of 9.385509 secs
[1] "Tue Apr 16 06:47:04 2024: 6 Final nb-AE loss: 4.5371336274725"
class: OutriderDataSet
class: RangedSummarizedExperiment
dim: 100 50
metadata(1): version
assays(1): counts
rownames(100): ENSG00000223972.4 ENSG00000227232.4 ...
ENSG00000107404.13 ENSG00000162576.12
rowData names(0):
colnames(50): GTEX.UPK5.0426.SM.3GAEK GTEX.WFG7.2026.SM.3GIL7 ...
GTEX.11UD2.2526.SM.5CVNU GTEX.13O61.1426.SM.5KM3D
colData names(1): sampleID
[1] "Tue Apr 16 06:47:35 2024: Initial PCA loss: 4.47439067147365"
[1] "Tue Apr 16 06:47:38 2024: Iteration: 1 loss: 4.12933734937179"
[1] "Tue Apr 16 06:47:39 2024: Iteration: 2 loss: 4.10701343862173"
Time difference of 3.178847 secs
[1] "Tue Apr 16 06:47:39 2024: 2 Final nb-AE loss: 4.10701343862173"
[1] "Evaluation loss: 0.595817323768451 for q=3"
[1] "Tue Apr 16 06:47:41 2024: Initial PCA loss: 4.45187438909926"
[1] "Tue Apr 16 06:47:44 2024: Iteration: 1 loss: 4.06537530275595"
[1] "Tue Apr 16 06:47:46 2024: Iteration: 2 loss: 4.03154637523066"
Time difference of 3.227508 secs
[1] "Tue Apr 16 06:47:46 2024: 2 Final nb-AE loss: 4.03154637523066"
[1] "Evaluation loss: 0.515666205414267 for q=4"
[1] "Tue Apr 16 06:47:48 2024: Initial PCA loss: 4.42619091196831"
[1] "Tue Apr 16 06:47:51 2024: Iteration: 1 loss: 3.9895579901776"
[1] "Tue Apr 16 06:47:52 2024: Iteration: 2 loss: 3.96285392907458"
Time difference of 3.100255 secs
[1] "Tue Apr 16 06:47:52 2024: 2 Final nb-AE loss: 3.96285392907458"
[1] "Evaluation loss: 0.493535506023085 for q=5"
Error in x$.self$finalize() : attempt to apply non-function
[1] "Tue Apr 16 06:48:13 2024: Initial PCA loss: 6.46616282459584"
[1] "Tue Apr 16 06:48:16 2024: Iteration: 1 loss: 4.81564422796968"
[1] "Tue Apr 16 06:48:18 2024: Iteration: 2 loss: 4.7904984813622"
Time difference of 3.947843 secs
[1] "Tue Apr 16 06:48:18 2024: 2 Final nb-AE loss: 4.7904984813622"
[ FAIL 0 | WARN 33 | SKIP 0 | PASS 103 ]
[ FAIL 0 | WARN 33 | SKIP 0 | PASS 103 ]
Warning message:
call dbDisconnect() when finished working with a connection
>
> proc.time()
user system elapsed
149.254 3.163 159.622
OUTRIDER.Rcheck/OUTRIDER-Ex.timings
| name | user | system | elapsed | |
| OUTRIDER | 18.745 | 3.709 | 21.548 | |
| OutriderDataSet-class | 2.008 | 0.222 | 2.377 | |
| aberrant | 4.302 | 1.143 | 4.265 | |
| computeGeneLength | 3.226 | 0.376 | 3.943 | |
| computeLatentSpace | 1.763 | 0.019 | 2.119 | |
| computePvalues | 5.119 | 2.502 | 5.868 | |
| computeZscores | 2.141 | 0.273 | 2.456 | |
| controlForConfounders | 2.569 | 0.164 | 2.797 | |
| counts | 1.299 | 0.018 | 1.339 | |
| estimateBestQ | 0.899 | 0.008 | 1.114 | |
| filterExpression | 3.166 | 0.043 | 3.266 | |
| findEncodingDim | 24.212 | 0.456 | 25.271 | |
| fit | 1.848 | 0.024 | 1.884 | |
| fpkm | 1.709 | 0.022 | 1.794 | |
| getter_setter_functions | 6.585 | 0.044 | 6.958 | |
| makeExampleOutriderDataSet | 2.403 | 0.017 | 2.516 | |
| normalizationFactors | 1.623 | 0.014 | 1.847 | |
| plotFunctions | 16.044 | 0.662 | 17.404 | |
| results | 6.976 | 0.079 | 7.241 | |
| sampleExclusionMask | 0.940 | 0.008 | 0.966 | |
| sizeFactors | 1.418 | 0.016 | 1.547 | |