| Back to Multiple platform build/check report for BioC 3.18: simplified long |
|
This page was generated on 2023-11-02 11:40:59 -0400 (Thu, 02 Nov 2023).
| Hostname | OS | Arch (*) | R version | Installed pkgs |
|---|---|---|---|---|
| nebbiolo2 | Linux (Ubuntu 22.04.2 LTS) | x86_64 | 4.3.1 (2023-06-16) -- "Beagle Scouts" | 4729 |
| palomino4 | Windows Server 2022 Datacenter | x64 | 4.3.1 (2023-06-16 ucrt) -- "Beagle Scouts" | 4463 |
| lconway | macOS 12.6.5 Monterey | x86_64 | 4.3.1 Patched (2023-06-17 r84564) -- "Beagle Scouts" | 4478 |
| kunpeng2 | Linux (openEuler 22.03 LTS-SP1) | aarch64 | 4.3.1 (2023-06-16) -- "Beagle Scouts" | 4464 |
| Click on any hostname to see more info about the system (e.g. compilers) (*) as reported by 'uname -p', except on Windows and Mac OS X | ||||
| Package 1376/2266 | Hostname | OS / Arch | INSTALL | BUILD | CHECK | BUILD BIN | ||||||||
| MutationalPatterns 3.12.0 (landing page) Mark van Roosmalen
| nebbiolo2 | Linux (Ubuntu 22.04.2 LTS) / x86_64 | OK | OK | OK | |||||||||
| palomino4 | Windows Server 2022 Datacenter / x64 | OK | OK | OK | OK | |||||||||
| lconway | macOS 12.6.5 Monterey / x86_64 | OK | ERROR | skipped | skipped | |||||||||
| kjohnson1 | macOS 13.6.1 Ventura / arm64 | see weekly results here | ||||||||||||
| kunpeng2 | Linux (openEuler 22.03 LTS-SP1) / aarch64 | OK | OK | ERROR | ||||||||||
|
To the developers/maintainers of the MutationalPatterns package: - Allow up to 24 hours (and sometimes 48 hours) for your latest push to git@git.bioconductor.org:packages/MutationalPatterns.git to reflect on this report. See Troubleshooting Build Report for more information. - Use the following Renviron settings to reproduce errors and warnings. - If 'R CMD check' started to fail recently on the Linux builder(s) over a missing dependency, add the missing dependency to 'Suggests:' in your DESCRIPTION file. See Renviron.bioc for more information. - See Martin Grigorov's blog post for how to debug Linux ARM64 related issues on a x86_64 host. |
| Package: MutationalPatterns |
| Version: 3.12.0 |
| Command: /home/biocbuild/R/R-4.3.1/bin/R CMD check --install=check:MutationalPatterns.install-out.txt --library=/home/biocbuild/R/R-4.3.1/site-library --no-vignettes --timings MutationalPatterns_3.12.0.tar.gz |
| StartedAt: 2023-11-02 12:35:10 -0000 (Thu, 02 Nov 2023) |
| EndedAt: 2023-11-02 12:45:34 -0000 (Thu, 02 Nov 2023) |
| EllapsedTime: 623.9 seconds |
| RetCode: 1 |
| Status: ERROR |
| CheckDir: MutationalPatterns.Rcheck |
| Warnings: NA |
##############################################################################
##############################################################################
###
### Running command:
###
### /home/biocbuild/R/R-4.3.1/bin/R CMD check --install=check:MutationalPatterns.install-out.txt --library=/home/biocbuild/R/R-4.3.1/site-library --no-vignettes --timings MutationalPatterns_3.12.0.tar.gz
###
##############################################################################
##############################################################################
* using log directory ‘/home/biocbuild/bbs-3.18-bioc/meat/MutationalPatterns.Rcheck’
* using R version 4.3.1 (2023-06-16)
* using platform: aarch64-unknown-linux-gnu (64-bit)
* R was compiled by
gcc (GCC) 10.3.1
GNU Fortran (GCC) 10.3.1
* running under: openEuler 22.03 (LTS-SP1)
* using session charset: UTF-8
* using option ‘--no-vignettes’
* checking for file ‘MutationalPatterns/DESCRIPTION’ ... OK
* checking extension type ... Package
* this is package ‘MutationalPatterns’ version ‘3.12.0’
* package encoding: UTF-8
* checking package namespace information ... OK
* checking package dependencies ... OK
* checking if this is a source package ... OK
* checking if there is a namespace ... OK
* checking for hidden files and directories ... OK
* checking for portable file names ... OK
* checking for sufficient/correct file permissions ... OK
* checking whether package ‘MutationalPatterns’ can be installed ... OK
* checking installed package size ... OK
* checking package directory ... OK
* checking ‘build’ directory ... OK
* checking DESCRIPTION meta-information ... OK
* checking top-level files ... OK
* checking for left-over files ... OK
* checking index information ... OK
* checking package subdirectories ... OK
* checking R files for non-ASCII characters ... OK
* checking R files for syntax errors ... OK
* checking whether the package can be loaded ... OK
* checking whether the package can be loaded with stated dependencies ... OK
* checking whether the package can be unloaded cleanly ... OK
* checking whether the namespace can be loaded with stated dependencies ... OK
* checking whether the namespace can be unloaded cleanly ... OK
* checking loading without being on the library search path ... OK
* checking dependencies in R code ... OK
* checking S3 generic/method consistency ... OK
* checking replacement functions ... OK
* checking foreign function calls ... OK
* checking R code for possible problems ... OK
* checking Rd files ... OK
* checking Rd metadata ... OK
* checking Rd cross-references ... OK
* checking for missing documentation entries ... OK
* checking for code/documentation mismatches ... OK
* checking Rd \usage sections ... OK
* checking Rd contents ... OK
* checking for unstated dependencies in examples ... OK
* checking files in ‘vignettes’ ... OK
* checking examples ... OK
Examples with CPU (user + system) or elapsed time > 5s
user system elapsed
context_potential_damage_analysis 32.456 0.466 33.171
read_vcfs_as_granges 26.592 2.367 42.964
plot_lesion_segregation 22.577 0.743 23.789
get_mut_type 17.190 0.131 17.359
genomic_distribution 16.251 0.283 16.578
calculate_lesion_segregation 15.643 0.301 16.405
bin_mutation_density 12.668 0.833 13.540
plot_indel_contexts 13.312 0.052 13.392
plot_compare_indels 12.507 0.008 12.543
get_indel_context 9.482 0.394 10.272
plot_profile_heatmap 8.079 0.219 8.319
fit_to_signatures_bootstrapped 8.261 0.004 8.282
plot_compare_dbs 7.555 0.008 7.581
plot_river 7.488 0.028 7.541
plot_spectrum_region 7.453 0.055 7.526
plot_spectrum 6.711 0.151 8.223
split_muts_region 6.438 0.287 6.744
mut_matrix_stranded 6.100 0.171 6.292
plot_dbs_contexts 5.851 0.000 5.864
plot_enrichment_depletion 5.550 0.027 5.589
determine_regional_similarity 4.307 0.184 5.860
* checking for unstated dependencies in ‘tests’ ... OK
* checking tests ...
Running ‘testthat.R’/home/biocbuild/R/R-4.3.1/bin/BATCH: line 60: 1751398 Killed ${R_HOME}/bin/R -f ${in} ${opts} ${R_BATCH_OPTIONS} > ${out} 2>&1
ERROR
Running the tests in ‘tests/testthat.R’ failed.
Last 13 lines of output:
NMF
')
Attaching package: 'NMF'
The following object is masked from 'package:S4Vectors':
nrun
The following object is masked from 'package:testthat':
compare
>
> test_check("MutationalPatterns")
* checking for unstated dependencies in vignettes ... OK
* checking package vignettes in ‘inst/doc’ ... OK
* checking running R code from vignettes ... SKIPPED
* checking re-building of vignette outputs ... SKIPPED
* checking PDF version of manual ... OK
* DONE
Status: 1 ERROR
See
‘/home/biocbuild/bbs-3.18-bioc/meat/MutationalPatterns.Rcheck/00check.log’
for details.
MutationalPatterns.Rcheck/00install.out
############################################################################## ############################################################################## ### ### Running command: ### ### /home/biocbuild/R/R-4.3.1/bin/R CMD INSTALL MutationalPatterns ### ############################################################################## ############################################################################## * installing to library ‘/home/biocbuild/R/R-4.3.1/site-library’ * installing *source* package ‘MutationalPatterns’ ... ** using staged installation ** R ** inst ** byte-compile and prepare package for lazy loading ** help *** installing help indices ** building package indices ** installing vignettes ** testing if installed package can be loaded from temporary location ** testing if installed package can be loaded from final location ** testing if installed package keeps a record of temporary installation path * DONE (MutationalPatterns)
MutationalPatterns.Rcheck/tests/testthat.Rout.fail
R version 4.3.1 (2023-06-16) -- "Beagle Scouts"
Copyright (C) 2023 The R Foundation for Statistical Computing
Platform: aarch64-unknown-linux-gnu (64-bit)
R is free software and comes with ABSOLUTELY NO WARRANTY.
You are welcome to redistribute it under certain conditions.
Type 'license()' or 'licence()' for distribution details.
R is a collaborative project with many contributors.
Type 'contributors()' for more information and
'citation()' on how to cite R or R packages in publications.
Type 'demo()' for some demos, 'help()' for on-line help, or
'help.start()' for an HTML browser interface to help.
Type 'q()' to quit R.
> library(testthat)
> library(MutationalPatterns)
Loading required package: GenomicRanges
Loading required package: stats4
Loading required package: BiocGenerics
Attaching package: 'BiocGenerics'
The following objects are masked from 'package:stats':
IQR, mad, sd, var, xtabs
The following objects are masked from 'package:base':
Filter, Find, Map, Position, Reduce, anyDuplicated, aperm, append,
as.data.frame, basename, cbind, colnames, dirname, do.call,
duplicated, eval, evalq, get, grep, grepl, intersect, is.unsorted,
lapply, mapply, match, mget, order, paste, pmax, pmax.int, pmin,
pmin.int, rank, rbind, rownames, sapply, setdiff, sort, table,
tapply, union, unique, unsplit, which.max, which.min
Loading required package: S4Vectors
Attaching package: 'S4Vectors'
The following object is masked from 'package:utils':
findMatches
The following objects are masked from 'package:base':
I, expand.grid, unname
Loading required package: IRanges
Loading required package: GenomeInfoDb
Loading required package: NMF
Loading required package: registry
Loading required package: rngtools
Loading required package: cluster
NMF - BioConductor layer [OK] | Shared memory capabilities [NO: bigmemory] | Cores 2/2
To enable shared memory capabilities, try: install.extras('
NMF
')
Attaching package: 'NMF'
The following object is masked from 'package:S4Vectors':
nrun
The following object is masked from 'package:testthat':
compare
>
> test_check("MutationalPatterns")
MutationalPatterns.Rcheck/MutationalPatterns-Ex.timings
| name | user | system | elapsed | |
| bin_mutation_density | 12.668 | 0.833 | 13.540 | |
| binomial_test | 0.013 | 0.000 | 0.012 | |
| calculate_lesion_segregation | 15.643 | 0.301 | 16.405 | |
| cluster_signatures | 0.074 | 0.000 | 0.076 | |
| context_potential_damage_analysis | 32.456 | 0.466 | 33.171 | |
| convert_sigs_to_ref | 0.056 | 0.004 | 0.065 | |
| cos_sim | 0 | 0 | 0 | |
| cos_sim_matrix | 0.031 | 0.000 | 0.032 | |
| count_dbs_contexts | 0.122 | 0.003 | 0.126 | |
| count_indel_contexts | 0.142 | 0.004 | 0.147 | |
| count_mbs_contexts | 0.109 | 0.000 | 0.110 | |
| determine_regional_similarity | 4.307 | 0.184 | 5.860 | |
| enrichment_depletion_test | 0.204 | 0.000 | 0.205 | |
| extract_signatures | 0.002 | 0.000 | 0.002 | |
| fit_to_signatures | 0.131 | 0.008 | 0.141 | |
| fit_to_signatures_bootstrapped | 8.261 | 0.004 | 8.282 | |
| fit_to_signatures_strict | 4.637 | 0.012 | 4.657 | |
| genomic_distribution | 16.251 | 0.283 | 16.578 | |
| get_dbs_context | 0.381 | 0.004 | 0.387 | |
| get_indel_context | 9.482 | 0.394 | 10.272 | |
| get_known_signatures | 0.324 | 0.156 | 0.489 | |
| get_mut_type | 17.190 | 0.131 | 17.359 | |
| lengthen_mut_matrix | 0.015 | 0.000 | 0.016 | |
| merge_signatures | 1.737 | 0.040 | 1.780 | |
| mut_context | 1.582 | 0.084 | 1.756 | |
| mut_matrix | 2.734 | 0.237 | 4.434 | |
| mut_matrix_stranded | 6.100 | 0.171 | 6.292 | |
| mut_strand | 1.379 | 0.008 | 1.390 | |
| mut_type | 0.036 | 0.000 | 0.035 | |
| mut_type_occurrences | 1.368 | 0.035 | 1.408 | |
| mutations_from_vcf | 0.034 | 0.000 | 0.034 | |
| plot_192_profile | 4.324 | 0.008 | 4.344 | |
| plot_96_profile | 3.719 | 0.024 | 3.754 | |
| plot_bootstrapped_contribution | 2.833 | 0.012 | 2.853 | |
| plot_compare_dbs | 7.555 | 0.008 | 7.581 | |
| plot_compare_indels | 12.507 | 0.008 | 12.543 | |
| plot_compare_mbs | 1.323 | 0.000 | 1.326 | |
| plot_compare_profiles | 2.943 | 0.000 | 2.949 | |
| plot_contribution | 4.097 | 0.008 | 4.116 | |
| plot_contribution_heatmap | 2.542 | 0.012 | 2.561 | |
| plot_correlation_bootstrap | 0.719 | 0.000 | 0.721 | |
| plot_cosine_heatmap | 3.116 | 0.007 | 3.130 | |
| plot_dbs_contexts | 5.851 | 0.000 | 5.864 | |
| plot_enrichment_depletion | 5.550 | 0.027 | 5.589 | |
| plot_indel_contexts | 13.312 | 0.052 | 13.392 | |
| plot_lesion_segregation | 22.577 | 0.743 | 23.789 | |
| plot_main_dbs_contexts | 0.875 | 1.362 | 3.495 | |
| plot_main_indel_contexts | 0.917 | 0.000 | 0.938 | |
| plot_mbs_contexts | 0.838 | 0.000 | 0.840 | |
| plot_original_vs_reconstructed | 0.856 | 0.004 | 0.864 | |
| plot_profile_heatmap | 8.079 | 0.219 | 8.319 | |
| plot_profile_region | 1.555 | 0.000 | 1.567 | |
| plot_rainfall | 2.627 | 0.004 | 2.638 | |
| plot_regional_similarity | 2.080 | 0.008 | 2.094 | |
| plot_river | 7.488 | 0.028 | 7.541 | |
| plot_signature_strand_bias | 1.176 | 0.004 | 1.187 | |
| plot_spectrum | 6.711 | 0.151 | 8.223 | |
| plot_spectrum_region | 7.453 | 0.055 | 7.526 | |
| plot_strand | 0.284 | 0.004 | 0.288 | |
| plot_strand_bias | 1.328 | 0.008 | 1.339 | |
| pool_mut_mat | 0.058 | 0.000 | 0.058 | |
| read_vcfs_as_granges | 26.592 | 2.367 | 42.964 | |
| rename_nmf_signatures | 0.041 | 0.016 | 0.059 | |
| signature_potential_damage_analysis | 0.133 | 0.012 | 0.146 | |
| split_muts_region | 6.438 | 0.287 | 6.744 | |
| strand_bias_test | 0.225 | 0.016 | 0.242 | |
| strand_occurrences | 0.227 | 0.008 | 0.236 | |
| type_context | 1.703 | 0.135 | 2.035 | |