| Back to Multiple platform build/check report for BioC 3.18: simplified long |
|
This page was generated on 2023-11-02 11:40:56 -0400 (Thu, 02 Nov 2023).
| Hostname | OS | Arch (*) | R version | Installed pkgs |
|---|---|---|---|---|
| nebbiolo2 | Linux (Ubuntu 22.04.2 LTS) | x86_64 | 4.3.1 (2023-06-16) -- "Beagle Scouts" | 4729 |
| palomino4 | Windows Server 2022 Datacenter | x64 | 4.3.1 (2023-06-16 ucrt) -- "Beagle Scouts" | 4463 |
| lconway | macOS 12.6.5 Monterey | x86_64 | 4.3.1 Patched (2023-06-17 r84564) -- "Beagle Scouts" | 4478 |
| kunpeng2 | Linux (openEuler 22.03 LTS-SP1) | aarch64 | 4.3.1 (2023-06-16) -- "Beagle Scouts" | 4464 |
| Click on any hostname to see more info about the system (e.g. compilers) (*) as reported by 'uname -p', except on Windows and Mac OS X | ||||
| Package 1252/2266 | Hostname | OS / Arch | INSTALL | BUILD | CHECK | BUILD BIN | ||||||||
| MicrobiotaProcess 1.14.0 (landing page) Shuangbin Xu
| nebbiolo2 | Linux (Ubuntu 22.04.2 LTS) / x86_64 | OK | OK | OK | |||||||||
| palomino4 | Windows Server 2022 Datacenter / x64 | OK | OK | OK | OK | |||||||||
| lconway | macOS 12.6.5 Monterey / x86_64 | OK | OK | OK | OK | |||||||||
| kjohnson1 | macOS 13.6.1 Ventura / arm64 | see weekly results here | ||||||||||||
| kunpeng2 | Linux (openEuler 22.03 LTS-SP1) / aarch64 | OK | OK | OK | ||||||||||
|
To the developers/maintainers of the MicrobiotaProcess package: - Allow up to 24 hours (and sometimes 48 hours) for your latest push to git@git.bioconductor.org:packages/MicrobiotaProcess.git to reflect on this report. See Troubleshooting Build Report for more information. - Use the following Renviron settings to reproduce errors and warnings. - If 'R CMD check' started to fail recently on the Linux builder(s) over a missing dependency, add the missing dependency to 'Suggests:' in your DESCRIPTION file. See Renviron.bioc for more information. - See Martin Grigorov's blog post for how to debug Linux ARM64 related issues on a x86_64 host. |
| Package: MicrobiotaProcess |
| Version: 1.14.0 |
| Command: /home/biocbuild/R/R-4.3.1/bin/R CMD check --install=check:MicrobiotaProcess.install-out.txt --library=/home/biocbuild/R/R-4.3.1/site-library --no-vignettes --timings MicrobiotaProcess_1.14.0.tar.gz |
| StartedAt: 2023-11-02 12:09:24 -0000 (Thu, 02 Nov 2023) |
| EndedAt: 2023-11-02 12:17:12 -0000 (Thu, 02 Nov 2023) |
| EllapsedTime: 468.0 seconds |
| RetCode: 0 |
| Status: OK |
| CheckDir: MicrobiotaProcess.Rcheck |
| Warnings: 0 |
##############################################################################
##############################################################################
###
### Running command:
###
### /home/biocbuild/R/R-4.3.1/bin/R CMD check --install=check:MicrobiotaProcess.install-out.txt --library=/home/biocbuild/R/R-4.3.1/site-library --no-vignettes --timings MicrobiotaProcess_1.14.0.tar.gz
###
##############################################################################
##############################################################################
* using log directory ‘/home/biocbuild/bbs-3.18-bioc/meat/MicrobiotaProcess.Rcheck’
* using R version 4.3.1 (2023-06-16)
* using platform: aarch64-unknown-linux-gnu (64-bit)
* R was compiled by
gcc (GCC) 10.3.1
GNU Fortran (GCC) 10.3.1
* running under: openEuler 22.03 (LTS-SP1)
* using session charset: UTF-8
* using option ‘--no-vignettes’
* checking for file ‘MicrobiotaProcess/DESCRIPTION’ ... OK
* checking extension type ... Package
* this is package ‘MicrobiotaProcess’ version ‘1.14.0’
* package encoding: UTF-8
* checking package namespace information ... OK
* checking package dependencies ... OK
* checking if this is a source package ... OK
* checking if there is a namespace ... OK
* checking for hidden files and directories ... OK
* checking for portable file names ... OK
* checking for sufficient/correct file permissions ... OK
* checking whether package ‘MicrobiotaProcess’ can be installed ... OK
* checking installed package size ... NOTE
installed size is 5.7Mb
sub-directories of 1Mb or more:
R 2.5Mb
figures 1.9Mb
* checking package directory ... OK
* checking ‘build’ directory ... OK
* checking DESCRIPTION meta-information ... OK
* checking top-level files ... OK
* checking for left-over files ... OK
* checking index information ... OK
* checking package subdirectories ... OK
* checking R files for non-ASCII characters ... OK
* checking R files for syntax errors ... OK
* checking whether the package can be loaded ... OK
* checking whether the package can be loaded with stated dependencies ... OK
* checking whether the package can be unloaded cleanly ... OK
* checking whether the namespace can be loaded with stated dependencies ... OK
* checking whether the namespace can be unloaded cleanly ... OK
* checking loading without being on the library search path ... OK
* checking startup messages can be suppressed ... OK
* checking dependencies in R code ... OK
* checking S3 generic/method consistency ... OK
* checking replacement functions ... OK
* checking foreign function calls ... OK
* checking R code for possible problems ... OK
* checking Rd files ... OK
* checking Rd metadata ... OK
* checking Rd cross-references ... OK
* checking for missing documentation entries ... OK
* checking for code/documentation mismatches ... OK
* checking Rd \usage sections ... OK
* checking Rd contents ... OK
* checking for unstated dependencies in examples ... OK
* checking contents of ‘data’ directory ... OK
* checking data for non-ASCII characters ... OK
* checking data for ASCII and uncompressed saves ... OK
* checking files in ‘vignettes’ ... OK
* checking examples ... OK
Examples with CPU (user + system) or elapsed time > 5s
user system elapsed
mp_cal_abundance-methods 13.407 1.117 15.457
mp_envfit-methods 11.327 1.465 14.094
mp_cal_rarecurve-methods 10.158 0.115 10.296
mp_plot_diff_boxplot-methods 8.460 0.104 8.558
mp_diff_analysis-methods 7.065 0.124 7.190
ImportQiime2 4.677 1.941 7.974
* checking for unstated dependencies in ‘tests’ ... OK
* checking tests ...
Running ‘testthat.R’
OK
* checking for unstated dependencies in vignettes ... OK
* checking package vignettes in ‘inst/doc’ ... OK
* checking running R code from vignettes ... SKIPPED
* checking re-building of vignette outputs ... SKIPPED
* checking PDF version of manual ... OK
* DONE
Status: 1 NOTE
See
‘/home/biocbuild/bbs-3.18-bioc/meat/MicrobiotaProcess.Rcheck/00check.log’
for details.
MicrobiotaProcess.Rcheck/00install.out
############################################################################## ############################################################################## ### ### Running command: ### ### /home/biocbuild/R/R-4.3.1/bin/R CMD INSTALL MicrobiotaProcess ### ############################################################################## ############################################################################## * installing to library ‘/home/biocbuild/R/R-4.3.1/site-library’ * installing *source* package ‘MicrobiotaProcess’ ... ** using staged installation ** R ** data ** inst ** byte-compile and prepare package for lazy loading in method for ‘taxonomy<-’ with signature ‘x="MPSE",value="taxonomyTable"’: no definition for class “taxonomyTable” Creating a generic function for ‘rownames<-’ from package ‘base’ in package ‘MicrobiotaProcess’ in method for ‘get_alltaxadf’ with signature ‘"phyloseq"’: no definition for class “phyloseq” in method for ‘get_taxadf’ with signature ‘"phyloseq"’: no definition for class “phyloseq” in method for ‘get_alphaindex’ with signature ‘"phyloseq"’: no definition for class “phyloseq” in method for ‘get_NRI_NTI’ with signature ‘"phyloseq"’: no definition for class “phyloseq” in method for ‘get_rarecurve’ with signature ‘"phyloseq"’: no definition for class “phyloseq” in method for ‘get_upset’ with signature ‘"phyloseq"’: no definition for class “phyloseq” in method for ‘get_vennlist’ with signature ‘"phyloseq"’: no definition for class “phyloseq” in method for ‘drop_taxa’ with signature ‘"phyloseq"’: no definition for class “phyloseq” ** help *** installing help indices ** building package indices ** installing vignettes ** testing if installed package can be loaded from temporary location ** testing if installed package can be loaded from final location ** testing if installed package keeps a record of temporary installation path * DONE (MicrobiotaProcess)
MicrobiotaProcess.Rcheck/tests/testthat.Rout
R version 4.3.1 (2023-06-16) -- "Beagle Scouts"
Copyright (C) 2023 The R Foundation for Statistical Computing
Platform: aarch64-unknown-linux-gnu (64-bit)
R is free software and comes with ABSOLUTELY NO WARRANTY.
You are welcome to redistribute it under certain conditions.
Type 'license()' or 'licence()' for distribution details.
R is a collaborative project with many contributors.
Type 'contributors()' for more information and
'citation()' on how to cite R or R packages in publications.
Type 'demo()' for some demos, 'help()' for on-line help, or
'help.start()' for an HTML browser interface to help.
Type 'q()' to quit R.
> library("testthat")
> library("MicrobiotaProcess")
MicrobiotaProcess v1.14.0 For help:
https://github.com/YuLab-SMU/MicrobiotaProcess/issues
If you use MicrobiotaProcess in published research, please cite the
paper:
Shuangbin Xu, Li Zhan, Wenli Tang, Qianwen Wang, Zehan Dai, Lang Zhou,
Tingze Feng, Meijun Chen, Tianzhi Wu, Erqiang Hu, Guangchuang Yu.
MicrobiotaProcess: A comprehensive R package for deep mining
microbiome. The Innovation. 2023, 4(2):100388. doi:
10.1016/j.xinn.2023.100388
Export the citation to BibTex by citation('MicrobiotaProcess')
This message can be suppressed by:
suppressPackageStartupMessages(library(MicrobiotaProcess))
Attaching package: 'MicrobiotaProcess'
The following object is masked from 'package:stats':
filter
> test_check("MicrobiotaProcess")
[ FAIL 0 | WARN 9 | SKIP 0 | PASS 13 ]
[ FAIL 0 | WARN 9 | SKIP 0 | PASS 13 ]
>
> proc.time()
user system elapsed
18.318 2.232 21.484
MicrobiotaProcess.Rcheck/MicrobiotaProcess-Ex.timings
| name | user | system | elapsed | |
| ImportDada2 | 2.732 | 0.648 | 4.041 | |
| ImportQiime2 | 4.677 | 1.941 | 7.974 | |
| MPSE | 0.152 | 0.004 | 0.157 | |
| as.treedata | 0.000 | 0.000 | 0.001 | |
| build_tree | 0 | 0 | 0 | |
| convert_to_treedata | 0.000 | 0.000 | 0.001 | |
| data-hmp_aerobiosis_small | 0.011 | 0.000 | 0.012 | |
| data-kostic2012crc | 0.029 | 0.003 | 0.032 | |
| data-test_otu_data | 0.003 | 0.000 | 0.003 | |
| diff_analysis | 0.001 | 0.000 | 0.000 | |
| dr_extract | 0 | 0 | 0 | |
| drop_taxa | 0 | 0 | 0 | |
| generalizedFC | 0.007 | 0.000 | 0.007 | |
| get_alltaxadf | 0 | 0 | 0 | |
| get_alphaindex | 0.000 | 0.000 | 0.001 | |
| get_clust | 0 | 0 | 0 | |
| get_coord | 0 | 0 | 0 | |
| get_count | 0 | 0 | 0 | |
| get_dist | 0 | 0 | 0 | |
| get_mean_median | 0 | 0 | 0 | |
| get_pca | 0.001 | 0.000 | 0.000 | |
| get_pcoa | 0 | 0 | 0 | |
| get_pvalue | 0.071 | 0.000 | 0.090 | |
| get_rarecurve | 0 | 0 | 0 | |
| get_sampledflist | 0.001 | 0.000 | 0.000 | |
| get_taxadf | 0 | 0 | 0 | |
| get_upset | 0 | 0 | 0 | |
| get_varct | 0.000 | 0.000 | 0.001 | |
| get_vennlist | 0.000 | 0.000 | 0.001 | |
| ggbartax | 0 | 0 | 0 | |
| ggbox | 0 | 0 | 0 | |
| ggclust | 0.000 | 0.000 | 0.001 | |
| ggdiffbox | 0 | 0 | 0 | |
| ggdiffclade | 0 | 0 | 0 | |
| ggdifftaxbar | 0.000 | 0.000 | 0.001 | |
| ggeffectsize | 0.001 | 0.000 | 0.000 | |
| ggordpoint | 0 | 0 | 0 | |
| ggrarecurve | 0 | 0 | 0 | |
| mp_adonis-methods | 0.133 | 0.008 | 0.146 | |
| mp_aggregate-methods | 0 | 0 | 0 | |
| mp_aggregate_clade-methods | 0.000 | 0.003 | 0.003 | |
| mp_anosim-methods | 1.614 | 0.655 | 2.822 | |
| mp_balance_clade-methods | 0.000 | 0.000 | 0.001 | |
| mp_cal_abundance-methods | 13.407 | 1.117 | 15.457 | |
| mp_cal_alpha-methods | 1.524 | 0.024 | 1.577 | |
| mp_cal_cca-methods | 1.214 | 0.019 | 1.269 | |
| mp_cal_clust-methods | 0.662 | 0.000 | 0.670 | |
| mp_cal_dist-methods | 2.992 | 0.074 | 3.079 | |
| mp_cal_divergence-methods | 0.001 | 0.000 | 0.000 | |
| mp_cal_nmds-methods | 0.323 | 0.008 | 0.341 | |
| mp_cal_pca-methods | 2.229 | 0.008 | 2.243 | |
| mp_cal_pcoa-methods | 0.824 | 0.000 | 0.825 | |
| mp_cal_pd_metric-methods | 0.001 | 0.000 | 0.000 | |
| mp_cal_rarecurve-methods | 10.158 | 0.115 | 10.296 | |
| mp_cal_rda-methods | 0.981 | 0.004 | 1.005 | |
| mp_cal_upset-methods | 1.521 | 0.015 | 1.551 | |
| mp_cal_venn-methods | 2.102 | 0.067 | 2.536 | |
| mp_decostand-methods | 0.473 | 0.000 | 0.474 | |
| mp_diff_analysis-methods | 7.065 | 0.124 | 7.190 | |
| mp_diff_clade-methods | 0.001 | 0.000 | 0.000 | |
| mp_dmn-methods | 0 | 0 | 0 | |
| mp_dmngroup-methods | 0 | 0 | 0 | |
| mp_envfit-methods | 11.327 | 1.465 | 14.094 | |
| mp_filter_taxa-methods | 1.370 | 0.056 | 1.430 | |
| mp_import_metaphlan | 4.454 | 0.016 | 4.485 | |
| mp_mantel-methods | 0.561 | 0.012 | 0.577 | |
| mp_mrpp-methods | 0.251 | 0.008 | 0.259 | |
| mp_plot_abundance-methods | 0 | 0 | 0 | |
| mp_plot_alpha-methods | 0 | 0 | 0 | |
| mp_plot_diff_boxplot-methods | 8.460 | 0.104 | 8.558 | |
| mp_plot_diff_cladogram | 0.000 | 0.000 | 0.001 | |
| mp_plot_diff_manhattan-methods | 4.769 | 0.035 | 4.786 | |
| mp_plot_dist-methods | 0 | 0 | 0 | |
| mp_plot_ord-methods | 0 | 0 | 0 | |
| mp_plot_rarecurve-methods | 0 | 0 | 0 | |
| mp_plot_upset-methods | 0 | 0 | 0 | |
| mp_plot_venn-methods | 0 | 0 | 0 | |
| mp_rrarefy-methods | 0.503 | 0.004 | 0.509 | |
| mp_select_as_tip-methods | 0 | 0 | 0 | |
| mp_stat_taxa-methods | 1.564 | 0.026 | 1.568 | |
| multi_compare | 0.012 | 0.000 | 0.013 | |
| read_qza | 0 | 0 | 0 | |
| show-methods | 0 | 0 | 0 | |
| split_data | 0.003 | 0.000 | 0.004 | |
| split_str_to_list | 0.000 | 0.000 | 0.001 | |
| theme_taxbar | 0 | 0 | 0 | |