| Back to Multiple platform build/check report for BioC 3.18: simplified long |
|
This page was generated on 2023-11-02 11:40:53 -0400 (Thu, 02 Nov 2023).
| Hostname | OS | Arch (*) | R version | Installed pkgs |
|---|---|---|---|---|
| nebbiolo2 | Linux (Ubuntu 22.04.2 LTS) | x86_64 | 4.3.1 (2023-06-16) -- "Beagle Scouts" | 4729 |
| palomino4 | Windows Server 2022 Datacenter | x64 | 4.3.1 (2023-06-16 ucrt) -- "Beagle Scouts" | 4463 |
| lconway | macOS 12.6.5 Monterey | x86_64 | 4.3.1 Patched (2023-06-17 r84564) -- "Beagle Scouts" | 4478 |
| kunpeng2 | Linux (openEuler 22.03 LTS-SP1) | aarch64 | 4.3.1 (2023-06-16) -- "Beagle Scouts" | 4464 |
| Click on any hostname to see more info about the system (e.g. compilers) (*) as reported by 'uname -p', except on Windows and Mac OS X | ||||
| Package 1153/2266 | Hostname | OS / Arch | INSTALL | BUILD | CHECK | BUILD BIN | ||||||||
| MassArray 1.54.0 (landing page) Reid F. Thompson
| nebbiolo2 | Linux (Ubuntu 22.04.2 LTS) / x86_64 | OK | OK | OK | |||||||||
| palomino4 | Windows Server 2022 Datacenter / x64 | OK | OK | OK | OK | |||||||||
| lconway | macOS 12.6.5 Monterey / x86_64 | OK | OK | OK | OK | |||||||||
| kjohnson1 | macOS 13.6.1 Ventura / arm64 | see weekly results here | ||||||||||||
| kunpeng2 | Linux (openEuler 22.03 LTS-SP1) / aarch64 | OK | OK | OK | ||||||||||
|
To the developers/maintainers of the MassArray package: - Allow up to 24 hours (and sometimes 48 hours) for your latest push to git@git.bioconductor.org:packages/MassArray.git to reflect on this report. See Troubleshooting Build Report for more information. - Use the following Renviron settings to reproduce errors and warnings. - If 'R CMD check' started to fail recently on the Linux builder(s) over a missing dependency, add the missing dependency to 'Suggests:' in your DESCRIPTION file. See Renviron.bioc for more information. - See Martin Grigorov's blog post for how to debug Linux ARM64 related issues on a x86_64 host. |
| Package: MassArray |
| Version: 1.54.0 |
| Command: /home/biocbuild/R/R-4.3.1/bin/R CMD check --install=check:MassArray.install-out.txt --library=/home/biocbuild/R/R-4.3.1/site-library --no-vignettes --timings MassArray_1.54.0.tar.gz |
| StartedAt: 2023-11-02 11:50:15 -0000 (Thu, 02 Nov 2023) |
| EndedAt: 2023-11-02 11:50:59 -0000 (Thu, 02 Nov 2023) |
| EllapsedTime: 44.1 seconds |
| RetCode: 0 |
| Status: OK |
| CheckDir: MassArray.Rcheck |
| Warnings: 0 |
##############################################################################
##############################################################################
###
### Running command:
###
### /home/biocbuild/R/R-4.3.1/bin/R CMD check --install=check:MassArray.install-out.txt --library=/home/biocbuild/R/R-4.3.1/site-library --no-vignettes --timings MassArray_1.54.0.tar.gz
###
##############################################################################
##############################################################################
* using log directory ‘/home/biocbuild/bbs-3.18-bioc/meat/MassArray.Rcheck’
* using R version 4.3.1 (2023-06-16)
* using platform: aarch64-unknown-linux-gnu (64-bit)
* R was compiled by
gcc (GCC) 10.3.1
GNU Fortran (GCC) 10.3.1
* running under: openEuler 22.03 (LTS-SP1)
* using session charset: UTF-8
* using option ‘--no-vignettes’
* checking for file ‘MassArray/DESCRIPTION’ ... OK
* checking extension type ... Package
* this is package ‘MassArray’ version ‘1.54.0’
* checking package namespace information ... OK
* checking package dependencies ... OK
* checking if this is a source package ... OK
* checking if there is a namespace ... OK
* checking for hidden files and directories ... OK
* checking for portable file names ... OK
* checking for sufficient/correct file permissions ... OK
* checking whether package ‘MassArray’ can be installed ... OK
* checking installed package size ... OK
* checking package directory ... OK
* checking ‘build’ directory ... OK
* checking DESCRIPTION meta-information ... OK
* checking top-level files ... OK
* checking for left-over files ... OK
* checking index information ... OK
* checking package subdirectories ... OK
* checking R files for non-ASCII characters ... OK
* checking R files for syntax errors ... OK
* checking whether the package can be loaded ... OK
* checking whether the package can be loaded with stated dependencies ... OK
* checking whether the package can be unloaded cleanly ... OK
* checking whether the namespace can be loaded with stated dependencies ... OK
* checking whether the namespace can be unloaded cleanly ... OK
* checking loading without being on the library search path ... OK
* checking dependencies in R code ... OK
* checking S3 generic/method consistency ... OK
* checking replacement functions ... OK
* checking foreign function calls ... OK
* checking R code for possible problems ... NOTE
calcMeth: warning in matrix(0, nr = 0, nc = N): partial argument match
of 'nr' to 'nrow'
calcMeth: warning in matrix(0, nr = 0, nc = N): partial argument match
of 'nc' to 'ncol'
calcMeth: warning in matrix(0, nr = num.SNRs, nc = N): partial argument
match of 'nr' to 'nrow'
calcMeth: warning in matrix(0, nr = num.SNRs, nc = N): partial argument
match of 'nc' to 'ncol'
calcMeth: warning in matrix(0, nr = num.missing, nc = N): partial
argument match of 'nr' to 'nrow'
calcMeth: warning in matrix(0, nr = num.missing, nc = N): partial
argument match of 'nc' to 'ncol'
calcMeth: warning in matrix(0, nr = length(na.coefs), nc = N): partial
argument match of 'nr' to 'nrow'
calcMeth: warning in matrix(0, nr = length(na.coefs), nc = N): partial
argument match of 'nc' to 'ncol'
calcMeth : optimizeCoefficients: warning in matrix(0, nr =
num.fragments, nc = N): partial argument match of 'nr' to 'nrow'
calcMeth : optimizeCoefficients: warning in matrix(0, nr =
num.fragments, nc = N): partial argument match of 'nc' to 'ncol'
calcMeth : optimizeCoefficients: warning in matrix(NA, nr =
length(coefs) + 1, nc = length(coefs)): partial argument match of
'nr' to 'nrow'
calcMeth : optimizeCoefficients: warning in matrix(NA, nr =
length(coefs) + 1, nc = length(coefs)): partial argument match of
'nc' to 'ncol'
$<-,MassArrayData: no visible global function definition for ‘slot<-’
$<-,MassArrayFragment: no visible global function definition for
‘slot<-’
$<-,MassArrayPeak: no visible global function definition for ‘slot<-’
$<-,MassArraySpectrum: no visible global function definition for
‘slot<-’
initialize,MassArrayData: no visible global function definition for
‘read.table’
Undefined global functions or variables:
read.table slot<-
Consider adding
importFrom("methods", "slot<-")
importFrom("utils", "read.table")
to your NAMESPACE file (and ensure that your DESCRIPTION Imports field
contains 'methods').
* checking Rd files ... NOTE
checkRd: (-1) MassArrayData-class.Rd:37: Escaped LaTeX specials: \$
checkRd: (-1) MassArrayData-class.Rd:38: Escaped LaTeX specials: \$
checkRd: (-1) MassArrayFragment-class.Rd:40: Escaped LaTeX specials: \$
checkRd: (-1) MassArrayFragment-class.Rd:41: Escaped LaTeX specials: \$
checkRd: (-1) MassArrayPeak-class.Rd:35: Escaped LaTeX specials: \$
checkRd: (-1) MassArrayPeak-class.Rd:36: Escaped LaTeX specials: \$
checkRd: (-1) MassArraySpectrum-class.Rd:28: Escaped LaTeX specials: \$
checkRd: (-1) MassArraySpectrum-class.Rd:29: Escaped LaTeX specials: \$
* checking Rd metadata ... OK
* checking Rd cross-references ... OK
* checking for missing documentation entries ... OK
* checking for code/documentation mismatches ... OK
* checking Rd \usage sections ... OK
* checking Rd contents ... OK
* checking for unstated dependencies in examples ... OK
* checking contents of ‘data’ directory ... OK
* checking data for non-ASCII characters ... OK
* checking LazyData ... OK
* checking data for ASCII and uncompressed saves ... OK
* checking files in ‘vignettes’ ... OK
* checking examples ... OK
Examples with CPU (user + system) or elapsed time > 5s
user system elapsed
evaluateSNPs 15.413 0.012 15.467
* checking for unstated dependencies in vignettes ... OK
* checking package vignettes in ‘inst/doc’ ... OK
* checking running R code from vignettes ... SKIPPED
* checking re-building of vignette outputs ... SKIPPED
* checking PDF version of manual ... OK
* DONE
Status: 2 NOTEs
See
‘/home/biocbuild/bbs-3.18-bioc/meat/MassArray.Rcheck/00check.log’
for details.
MassArray.Rcheck/00install.out
############################################################################## ############################################################################## ### ### Running command: ### ### /home/biocbuild/R/R-4.3.1/bin/R CMD INSTALL MassArray ### ############################################################################## ############################################################################## * installing to library ‘/home/biocbuild/R/R-4.3.1/site-library’ * installing *source* package ‘MassArray’ ... ** using staged installation ** R ** data *** moving datasets to lazyload DB ** inst ** byte-compile and prepare package for lazy loading ** help *** installing help indices ** building package indices ** installing vignettes ** testing if installed package can be loaded from temporary location ** testing if installed package can be loaded from final location ** testing if installed package keeps a record of temporary installation path * DONE (MassArray)
MassArray.Rcheck/MassArray-Ex.timings
| name | user | system | elapsed | |
| MassArray.example.data | 0.013 | 0.004 | 0.016 | |
| MassArrayData-class | 0.001 | 0.000 | 0.001 | |
| MassArrayFragment-class | 0.000 | 0.000 | 0.001 | |
| MassArrayPeak-class | 0 | 0 | 0 | |
| MassArraySpectrum-class | 0 | 0 | 0 | |
| ampliconPrediction | 1.066 | 0.000 | 1.070 | |
| analyzeCpGs | 0.132 | 0.000 | 0.133 | |
| bisConvert | 0 | 0 | 0 | |
| calcMW | 0.001 | 0.000 | 0.001 | |
| calcMeth | 0.012 | 0.000 | 0.013 | |
| calcPercentAdduct | 0.038 | 0.000 | 0.039 | |
| calcPercentConversion | 0.033 | 0.000 | 0.034 | |
| combine | 0.479 | 0.000 | 0.480 | |
| convControl | 0.017 | 0.000 | 0.017 | |
| countCGs | 0.001 | 0.000 | 0.000 | |
| createWiggle | 0.009 | 0.000 | 0.009 | |
| estimatePrimerDimer | 0.038 | 0.008 | 0.047 | |
| evaluateSNPs | 15.413 | 0.012 | 15.467 | |
| expandSequence | 0.001 | 0.000 | 0.000 | |
| findCollisions | 0 | 0 | 0 | |
| findFragments | 0.01 | 0.00 | 0.01 | |
| findPeaks | 0 | 0 | 0 | |
| identifySNPs | 0.017 | 0.000 | 0.017 | |
| inSilicoFragmentation | 0.008 | 0.000 | 0.008 | |
| isAssayable | 0 | 0 | 0 | |
| numCollisions | 0.001 | 0.000 | 0.001 | |
| plot.MassArrayData | 0.031 | 0.000 | 0.032 | |
| position | 0.006 | 0.000 | 0.006 | |
| revComplement | 0 | 0 | 0 | |
| rnaDigest | 0.005 | 0.000 | 0.006 | |
| samples | 0.006 | 0.000 | 0.006 | |
| sum.MassArraySpectrum | 0.156 | 0.004 | 0.160 | |