| Back to Multiple platform build/check report for BioC 3.18: simplified long |
|
This page was generated on 2023-11-02 11:40:54 -0400 (Thu, 02 Nov 2023).
| Hostname | OS | Arch (*) | R version | Installed pkgs |
|---|---|---|---|---|
| nebbiolo2 | Linux (Ubuntu 22.04.2 LTS) | x86_64 | 4.3.1 (2023-06-16) -- "Beagle Scouts" | 4729 |
| palomino4 | Windows Server 2022 Datacenter | x64 | 4.3.1 (2023-06-16 ucrt) -- "Beagle Scouts" | 4463 |
| lconway | macOS 12.6.5 Monterey | x86_64 | 4.3.1 Patched (2023-06-17 r84564) -- "Beagle Scouts" | 4478 |
| kunpeng2 | Linux (openEuler 22.03 LTS-SP1) | aarch64 | 4.3.1 (2023-06-16) -- "Beagle Scouts" | 4464 |
| Click on any hostname to see more info about the system (e.g. compilers) (*) as reported by 'uname -p', except on Windows and Mac OS X | ||||
| Package 1182/2266 | Hostname | OS / Arch | INSTALL | BUILD | CHECK | BUILD BIN | ||||||||
| MEDIPS 1.54.0 (landing page) Lukas Chavez
| nebbiolo2 | Linux (Ubuntu 22.04.2 LTS) / x86_64 | OK | OK | OK | |||||||||
| palomino4 | Windows Server 2022 Datacenter / x64 | OK | OK | OK | OK | |||||||||
| lconway | macOS 12.6.5 Monterey / x86_64 | OK | OK | OK | OK | |||||||||
| kjohnson1 | macOS 13.6.1 Ventura / arm64 | see weekly results here | ||||||||||||
| kunpeng2 | Linux (openEuler 22.03 LTS-SP1) / aarch64 | OK | OK | OK | ||||||||||
|
To the developers/maintainers of the MEDIPS package: - Allow up to 24 hours (and sometimes 48 hours) for your latest push to git@git.bioconductor.org:packages/MEDIPS.git to reflect on this report. See Troubleshooting Build Report for more information. - Use the following Renviron settings to reproduce errors and warnings. - If 'R CMD check' started to fail recently on the Linux builder(s) over a missing dependency, add the missing dependency to 'Suggests:' in your DESCRIPTION file. See Renviron.bioc for more information. - See Martin Grigorov's blog post for how to debug Linux ARM64 related issues on a x86_64 host. |
| Package: MEDIPS |
| Version: 1.54.0 |
| Command: /home/biocbuild/R/R-4.3.1/bin/R CMD check --install=check:MEDIPS.install-out.txt --library=/home/biocbuild/R/R-4.3.1/site-library --no-vignettes --timings MEDIPS_1.54.0.tar.gz |
| StartedAt: 2023-11-02 11:54:16 -0000 (Thu, 02 Nov 2023) |
| EndedAt: 2023-11-02 12:02:25 -0000 (Thu, 02 Nov 2023) |
| EllapsedTime: 488.8 seconds |
| RetCode: 0 |
| Status: OK |
| CheckDir: MEDIPS.Rcheck |
| Warnings: 0 |
##############################################################################
##############################################################################
###
### Running command:
###
### /home/biocbuild/R/R-4.3.1/bin/R CMD check --install=check:MEDIPS.install-out.txt --library=/home/biocbuild/R/R-4.3.1/site-library --no-vignettes --timings MEDIPS_1.54.0.tar.gz
###
##############################################################################
##############################################################################
* using log directory ‘/home/biocbuild/bbs-3.18-bioc/meat/MEDIPS.Rcheck’
* using R version 4.3.1 (2023-06-16)
* using platform: aarch64-unknown-linux-gnu (64-bit)
* R was compiled by
gcc (GCC) 10.3.1
GNU Fortran (GCC) 10.3.1
* running under: openEuler 22.03 (LTS-SP1)
* using session charset: UTF-8
* using option ‘--no-vignettes’
* checking for file ‘MEDIPS/DESCRIPTION’ ... OK
* checking extension type ... Package
* this is package ‘MEDIPS’ version ‘1.54.0’
* checking package namespace information ... OK
* checking package dependencies ... OK
* checking if this is a source package ... OK
* checking if there is a namespace ... OK
* checking for hidden files and directories ... OK
* checking for portable file names ... OK
* checking for sufficient/correct file permissions ... OK
* checking whether package ‘MEDIPS’ can be installed ... OK
* checking installed package size ... OK
* checking package directory ... OK
* checking ‘build’ directory ... OK
* checking DESCRIPTION meta-information ... OK
* checking top-level files ... OK
* checking for left-over files ... OK
* checking index information ... OK
* checking package subdirectories ... OK
* checking R files for non-ASCII characters ... OK
* checking R files for syntax errors ... OK
* checking whether the package can be loaded ... OK
* checking whether the package can be loaded with stated dependencies ... OK
* checking whether the package can be unloaded cleanly ... OK
* checking whether the namespace can be loaded with stated dependencies ... OK
* checking whether the namespace can be unloaded cleanly ... OK
* checking loading without being on the library search path ... OK
* checking dependencies in R code ... OK
* checking S3 generic/method consistency ... OK
* checking replacement functions ... OK
* checking foreign function calls ... OK
* checking R code for possible problems ... NOTE
MEDIPS.CpGenrich: no visible global function definition for ‘seqlevels’
MEDIPS.CpGenrich: no visible global function definition for
‘seqlengths’
MEDIPS.CpGenrich: no visible global function definition for
‘GRangesList’
MEDIPS.CpGenrich : <anonymous>: no visible global function definition
for ‘seqnames’
MEDIPS.CpGenrich: no visible global function definition for ‘new’
MEDIPS.addCNV: no visible global function definition for ‘seqnames’
MEDIPS.correlation: no visible global function definition for ‘pdf’
MEDIPS.correlation: no visible global function definition for ‘dev.off’
MEDIPS.couplingVector: no visible global function definition for ‘new’
MEDIPS.createROIset: no visible global function definition for
‘seqnames’
MEDIPS.createROIset: no visible global function definition for
‘seqlengths’
MEDIPS.createROIset: no visible global function definition for ‘new’
MEDIPS.createSet: no visible global function definition for ‘seqnames’
MEDIPS.createSet: no visible global function definition for
‘seqlengths’
MEDIPS.createSet: no visible global function definition for ‘seqlevels’
MEDIPS.createSet: no visible global function definition for ‘new’
MEDIPS.diffMeth: no visible global function definition for ‘p.adjust’
MEDIPS.exportWIG: no visible global function definition for ‘seqnames’
MEDIPS.mergeSets: no visible global function definition for ‘new’
MEDIPS.meth: no visible global function definition for ‘seqnames’
MEDIPS.plotCalibrationPlot: no visible global function definition for
‘seqnames’
MEDIPS.plotCalibrationPlot: no visible global function definition for
‘points’
MEDIPS.plotSeqCoverage: no visible global function definition for ‘pie’
MEDIPS.plotSeqCoverage: no visible global function definition for
‘hist’
MEDIPS.saturation: no visible global function definition for
‘seqlevels’
MEDIPS.saturation: no visible global function definition for
‘seqlengths’
MEDIPS.selectROIs: no visible global function definition for
‘elementMetadata<-’
MEDIPS.selectROIs: no visible global function definition for
‘elementMetadata’
MEDIPS.selectROIs: no visible global function definition for
‘findOverlaps’
MEDIPS.selectROIs: no visible global function definition for ‘values’
MEDIPS.selectROIs: no visible global function definition for ‘seqnames’
MEDIPS.seqCoverage: no visible global function definition for
‘seqlevels’
MEDIPS.seqCoverage: no visible global function definition for
‘seqlengths’
MEDIPS.setAnnotation: no visible global function definition for
‘findOverlaps’
MEDIPS.setAnnotation: no visible global function definition for
‘values’
getGRange: no visible global function definition for ‘qpois’
getGRange: no visible global function definition for ‘seqlengths’
getGRange: no visible global function definition for ‘countMatches’
getGRange: no visible global function definition for ‘strand<-’
getMObjectFromWIG: no visible global function definition for
‘seqlengths’
getMObjectFromWIG: no visible global function definition for ‘values’
getMObjectFromWIG: no visible global function definition for
‘runLength’
getMObjectFromWIG: no visible global function definition for ‘seqnames’
getMObjectFromWIG: no visible global function definition for ‘runValue’
getMObjectFromWIG: no visible global function definition for ‘new’
getPairedGRange: no visible global function definition for ‘sd’
getPairedGRange: no visible global function definition for ‘qpois’
getPairedGRange: no visible global function definition for ‘seqlengths’
getPairedGRange: no visible global function definition for
‘countMatches’
getPairedGRange: no visible global function definition for ‘strand<-’
matSd: no visible binding for global variable ‘sd’
matTtest: no visible binding for global variable ‘sd’
matTtest: no visible global function definition for ‘pt’
Undefined global functions or variables:
GRangesList countMatches dev.off elementMetadata elementMetadata<-
findOverlaps hist new p.adjust pdf pie points pt qpois runLength
runValue sd seqlengths seqlevels seqnames strand<- values
Consider adding
importFrom("grDevices", "dev.off", "pdf")
importFrom("graphics", "hist", "pie", "points")
importFrom("methods", "new")
importFrom("stats", "p.adjust", "pt", "qpois", "sd")
to your NAMESPACE file (and ensure that your DESCRIPTION Imports field
contains 'methods').
* checking Rd files ... OK
* checking Rd metadata ... OK
* checking Rd cross-references ... OK
* checking for missing documentation entries ... OK
* checking for code/documentation mismatches ... OK
* checking Rd \usage sections ... OK
* checking Rd contents ... OK
* checking for unstated dependencies in examples ... OK
* checking files in ‘vignettes’ ... OK
* checking examples ... OK
Examples with CPU (user + system) or elapsed time > 5s
user system elapsed
MEDIPS.meth 51.870 0.944 52.929
MEDIPS.addCNV 34.493 1.381 37.517
MEDIPS.plotSaturation 15.320 0.144 15.492
MEDIPS.saturation 14.088 0.106 14.239
* checking for unstated dependencies in vignettes ... OK
* checking package vignettes in ‘inst/doc’ ... OK
* checking running R code from vignettes ... SKIPPED
* checking re-building of vignette outputs ... SKIPPED
* checking PDF version of manual ... OK
* DONE
Status: 1 NOTE
See
‘/home/biocbuild/bbs-3.18-bioc/meat/MEDIPS.Rcheck/00check.log’
for details.
MEDIPS.Rcheck/00install.out
############################################################################## ############################################################################## ### ### Running command: ### ### /home/biocbuild/R/R-4.3.1/bin/R CMD INSTALL MEDIPS ### ############################################################################## ############################################################################## * installing to library ‘/home/biocbuild/R/R-4.3.1/site-library’ * installing *source* package ‘MEDIPS’ ... ** using staged installation ** R ** inst ** byte-compile and prepare package for lazy loading No methods found in package ‘IRanges’ for request: ‘values’ when loading ‘MEDIPS’ ** help *** installing help indices ** building package indices ** installing vignettes ** testing if installed package can be loaded from temporary location No methods found in package ‘IRanges’ for request: ‘values’ when loading ‘MEDIPS’ ** testing if installed package can be loaded from final location No methods found in package ‘IRanges’ for request: ‘values’ when loading ‘MEDIPS’ ** testing if installed package keeps a record of temporary installation path * DONE (MEDIPS)
MEDIPS.Rcheck/MEDIPS-Ex.timings
| name | user | system | elapsed | |
| COUPLINGset-class | 0.001 | 0.000 | 0.001 | |
| MEDIPS.CpGenrich | 0.058 | 0.004 | 0.137 | |
| MEDIPS.addCNV | 34.493 | 1.381 | 37.517 | |
| MEDIPS.correlation | 2.599 | 0.000 | 2.607 | |
| MEDIPS.couplingVector | 4.364 | 0.107 | 4.572 | |
| MEDIPS.createROIset | 1.530 | 0.015 | 1.557 | |
| MEDIPS.createSet | 1.636 | 0.011 | 1.651 | |
| MEDIPS.exportWIG | 2.867 | 0.008 | 2.881 | |
| MEDIPS.getAnnotation | 0 | 0 | 0 | |
| MEDIPS.mergeFrames | 0.006 | 0.000 | 0.006 | |
| MEDIPS.mergeSets | 1.073 | 0.000 | 1.077 | |
| MEDIPS.meth | 51.870 | 0.944 | 52.929 | |
| MEDIPS.plotCalibrationPlot | 4.128 | 0.052 | 4.196 | |
| MEDIPS.plotSaturation | 15.320 | 0.144 | 15.492 | |
| MEDIPS.plotSeqCoverage | 3.829 | 0.088 | 3.925 | |
| MEDIPS.saturation | 14.088 | 0.106 | 14.239 | |
| MEDIPS.selectROIs | 1.618 | 0.675 | 2.604 | |
| MEDIPS.selectSig | 2.761 | 0.080 | 2.863 | |
| MEDIPS.seqCoverage | 3.826 | 0.091 | 4.025 | |
| MEDIPS.setAnnotation | 2.739 | 0.056 | 2.800 | |
| MEDIPSroiSet-class | 0.001 | 0.000 | 0.001 | |
| MEDIPSset-class | 0.000 | 0.001 | 0.001 | |