| Back to Multiple platform build/check report for BioC 3.18: simplified long |
|
This page was generated on 2023-11-02 11:40:50 -0400 (Thu, 02 Nov 2023).
| Hostname | OS | Arch (*) | R version | Installed pkgs |
|---|---|---|---|---|
| nebbiolo2 | Linux (Ubuntu 22.04.2 LTS) | x86_64 | 4.3.1 (2023-06-16) -- "Beagle Scouts" | 4729 |
| palomino4 | Windows Server 2022 Datacenter | x64 | 4.3.1 (2023-06-16 ucrt) -- "Beagle Scouts" | 4463 |
| lconway | macOS 12.6.5 Monterey | x86_64 | 4.3.1 Patched (2023-06-17 r84564) -- "Beagle Scouts" | 4478 |
| kunpeng2 | Linux (openEuler 22.03 LTS-SP1) | aarch64 | 4.3.1 (2023-06-16) -- "Beagle Scouts" | 4464 |
| Click on any hostname to see more info about the system (e.g. compilers) (*) as reported by 'uname -p', except on Windows and Mac OS X | ||||
| Package 1045/2266 | Hostname | OS / Arch | INSTALL | BUILD | CHECK | BUILD BIN | ||||||||
| IRanges 2.36.0 (landing page) Hervé Pagès
| nebbiolo2 | Linux (Ubuntu 22.04.2 LTS) / x86_64 | OK | OK | WARNINGS | |||||||||
| palomino4 | Windows Server 2022 Datacenter / x64 | OK | OK | WARNINGS | OK | |||||||||
| lconway | macOS 12.6.5 Monterey / x86_64 | OK | OK | WARNINGS | OK | |||||||||
| kjohnson1 | macOS 13.6.1 Ventura / arm64 | see weekly results here | ||||||||||||
| kunpeng2 | Linux (openEuler 22.03 LTS-SP1) / aarch64 | OK | OK | WARNINGS | ||||||||||
|
To the developers/maintainers of the IRanges package: - Allow up to 24 hours (and sometimes 48 hours) for your latest push to git@git.bioconductor.org:packages/IRanges.git to reflect on this report. See Troubleshooting Build Report for more information. - Use the following Renviron settings to reproduce errors and warnings. - If 'R CMD check' started to fail recently on the Linux builder(s) over a missing dependency, add the missing dependency to 'Suggests:' in your DESCRIPTION file. See Renviron.bioc for more information. - See Martin Grigorov's blog post for how to debug Linux ARM64 related issues on a x86_64 host. |
| Package: IRanges |
| Version: 2.36.0 |
| Command: /home/biocbuild/R/R-4.3.1/bin/R CMD INSTALL IRanges |
| StartedAt: 2023-11-01 20:07:23 -0000 (Wed, 01 Nov 2023) |
| EndedAt: 2023-11-01 20:09:05 -0000 (Wed, 01 Nov 2023) |
| EllapsedTime: 101.9 seconds |
| RetCode: 0 |
| Status: OK |
##############################################################################
##############################################################################
###
### Running command:
###
### /home/biocbuild/R/R-4.3.1/bin/R CMD INSTALL IRanges
###
##############################################################################
##############################################################################
* installing to library ‘/home/biocbuild/R/R-4.3.1/site-library’
* installing *source* package ‘IRanges’ ...
** using staged installation
** libs
using C compiler: ‘gcc (GCC) 10.3.1’
gcc -I"/home/biocbuild/R/R-4.3.1/include" -DNDEBUG -I'/home/biocbuild/R/R-4.3.1/site-library/S4Vectors/include' -I/usr/local/include -fPIC -g -O2 -Wall -c CompressedAtomicList_utils.c -o CompressedAtomicList_utils.o
gcc -I"/home/biocbuild/R/R-4.3.1/include" -DNDEBUG -I'/home/biocbuild/R/R-4.3.1/site-library/S4Vectors/include' -I/usr/local/include -fPIC -g -O2 -Wall -c CompressedIRangesList_class.c -o CompressedIRangesList_class.o
gcc -I"/home/biocbuild/R/R-4.3.1/include" -DNDEBUG -I'/home/biocbuild/R/R-4.3.1/site-library/S4Vectors/include' -I/usr/local/include -fPIC -g -O2 -Wall -c CompressedList_class.c -o CompressedList_class.o
gcc -I"/home/biocbuild/R/R-4.3.1/include" -DNDEBUG -I'/home/biocbuild/R/R-4.3.1/site-library/S4Vectors/include' -I/usr/local/include -fPIC -g -O2 -Wall -c Grouping_class.c -o Grouping_class.o
gcc -I"/home/biocbuild/R/R-4.3.1/include" -DNDEBUG -I'/home/biocbuild/R/R-4.3.1/site-library/S4Vectors/include' -I/usr/local/include -fPIC -g -O2 -Wall -c IPosRanges_comparison.c -o IPosRanges_comparison.o
gcc -I"/home/biocbuild/R/R-4.3.1/include" -DNDEBUG -I'/home/biocbuild/R/R-4.3.1/site-library/S4Vectors/include' -I/usr/local/include -fPIC -g -O2 -Wall -c IRanges_class.c -o IRanges_class.o
gcc -I"/home/biocbuild/R/R-4.3.1/include" -DNDEBUG -I'/home/biocbuild/R/R-4.3.1/site-library/S4Vectors/include' -I/usr/local/include -fPIC -g -O2 -Wall -c IRanges_constructor.c -o IRanges_constructor.o
gcc -I"/home/biocbuild/R/R-4.3.1/include" -DNDEBUG -I'/home/biocbuild/R/R-4.3.1/site-library/S4Vectors/include' -I/usr/local/include -fPIC -g -O2 -Wall -c NCList.c -o NCList.o
NCList.c:1173:13: warning: ‘NCList_get_y_overlaps_rec’ defined but not used [-Wunused-function]
1173 | static void NCList_get_y_overlaps_rec(const NCList *x_nclist,
| ^~~~~~~~~~~~~~~~~~~~~~~~~
NCList.c:202:22: warning: ‘next_top_down’ defined but not used [-Wunused-function]
202 | static const NCList *next_top_down(const NCList *nclist)
| ^~~~~~~~~~~~~
gcc -I"/home/biocbuild/R/R-4.3.1/include" -DNDEBUG -I'/home/biocbuild/R/R-4.3.1/site-library/S4Vectors/include' -I/usr/local/include -fPIC -g -O2 -Wall -c R_init_IRanges.c -o R_init_IRanges.o
gcc -I"/home/biocbuild/R/R-4.3.1/include" -DNDEBUG -I'/home/biocbuild/R/R-4.3.1/site-library/S4Vectors/include' -I/usr/local/include -fPIC -g -O2 -Wall -c Ranges_class.c -o Ranges_class.o
gcc -I"/home/biocbuild/R/R-4.3.1/include" -DNDEBUG -I'/home/biocbuild/R/R-4.3.1/site-library/S4Vectors/include' -I/usr/local/include -fPIC -g -O2 -Wall -c RleViews_utils.c -o RleViews_utils.o
gcc -I"/home/biocbuild/R/R-4.3.1/include" -DNDEBUG -I'/home/biocbuild/R/R-4.3.1/site-library/S4Vectors/include' -I/usr/local/include -fPIC -g -O2 -Wall -c S4Vectors_stubs.c -o S4Vectors_stubs.o
gcc -I"/home/biocbuild/R/R-4.3.1/include" -DNDEBUG -I'/home/biocbuild/R/R-4.3.1/site-library/S4Vectors/include' -I/usr/local/include -fPIC -g -O2 -Wall -c SimpleIRangesList_class.c -o SimpleIRangesList_class.o
gcc -I"/home/biocbuild/R/R-4.3.1/include" -DNDEBUG -I'/home/biocbuild/R/R-4.3.1/site-library/S4Vectors/include' -I/usr/local/include -fPIC -g -O2 -Wall -c coverage_methods.c -o coverage_methods.o
coverage_methods.c: In function ‘compute_coverage_from_IRanges_holder’:
coverage_methods.c:579:28: warning: ‘x_end’ may be used uninitialized in this function [-Wmaybe-uninitialized]
579 | if (*out_ranges_are_tiles && x_end != cvg_len)
| ~~~~~~~~~~~~~~~~~~~~~~^~~~~~~~~~~~~~~~~~~
coverage_methods.c:495:21: note: ‘x_end’ was declared here
495 | i, j, x_start, x_end, shift_elt, tmp;
| ^~~~~
gcc -I"/home/biocbuild/R/R-4.3.1/include" -DNDEBUG -I'/home/biocbuild/R/R-4.3.1/site-library/S4Vectors/include' -I/usr/local/include -fPIC -g -O2 -Wall -c extractListFragments.c -o extractListFragments.o
extractListFragments.c: In function ‘C_find_partition_overlaps’:
extractListFragments.c:66:5: warning: ‘split_partitions_buf’ may be used uninitialized in this function [-Wmaybe-uninitialized]
66 | IntAE_insert_at(split_partitions_buf,
| ^~~~~~~~~~~~~~~~~~~~~~~~~~~~~~~~~~~~~
67 | IntAE_get_nelt(split_partitions_buf),
| ~~~~~~~~~~~~~~~~~~~~~~~~~~~~~~~~~~~~~
68 | q_prev_end);
| ~~~~~~~~~~~
gcc -I"/home/biocbuild/R/R-4.3.1/include" -DNDEBUG -I'/home/biocbuild/R/R-4.3.1/site-library/S4Vectors/include' -I/usr/local/include -fPIC -g -O2 -Wall -c inter_range_methods.c -o inter_range_methods.o
gcc -shared -L/home/biocbuild/R/R-4.3.1/lib -L/usr/local/lib -o IRanges.so CompressedAtomicList_utils.o CompressedIRangesList_class.o CompressedList_class.o Grouping_class.o IPosRanges_comparison.o IRanges_class.o IRanges_constructor.o NCList.o R_init_IRanges.o Ranges_class.o RleViews_utils.o S4Vectors_stubs.o SimpleIRangesList_class.o coverage_methods.o extractListFragments.o inter_range_methods.o -L/home/biocbuild/R/R-4.3.1/lib -lR
installing to /home/biocbuild/R/R-4.3.1/site-library/00LOCK-IRanges/00new/IRanges/libs
** R
** inst
** byte-compile and prepare package for lazy loading
Creating a generic function for ‘drop’ from package ‘base’ in package ‘IRanges’
Creating a generic function for ‘runmed’ from package ‘stats’ in package ‘IRanges’
Creating a generic function for ‘chartr’ from package ‘base’ in package ‘IRanges’
Creating a generic function for ‘toupper’ from package ‘base’ in package ‘IRanges’
Creating a generic function for ‘tolower’ from package ‘base’ in package ‘IRanges’
Creating a generic function for ‘sub’ from package ‘base’ in package ‘IRanges’
Creating a generic function for ‘gsub’ from package ‘base’ in package ‘IRanges’
Creating a generic function for ‘startsWith’ from package ‘base’ in package ‘IRanges’
Creating a generic function for ‘endsWith’ from package ‘base’ in package ‘IRanges’
Creating a generic function for ‘smoothEnds’ from package ‘stats’ in package ‘IRanges’
** help
*** installing help indices
** building package indices
** installing vignettes
** testing if installed package can be loaded from temporary location
** checking absolute paths in shared objects and dynamic libraries
** testing if installed package can be loaded from final location
** testing if installed package keeps a record of temporary installation path
* DONE (IRanges)