| Back to Multiple platform build/check report for BioC 3.18: simplified long |
|
This page was generated on 2023-11-02 11:40:50 -0400 (Thu, 02 Nov 2023).
| Hostname | OS | Arch (*) | R version | Installed pkgs |
|---|---|---|---|---|
| nebbiolo2 | Linux (Ubuntu 22.04.2 LTS) | x86_64 | 4.3.1 (2023-06-16) -- "Beagle Scouts" | 4729 |
| palomino4 | Windows Server 2022 Datacenter | x64 | 4.3.1 (2023-06-16 ucrt) -- "Beagle Scouts" | 4463 |
| lconway | macOS 12.6.5 Monterey | x86_64 | 4.3.1 Patched (2023-06-17 r84564) -- "Beagle Scouts" | 4478 |
| kunpeng2 | Linux (openEuler 22.03 LTS-SP1) | aarch64 | 4.3.1 (2023-06-16) -- "Beagle Scouts" | 4464 |
| Click on any hostname to see more info about the system (e.g. compilers) (*) as reported by 'uname -p', except on Windows and Mac OS X | ||||
| Package 1044/2266 | Hostname | OS / Arch | INSTALL | BUILD | CHECK | BUILD BIN | ||||||||
| IPO 1.28.0 (landing page) Thomas Lieb
| nebbiolo2 | Linux (Ubuntu 22.04.2 LTS) / x86_64 | OK | OK | OK | |||||||||
| palomino4 | Windows Server 2022 Datacenter / x64 | OK | OK | OK | OK | |||||||||
| lconway | macOS 12.6.5 Monterey / x86_64 | OK | OK | OK | OK | |||||||||
| kjohnson1 | macOS 13.6.1 Ventura / arm64 | see weekly results here | ||||||||||||
| kunpeng2 | Linux (openEuler 22.03 LTS-SP1) / aarch64 | OK | OK | ERROR | ||||||||||
|
To the developers/maintainers of the IPO package: - Allow up to 24 hours (and sometimes 48 hours) for your latest push to git@git.bioconductor.org:packages/IPO.git to reflect on this report. See Troubleshooting Build Report for more information. - Use the following Renviron settings to reproduce errors and warnings. - If 'R CMD check' started to fail recently on the Linux builder(s) over a missing dependency, add the missing dependency to 'Suggests:' in your DESCRIPTION file. See Renviron.bioc for more information. - See Martin Grigorov's blog post for how to debug Linux ARM64 related issues on a x86_64 host. |
| Package: IPO |
| Version: 1.28.0 |
| Command: /home/biocbuild/R/R-4.3.1/bin/R CMD check --install=check:IPO.install-out.txt --library=/home/biocbuild/R/R-4.3.1/site-library --no-vignettes --timings IPO_1.28.0.tar.gz |
| StartedAt: 2023-11-02 11:31:25 -0000 (Thu, 02 Nov 2023) |
| EndedAt: 2023-11-02 11:46:31 -0000 (Thu, 02 Nov 2023) |
| EllapsedTime: 906.1 seconds |
| RetCode: 1 |
| Status: ERROR |
| CheckDir: IPO.Rcheck |
| Warnings: NA |
##############################################################################
##############################################################################
###
### Running command:
###
### /home/biocbuild/R/R-4.3.1/bin/R CMD check --install=check:IPO.install-out.txt --library=/home/biocbuild/R/R-4.3.1/site-library --no-vignettes --timings IPO_1.28.0.tar.gz
###
##############################################################################
##############################################################################
* using log directory ‘/home/biocbuild/bbs-3.18-bioc/meat/IPO.Rcheck’
* using R version 4.3.1 (2023-06-16)
* using platform: aarch64-unknown-linux-gnu (64-bit)
* R was compiled by
gcc (GCC) 10.3.1
GNU Fortran (GCC) 10.3.1
* running under: openEuler 22.03 (LTS-SP1)
* using session charset: UTF-8
* using option ‘--no-vignettes’
* checking for file ‘IPO/DESCRIPTION’ ... OK
* checking extension type ... Package
* this is package ‘IPO’ version ‘1.28.0’
* checking package namespace information ... OK
* checking package dependencies ... OK
* checking if this is a source package ... OK
* checking if there is a namespace ... OK
* checking for hidden files and directories ... OK
* checking for portable file names ... OK
* checking for sufficient/correct file permissions ... OK
* checking whether package ‘IPO’ can be installed ... OK
* checking installed package size ... OK
* checking package directory ... OK
* checking ‘build’ directory ... OK
* checking DESCRIPTION meta-information ... NOTE
License components with restrictions not permitted:
GPL (>= 2) + file LICENSE
* checking top-level files ... OK
* checking for left-over files ... OK
* checking index information ... OK
* checking package subdirectories ... OK
* checking R files for non-ASCII characters ... OK
* checking R files for syntax errors ... OK
* checking whether the package can be loaded ... OK
* checking whether the package can be loaded with stated dependencies ... OK
* checking whether the package can be unloaded cleanly ... OK
* checking whether the namespace can be loaded with stated dependencies ... OK
* checking whether the namespace can be unloaded cleanly ... OK
* checking loading without being on the library search path ... OK
* checking dependencies in R code ... OK
* checking S3 generic/method consistency ... OK
* checking replacement functions ... OK
* checking foreign function calls ... OK
* checking R code for possible problems ... OK
* checking Rd files ... OK
* checking Rd metadata ... OK
* checking Rd cross-references ... OK
* checking for missing documentation entries ... OK
* checking for code/documentation mismatches ... OK
* checking Rd \usage sections ... OK
* checking Rd contents ... OK
* checking for unstated dependencies in examples ... OK
* checking files in ‘vignettes’ ... OK
* checking examples ... OK
Examples with CPU (user + system) or elapsed time > 5s
user system elapsed
findIsotopes.IPO 4.016 2.434 6.844
createModel 3.347 2.344 0.109
calcPPS 4.232 0.095 8.018
calculateXcmsSet 2.867 0.927 5.527
* checking for unstated dependencies in ‘tests’ ... OK
* checking tests ...
Running ‘runTests.R’/home/biocbuild/R/R-4.3.1/bin/BATCH: line 60: 1358980 Killed ${R_HOME}/bin/R -f ${in} ${opts} ${R_BATCH_OPTIONS} > ${out} 2>&1
ERROR
Running the tests in ‘tests/runTests.R’ failed.
Last 13 lines of output:
center sample: MSpos-Ex1-Col0-48h-Ag-2_1-A,1_01_9820
Processing: MSpos-Ex1-Col0-48h-Ag-1_1-A,1_01_9818 Create profile matrix with method 'bin' and step 1 ... OK
Create profile matrix with method 'bin' and step 1 ... OK
center sample: MSpos-Ex1-Col0-48h-Ag-2_1-A,1_01_9820
Processing: MSpos-Ex1-Col0-48h-Ag-1_1-A,1_01_9818 Create profile matrix with method 'bin' and step 1 ... OK
Create profile matrix with method 'bin' and step 1 ... OK
center sample: MSpos-Ex1-Col0-48h-Ag-2_1-A,1_01_9820
Processing: MSpos-Ex1-Col0-48h-Ag-1_1-A,1_01_9818 Create profile matrix with method 'bin' and step 1 ... OK
Create profile matrix with method 'bin' and step 1 ... OK
center sample: MSpos-Ex1-Col0-48h-Ag-2_1-A,1_01_9820
Processing: MSpos-Ex1-Col0-48h-Ag-1_1-A,1_01_9818 Create profile matrix with method 'bin' and step 1 ... OK
Create profile matrix with method 'bin' and step 1 ... OK
* checking for unstated dependencies in vignettes ... OK
* checking package vignettes in ‘inst/doc’ ... OK
* checking running R code from vignettes ... SKIPPED
* checking re-building of vignette outputs ... SKIPPED
* checking PDF version of manual ... OK
* DONE
Status: 1 ERROR, 1 NOTE
See
‘/home/biocbuild/bbs-3.18-bioc/meat/IPO.Rcheck/00check.log’
for details.
IPO.Rcheck/00install.out
############################################################################## ############################################################################## ### ### Running command: ### ### /home/biocbuild/R/R-4.3.1/bin/R CMD INSTALL IPO ### ############################################################################## ############################################################################## * installing to library ‘/home/biocbuild/R/R-4.3.1/site-library’ * installing *source* package ‘IPO’ ... ** using staged installation ** R ** inst ** byte-compile and prepare package for lazy loading ** help *** installing help indices ** building package indices ** installing vignettes ** testing if installed package can be loaded from temporary location ** testing if installed package can be loaded from final location ** testing if installed package keeps a record of temporary installation path * DONE (IPO)
IPO.Rcheck/tests/runTests.Rout.fail
R version 4.3.1 (2023-06-16) -- "Beagle Scouts"
Copyright (C) 2023 The R Foundation for Statistical Computing
Platform: aarch64-unknown-linux-gnu (64-bit)
R is free software and comes with ABSOLUTELY NO WARRANTY.
You are welcome to redistribute it under certain conditions.
Type 'license()' or 'licence()' for distribution details.
R is a collaborative project with many contributors.
Type 'contributors()' for more information and
'citation()' on how to cite R or R packages in publications.
Type 'demo()' for some demos, 'help()' for on-line help, or
'help.start()' for an HTML browser interface to help.
Type 'q()' to quit R.
> library("msdata")
>
> BiocGenerics:::testPackage("IPO")
Attaching package: 'BiocGenerics'
The following objects are masked from 'package:stats':
IQR, mad, sd, var, xtabs
The following objects are masked from 'package:base':
Filter, Find, Map, Position, Reduce, anyDuplicated, aperm, append,
as.data.frame, basename, cbind, colnames, dirname, do.call,
duplicated, eval, evalq, get, grep, grepl, intersect, is.unsorted,
lapply, mapply, match, mget, order, paste, pmax, pmax.int, pmin,
pmin.int, rank, rbind, rownames, sapply, setdiff, sort, table,
tapply, union, unique, unsplit, which.max, which.min
Welcome to Bioconductor
Vignettes contain introductory material; view with
'browseVignettes()'. To cite Bioconductor, see
'citation("Biobase")', and for packages 'citation("pkgname")'.
Attaching package: 'S4Vectors'
The following object is masked from 'package:utils':
findMatches
The following objects are masked from 'package:base':
I, expand.grid, unname
Attaching package: 'ProtGenerics'
The following object is masked from 'package:stats':
smooth
This is MSnbase version 2.28.0
Visit https://lgatto.github.io/MSnbase/ to get started.
Attaching package: 'MSnbase'
The following object is masked from 'package:base':
trimws
This is xcms version 4.0.0
Attaching package: 'xcms'
The following object is masked from 'package:stats':
sigma
Attaching package: 'IPO'
The following object is masked from 'package:S4Vectors':
decode
starting new DoE with:
min_peakwidth: c(3, 9.5)
max_peakwidth: c(10, 20)
ppm: 56
mzdiff: -0.001
snthresh: 10
noise: 0
prefilter: 3
value_of_prefilter: 100
mzCenterFun: wMean
integrate: 1
fitgauss: FALSE
verbose.columns: FALSE
1
Detecting mass traces at 56 ppm ... OK
Detecting chromatographic peaks in 805 regions of interest ... OK: 235 found.
2
Detecting mass traces at 56 ppm ... OK
Detecting chromatographic peaks in 283 regions of interest ... FAIL: none found!
3
Detecting mass traces at 56 ppm ... OK
Detecting chromatographic peaks in 805 regions of interest ... OK: 88 found.
4
Detecting mass traces at 56 ppm ... OK
Detecting chromatographic peaks in 283 regions of interest ... FAIL: none found!
5
Detecting mass traces at 56 ppm ... OK
Detecting chromatographic peaks in 536 regions of interest ... OK: 194 found.
6
Detecting mass traces at 56 ppm ... OK
Detecting chromatographic peaks in 805 regions of interest ... OK: 215 found.
7
Detecting mass traces at 56 ppm ... OK
Detecting chromatographic peaks in 283 regions of interest ... FAIL: none found!
8
Detecting mass traces at 56 ppm ... OK
Detecting chromatographic peaks in 536 regions of interest ... OK: 149 found.
9
Detecting mass traces at 56 ppm ... OK
Detecting chromatographic peaks in 536 regions of interest ... OK: 101 found.
10
Detecting mass traces at 56 ppm ... OK
Detecting chromatographic peaks in 536 regions of interest ... OK: 194 found.
Detecting mass traces at 56 ppm ... OK
Detecting chromatographic peaks in 628 regions of interest ... OK: 225 found.
starting new DoE with:
min_peakwidth: c(3, 8.2)
max_peakwidth: c(9.2, 19.2)
ppm: 56
mzdiff: -0.001
snthresh: 10
noise: 0
prefilter: 3
value_of_prefilter: 100
mzCenterFun: wMean
integrate: 1
fitgauss: FALSE
verbose.columns: FALSE
1
Detecting mass traces at 56 ppm ... OK
Detecting chromatographic peaks in 805 regions of interest ... OK: 235 found.
2
Detecting mass traces at 56 ppm ... OK
Detecting chromatographic peaks in 372 regions of interest ... FAIL: none found!
3
Detecting mass traces at 56 ppm ... OK
Detecting chromatographic peaks in 805 regions of interest ... OK: 143 found.
4
Detecting mass traces at 56 ppm ... OK
Detecting chromatographic peaks in 372 regions of interest ... FAIL: none found!
5
Detecting mass traces at 56 ppm ... OK
Detecting chromatographic peaks in 628 regions of interest ... OK: 222 found.
6
Detecting mass traces at 56 ppm ... OK
Detecting chromatographic peaks in 805 regions of interest ... OK: 225 found.
7
Detecting mass traces at 56 ppm ... OK
Detecting chromatographic peaks in 372 regions of interest ... FAIL: none found!
8
Detecting mass traces at 56 ppm ... OK
Detecting chromatographic peaks in 628 regions of interest ... OK: 144 found.
9
Detecting mass traces at 56 ppm ... OK
Detecting chromatographic peaks in 628 regions of interest ... OK: 139 found.
10
Detecting mass traces at 56 ppm ... OK
Detecting chromatographic peaks in 628 regions of interest ... OK: 222 found.
Detecting mass traces at 56 ppm ... OK
Detecting chromatographic peaks in 718 regions of interest ... OK: 220 found.
no increase, stopping
best parameter settings:
min_peakwidth: 5.6
max_peakwidth: 13
ppm: 56
mzdiff: -0.001
snthresh: 10
noise: 0
prefilter: 3
value_of_prefilter: 100
mzCenterFun: wMean
integrate: 1
fitgauss: FALSE
verbose.columns: FALSE
starting new DoE with:
min_peakwidth: c(3, 9.5)
max_peakwidth: c(10, 20)
ppm: 56
mzdiff: -0.001
snthresh: 10
noise: 0
prefilter: 3
value_of_prefilter: 100
mzCenterFun: wMean
integrate: 1
fitgauss: FALSE
verbose.columns: FALSE
1
Detecting mass traces at 56 ppm ... OK
Detecting chromatographic peaks in 805 regions of interest ... OK: 235 found.
xsAnnotate contains no pseudospectra. Regroup all peaks into one!
Generating peak matrix!
Run isotope peak annotation
% finished: 100
Found isotopes: 59
2
Detecting mass traces at 56 ppm ... OK
Detecting chromatographic peaks in 283 regions of interest ... FAIL: none found!
3
Detecting mass traces at 56 ppm ... OK
Detecting chromatographic peaks in 805 regions of interest ... OK: 88 found.
xsAnnotate contains no pseudospectra. Regroup all peaks into one!
Generating peak matrix!
Run isotope peak annotation
% finished: 100
Found isotopes: 18
4
Detecting mass traces at 56 ppm ... OK
Detecting chromatographic peaks in 283 regions of interest ... FAIL: none found!
5
Detecting mass traces at 56 ppm ... OK
Detecting chromatographic peaks in 536 regions of interest ... OK: 194 found.
xsAnnotate contains no pseudospectra. Regroup all peaks into one!
Generating peak matrix!
Run isotope peak annotation
% finished: 100
Found isotopes: 52
6
Detecting mass traces at 56 ppm ... OK
Detecting chromatographic peaks in 805 regions of interest ... OK: 215 found.
xsAnnotate contains no pseudospectra. Regroup all peaks into one!
Generating peak matrix!
Run isotope peak annotation
% finished: 100
Found isotopes: 55
7
Detecting mass traces at 56 ppm ... OK
Detecting chromatographic peaks in 283 regions of interest ... FAIL: none found!
8
Detecting mass traces at 56 ppm ... OK
Detecting chromatographic peaks in 536 regions of interest ... OK: 149 found.
xsAnnotate contains no pseudospectra. Regroup all peaks into one!
Generating peak matrix!
Run isotope peak annotation
% finished: 100
Found isotopes: 35
9
Detecting mass traces at 56 ppm ... OK
Detecting chromatographic peaks in 536 regions of interest ... OK: 101 found.
xsAnnotate contains no pseudospectra. Regroup all peaks into one!
Generating peak matrix!
Run isotope peak annotation
% finished: 100
Found isotopes: 26
10
Detecting mass traces at 56 ppm ... OK
Detecting chromatographic peaks in 536 regions of interest ... OK: 194 found.
xsAnnotate contains no pseudospectra. Regroup all peaks into one!
Generating peak matrix!
Run isotope peak annotation
% finished: 100
Found isotopes: 52
Detecting mass traces at 56 ppm ... OK
Detecting chromatographic peaks in 718 regions of interest ... OK: 221 found.
xsAnnotate contains no pseudospectra. Regroup all peaks into one!
Generating peak matrix!
Run isotope peak annotation
% finished: 100
Found isotopes: 62
starting new DoE with:
min_peakwidth: c(3, 9.5)
max_peakwidth: c(10.5, 20.5)
ppm: 56
mzdiff: -0.001
snthresh: 10
noise: 0
prefilter: 3
value_of_prefilter: 100
mzCenterFun: wMean
integrate: 1
fitgauss: FALSE
verbose.columns: FALSE
1
Detecting mass traces at 56 ppm ... OK
Detecting chromatographic peaks in 805 regions of interest ... OK: 244 found.
xsAnnotate contains no pseudospectra. Regroup all peaks into one!
Generating peak matrix!
Run isotope peak annotation
% finished: 100
Found isotopes: 57
2
Detecting mass traces at 56 ppm ... OK
Detecting chromatographic peaks in 283 regions of interest ... FAIL: none found!
3
Detecting mass traces at 56 ppm ... OK
Detecting chromatographic peaks in 805 regions of interest ... OK: 88 found.
xsAnnotate contains no pseudospectra. Regroup all peaks into one!
Generating peak matrix!
Run isotope peak annotation
% finished: 100
Found isotopes: 18
4
Detecting mass traces at 56 ppm ... OK
Detecting chromatographic peaks in 283 regions of interest ... FAIL: none found!
5
Detecting mass traces at 56 ppm ... OK
Detecting chromatographic peaks in 536 regions of interest ... OK: 192 found.
xsAnnotate contains no pseudospectra. Regroup all peaks into one!
Generating peak matrix!
Run isotope peak annotation
% finished: 100
Found isotopes: 50
6
Detecting mass traces at 56 ppm ... OK
Detecting chromatographic peaks in 805 regions of interest ... OK: 215 found.
xsAnnotate contains no pseudospectra. Regroup all peaks into one!
Generating peak matrix!
Run isotope peak annotation
% finished: 100
Found isotopes: 55
7
Detecting mass traces at 56 ppm ... OK
Detecting chromatographic peaks in 283 regions of interest ... FAIL: none found!
8
Detecting mass traces at 56 ppm ... OK
Detecting chromatographic peaks in 536 regions of interest ... OK: 149 found.
xsAnnotate contains no pseudospectra. Regroup all peaks into one!
Generating peak matrix!
Run isotope peak annotation
% finished: 100
Found isotopes: 35
9
Detecting mass traces at 56 ppm ... OK
Detecting chromatographic peaks in 536 regions of interest ... OK: 101 found.
xsAnnotate contains no pseudospectra. Regroup all peaks into one!
Generating peak matrix!
Run isotope peak annotation
% finished: 100
Found isotopes: 26
10
Detecting mass traces at 56 ppm ... OK
Detecting chromatographic peaks in 536 regions of interest ... OK: 192 found.
xsAnnotate contains no pseudospectra. Regroup all peaks into one!
Generating peak matrix!
Run isotope peak annotation
% finished: 100
Found isotopes: 50
Detecting mass traces at 56 ppm ... OK
Detecting chromatographic peaks in 718 regions of interest ... OK: 218 found.
xsAnnotate contains no pseudospectra. Regroup all peaks into one!
Generating peak matrix!
Run isotope peak annotation
% finished: 100
Found isotopes: 60
no increase, stopping
best parameter settings:
min_peakwidth: 4.95
max_peakwidth: 13.5
ppm: 56
mzdiff: -0.001
snthresh: 10
noise: 0
prefilter: 3
value_of_prefilter: 100
mzCenterFun: wMean
integrate: 1
fitgauss: FALSE
verbose.columns: FALSE
Detecting mass traces at 30 ppm ... OK
Detecting chromatographic peaks in 211 regions of interest ... OK: 196 found.
Detecting mass traces at 30 ppm ... OK
Detecting chromatographic peaks in 217 regions of interest ... OK: 194 found.
starting new DoE with:
distFunc: cor_opt
gapInit: 0.34
gapExtend: c(2.1, 2.7)
profStep: 1
plottype: none
response: 1
factorDiag: 2
factorGap: 1
localAlignment: 0
retcorMethod: obiwarp
bw: c(22, 38)
minfrac: 1
mzwid: 0.026
minsamp: 1
max: 50
center: 2
center sample: MSpos-Ex1-Col0-48h-Ag-2_1-A,1_01_9820
Processing: MSpos-Ex1-Col0-48h-Ag-1_1-A,1_01_9818 Create profile matrix with method 'bin' and step 1 ... OK
Create profile matrix with method 'bin' and step 1 ... OK
center sample: MSpos-Ex1-Col0-48h-Ag-2_1-A,1_01_9820
Processing: MSpos-Ex1-Col0-48h-Ag-1_1-A,1_01_9818 Create profile matrix with method 'bin' and step 1 ... OK
Create profile matrix with method 'bin' and step 1 ... OK
center sample: MSpos-Ex1-Col0-48h-Ag-2_1-A,1_01_9820
Processing: MSpos-Ex1-Col0-48h-Ag-1_1-A,1_01_9818 Create profile matrix with method 'bin' and step 1 ... OK
Create profile matrix with method 'bin' and step 1 ... OK
center sample: MSpos-Ex1-Col0-48h-Ag-2_1-A,1_01_9820
Processing: MSpos-Ex1-Col0-48h-Ag-1_1-A,1_01_9818 Create profile matrix with method 'bin' and step 1 ... OK
Create profile matrix with method 'bin' and step 1 ... OK
center sample: MSpos-Ex1-Col0-48h-Ag-2_1-A,1_01_9820
Processing: MSpos-Ex1-Col0-48h-Ag-1_1-A,1_01_9818 Create profile matrix with method 'bin' and step 1 ... OK
Create profile matrix with method 'bin' and step 1 ... OK
center sample: MSpos-Ex1-Col0-48h-Ag-2_1-A,1_01_9820
Processing: MSpos-Ex1-Col0-48h-Ag-1_1-A,1_01_9818 Create profile matrix with method 'bin' and step 1 ... OK
Create profile matrix with method 'bin' and step 1 ... OK
center sample: MSpos-Ex1-Col0-48h-Ag-2_1-A,1_01_9820
Processing: MSpos-Ex1-Col0-48h-Ag-1_1-A,1_01_9818 Create profile matrix with method 'bin' and step 1 ... OK
Create profile matrix with method 'bin' and step 1 ... OK
center sample: MSpos-Ex1-Col0-48h-Ag-2_1-A,1_01_9820
Processing: MSpos-Ex1-Col0-48h-Ag-1_1-A,1_01_9818 Create profile matrix with method 'bin' and step 1 ... OK
Create profile matrix with method 'bin' and step 1 ... OK
center sample: MSpos-Ex1-Col0-48h-Ag-2_1-A,1_01_9820
Processing: MSpos-Ex1-Col0-48h-Ag-1_1-A,1_01_9818 Create profile matrix with method 'bin' and step 1 ... OK
Create profile matrix with method 'bin' and step 1 ... OK
center sample: MSpos-Ex1-Col0-48h-Ag-2_1-A,1_01_9820
Processing: MSpos-Ex1-Col0-48h-Ag-1_1-A,1_01_9818 Create profile matrix with method 'bin' and step 1 ... OK
Create profile matrix with method 'bin' and step 1 ... OK
center sample: MSpos-Ex1-Col0-48h-Ag-2_1-A,1_01_9820
Processing: MSpos-Ex1-Col0-48h-Ag-1_1-A,1_01_9818 Create profile matrix with method 'bin' and step 1 ... OK
Create profile matrix with method 'bin' and step 1 ... OK
starting new DoE with:
gapExtend: c(1.74, 2.46)
bw: c(12.4, 31.6)
distFunc: cor_opt
gapInit: 0.34
profStep: 1
plottype: none
response: 1
factorDiag: 2
factorGap: 1
localAlignment: 0
retcorMethod: obiwarp
minfrac: 1
mzwid: 0.026
minsamp: 1
max: 50
center: 2
center sample: MSpos-Ex1-Col0-48h-Ag-2_1-A,1_01_9820
Processing: MSpos-Ex1-Col0-48h-Ag-1_1-A,1_01_9818 Create profile matrix with method 'bin' and step 1 ... OK
Create profile matrix with method 'bin' and step 1 ... OK
center sample: MSpos-Ex1-Col0-48h-Ag-2_1-A,1_01_9820
Processing: MSpos-Ex1-Col0-48h-Ag-1_1-A,1_01_9818 Create profile matrix with method 'bin' and step 1 ... OK
Create profile matrix with method 'bin' and step 1 ... OK
center sample: MSpos-Ex1-Col0-48h-Ag-2_1-A,1_01_9820
Processing: MSpos-Ex1-Col0-48h-Ag-1_1-A,1_01_9818 Create profile matrix with method 'bin' and step 1 ... OK
Create profile matrix with method 'bin' and step 1 ... OK
center sample: MSpos-Ex1-Col0-48h-Ag-2_1-A,1_01_9820
Processing: MSpos-Ex1-Col0-48h-Ag-1_1-A,1_01_9818 Create profile matrix with method 'bin' and step 1 ... OK
Create profile matrix with method 'bin' and step 1 ... OK
center sample: MSpos-Ex1-Col0-48h-Ag-2_1-A,1_01_9820
Processing: MSpos-Ex1-Col0-48h-Ag-1_1-A,1_01_9818 Create profile matrix with method 'bin' and step 1 ... OK
Create profile matrix with method 'bin' and step 1 ... OK
center sample: MSpos-Ex1-Col0-48h-Ag-2_1-A,1_01_9820
Processing: MSpos-Ex1-Col0-48h-Ag-1_1-A,1_01_9818 Create profile matrix with method 'bin' and step 1 ... OK
Create profile matrix with method 'bin' and step 1 ... OK
center sample: MSpos-Ex1-Col0-48h-Ag-2_1-A,1_01_9820
Processing: MSpos-Ex1-Col0-48h-Ag-1_1-A,1_01_9818 Create profile matrix with method 'bin' and step 1 ... OK
Create profile matrix with method 'bin' and step 1 ... OK
center sample: MSpos-Ex1-Col0-48h-Ag-2_1-A,1_01_9820
Processing: MSpos-Ex1-Col0-48h-Ag-1_1-A,1_01_9818 Create profile matrix with method 'bin' and step 1 ... OK
Create profile matrix with method 'bin' and step 1 ... OK
IPO.Rcheck/IPO-Ex.timings
| name | user | system | elapsed | |
| IPO-package | 0.000 | 0.000 | 0.001 | |
| attachList | 0 | 0 | 0 | |
| calcPPS | 4.232 | 0.095 | 8.018 | |
| calculateXcmsSet | 2.867 | 0.927 | 5.527 | |
| combineParams | 0.011 | 0.011 | 0.022 | |
| createModel | 3.347 | 2.344 | 0.109 | |
| decode | 0.000 | 0.000 | 0.001 | |
| findIsotopes.CAMERA | 2.935 | 1.188 | 4.172 | |
| findIsotopes.IPO | 4.016 | 2.434 | 6.844 | |
| getBbdParameter | 0.000 | 0.003 | 0.004 | |
| getCcdParameter | 0.005 | 0.003 | 0.009 | |
| getDefaultRetCorCenterSample | 0 | 0 | 0 | |
| getDefaultRetGroupStartingParams | 0.000 | 0.000 | 0.001 | |
| getDefaultXcmsSetStartingParams | 0.001 | 0.000 | 0.002 | |
| getNormalizedResponse | 0 | 0 | 0 | |
| getRGTVValues | 0 | 0 | 0 | |
| optimizeRetGroup | 0 | 0 | 0 | |
| optimizeXcmsSet | 0 | 0 | 0 | |
| toMatrix | 0.001 | 0.000 | 0.002 | |
| typeCastParams | 0.000 | 0.000 | 0.001 | |
| writeParamsTable | 0.005 | 0.000 | 0.007 | |
| writeRScript | 0.002 | 0.000 | 0.002 | |