| Back to Multiple platform build/check report for BioC 3.18: simplified long |
|
This page was generated on 2023-07-11 11:38:41 -0400 (Tue, 11 Jul 2023).
| Hostname | OS | Arch (*) | R version | Installed pkgs |
|---|---|---|---|---|
| nebbiolo2 | Linux (Ubuntu 22.04.2 LTS) | x86_64 | 4.3.1 (2023-06-16) -- "Beagle Scouts" | 4611 |
| palomino4 | Windows Server 2022 Datacenter | x64 | 4.3.1 (2023-06-16 ucrt) -- "Beagle Scouts" | 4346 |
| lconway | macOS 12.6.5 Monterey | x86_64 | 4.3.1 Patched (2023-06-17 r84564) -- "Beagle Scouts" | 4351 |
| kunpeng2 | Linux (openEuler 22.03 LTS-SP1) | aarch64 | 4.3.1 (2023-06-16) -- "Beagle Scouts" | 4348 |
| Click on any hostname to see more info about the system (e.g. compilers) (*) as reported by 'uname -p', except on Windows and Mac OS X | ||||
| Package 952/2211 | Hostname | OS / Arch | INSTALL | BUILD | CHECK | BUILD BIN | ||||||||
| HumanTranscriptomeCompendium 1.17.0 (landing page) VJ Carey
| nebbiolo2 | Linux (Ubuntu 22.04.2 LTS) / x86_64 | OK | OK | WARNINGS | |||||||||
| palomino4 | Windows Server 2022 Datacenter / x64 | OK | OK | WARNINGS | OK | |||||||||
| lconway | macOS 12.6.5 Monterey / x86_64 | OK | OK | WARNINGS | OK | |||||||||
| kunpeng2 | Linux (openEuler 22.03 LTS-SP1) / aarch64 | OK | OK | WARNINGS | ||||||||||
| The builds on kunpeng2 (Linux ARM64) are experimental! |
|
To the developers/maintainers of the HumanTranscriptomeCompendium package: - Allow up to 24 hours (and sometimes 48 hours) for your latest push to git@git.bioconductor.org:packages/HumanTranscriptomeCompendium.git to reflect on this report. See Troubleshooting Build Report for more information. - Use the following Renviron settings to reproduce errors and warnings. - If 'R CMD check' started to fail recently on the Linux builder(s) over a missing dependency, add the missing dependency to 'Suggests:' in your DESCRIPTION file. See Renviron.bioc for more information. |
| Package: HumanTranscriptomeCompendium |
| Version: 1.17.0 |
| Command: rm -rf HumanTranscriptomeCompendium.buildbin-libdir && mkdir HumanTranscriptomeCompendium.buildbin-libdir && /Users/biocbuild/BBS/utils/build-universal.sh HumanTranscriptomeCompendium_1.17.0.tar.gz /Library/Frameworks/R.framework/Resources/bin/R HumanTranscriptomeCompendium.buildbin-libdir |
| StartedAt: 2023-07-11 00:40:20 -0400 (Tue, 11 Jul 2023) |
| EndedAt: 2023-07-11 00:40:55 -0400 (Tue, 11 Jul 2023) |
| EllapsedTime: 34.6 seconds |
| RetCode: 0 |
| Status: OK |
| PackageFile: HumanTranscriptomeCompendium_1.17.0.tgz |
| PackageFileSize: 2.028 MiB |
############################################################################## ############################################################################## ### ### Running command: ### ### rm -rf HumanTranscriptomeCompendium.buildbin-libdir && mkdir HumanTranscriptomeCompendium.buildbin-libdir && /Users/biocbuild/BBS/utils/build-universal.sh HumanTranscriptomeCompendium_1.17.0.tar.gz /Library/Frameworks/R.framework/Resources/bin/R HumanTranscriptomeCompendium.buildbin-libdir ### ############################################################################## ############################################################################## >>>>>>> >>>>>>> INSTALLATION WITH 'R CMD INSTALL --preclean --no-multiarch --library=HumanTranscriptomeCompendium.buildbin-libdir HumanTranscriptomeCompendium_1.17.0.tar.gz' >>>>>>> * installing *source* package ‘HumanTranscriptomeCompendium’ ... ** using staged installation ** R ** data *** moving datasets to lazyload DB ** inst ** byte-compile and prepare package for lazy loading ** help *** installing help indices ** building package indices ** installing vignettes ** testing if installed package can be loaded from temporary location ** testing if installed package can be loaded from final location ** testing if installed package keeps a record of temporary installation path * DONE (HumanTranscriptomeCompendium)