| Back to Multiple platform build/check report for BioC 3.18: simplified long |
|
This page was generated on 2023-11-02 11:40:47 -0400 (Thu, 02 Nov 2023).
| Hostname | OS | Arch (*) | R version | Installed pkgs |
|---|---|---|---|---|
| nebbiolo2 | Linux (Ubuntu 22.04.2 LTS) | x86_64 | 4.3.1 (2023-06-16) -- "Beagle Scouts" | 4729 |
| palomino4 | Windows Server 2022 Datacenter | x64 | 4.3.1 (2023-06-16 ucrt) -- "Beagle Scouts" | 4463 |
| lconway | macOS 12.6.5 Monterey | x86_64 | 4.3.1 Patched (2023-06-17 r84564) -- "Beagle Scouts" | 4478 |
| kunpeng2 | Linux (openEuler 22.03 LTS-SP1) | aarch64 | 4.3.1 (2023-06-16) -- "Beagle Scouts" | 4464 |
| Click on any hostname to see more info about the system (e.g. compilers) (*) as reported by 'uname -p', except on Windows and Mac OS X | ||||
| Package 931/2266 | Hostname | OS / Arch | INSTALL | BUILD | CHECK | BUILD BIN | ||||||||
| Harman 1.30.0 (landing page) Jason Ross
| nebbiolo2 | Linux (Ubuntu 22.04.2 LTS) / x86_64 | OK | OK | OK | |||||||||
| palomino4 | Windows Server 2022 Datacenter / x64 | OK | OK | OK | OK | |||||||||
| lconway | macOS 12.6.5 Monterey / x86_64 | OK | OK | OK | OK | |||||||||
| kjohnson1 | macOS 13.6.1 Ventura / arm64 | see weekly results here | ||||||||||||
| kunpeng2 | Linux (openEuler 22.03 LTS-SP1) / aarch64 | OK | OK | OK | ||||||||||
|
To the developers/maintainers of the Harman package: - Allow up to 24 hours (and sometimes 48 hours) for your latest push to git@git.bioconductor.org:packages/Harman.git to reflect on this report. See Troubleshooting Build Report for more information. - Use the following Renviron settings to reproduce errors and warnings. - If 'R CMD check' started to fail recently on the Linux builder(s) over a missing dependency, add the missing dependency to 'Suggests:' in your DESCRIPTION file. See Renviron.bioc for more information. - See Martin Grigorov's blog post for how to debug Linux ARM64 related issues on a x86_64 host. |
| Package: Harman |
| Version: 1.30.0 |
| Command: /home/biocbuild/R/R-4.3.1/bin/R CMD INSTALL Harman |
| StartedAt: 2023-11-01 20:08:36 -0000 (Wed, 01 Nov 2023) |
| EndedAt: 2023-11-01 20:08:55 -0000 (Wed, 01 Nov 2023) |
| EllapsedTime: 18.2 seconds |
| RetCode: 0 |
| Status: OK |
##############################################################################
##############################################################################
###
### Running command:
###
### /home/biocbuild/R/R-4.3.1/bin/R CMD INSTALL Harman
###
##############################################################################
##############################################################################
* installing to library ‘/home/biocbuild/R/R-4.3.1/site-library’
* installing *source* package ‘Harman’ ...
** using staged installation
** libs
using C++ compiler: ‘g++ (GCC) 10.3.1’
g++ -std=gnu++17 -I"/home/biocbuild/R/R-4.3.1/include" -DNDEBUG -D_ARRAYALIGNEMT=4 -D_USE_RCPP=1 -I'/home/biocbuild/R/R-4.3.1/site-library/Rcpp/include' -I/usr/local/include `/home/biocbuild/R/R-4.3.1/bin/Rscript -e "Rcpp:::CxxFlags()"` -I. -fPIC -g -O2 -Wall -c Harman.cpp -o Harman.o
Harman.cpp: In function ‘SEXPREC* HarmanMain(SEXP, SEXP, SEXP, SEXP, SEXP, SEXP, SEXP)’:
Harman.cpp:3008:3: warning: this ‘else’ clause does not guard... [-Wmisleading-indentation]
3008 | else
| ^~~~
Harman.cpp:3022:5: note: ...this statement, but the latter is misleadingly indented as if it were guarded by the ‘else’
3022 | std::vector<unsigned int> tr_std_tmp = Rcpp::as<std::vector<unsigned int> >(tr) ;
| ^~~
In file included from Harman.cpp:182:
CSelectRandom.h: In instantiation of ‘std::vector<unsigned int>* CSelectRandom<T>::ReturnVectOf32bitIntegersInRange_CSTDLIB(size_t, size_t, size_t, size_t) [with T = double; size_t = long unsigned int]’:
Harman.cpp:1764:117: required from here
CSelectRandom.h:943:20: warning: comparison of integer expressions of different signedness: ‘long long int’ and ‘size_t’ {aka ‘long unsigned int’} [-Wsign-compare]
943 | while (currval < howManyIN)
| ~~~~~~~~^~~~~~~~~~~
g++ -std=gnu++17 -shared -L/home/biocbuild/R/R-4.3.1/lib -L/usr/local/lib -o Harman.so Harman.o -L/home/biocbuild/R/R-4.3.1/lib -lR
installing to /home/biocbuild/R/R-4.3.1/site-library/00LOCK-Harman/00new/Harman/libs
** R
** inst
** byte-compile and prepare package for lazy loading
** help
*** installing help indices
** building package indices
** installing vignettes
** testing if installed package can be loaded from temporary location
** checking absolute paths in shared objects and dynamic libraries
** testing if installed package can be loaded from final location
** testing if installed package keeps a record of temporary installation path
* DONE (Harman)