| Back to Multiple platform build/check report for BioC 3.18: simplified long |
|
This page was generated on 2023-11-02 11:40:43 -0400 (Thu, 02 Nov 2023).
| Hostname | OS | Arch (*) | R version | Installed pkgs |
|---|---|---|---|---|
| nebbiolo2 | Linux (Ubuntu 22.04.2 LTS) | x86_64 | 4.3.1 (2023-06-16) -- "Beagle Scouts" | 4729 |
| palomino4 | Windows Server 2022 Datacenter | x64 | 4.3.1 (2023-06-16 ucrt) -- "Beagle Scouts" | 4463 |
| lconway | macOS 12.6.5 Monterey | x86_64 | 4.3.1 Patched (2023-06-17 r84564) -- "Beagle Scouts" | 4478 |
| kunpeng2 | Linux (openEuler 22.03 LTS-SP1) | aarch64 | 4.3.1 (2023-06-16) -- "Beagle Scouts" | 4464 |
| Click on any hostname to see more info about the system (e.g. compilers) (*) as reported by 'uname -p', except on Windows and Mac OS X | ||||
| Package 790/2266 | Hostname | OS / Arch | INSTALL | BUILD | CHECK | BUILD BIN | ||||||||
| GeneBreak 1.32.0 (landing page) Evert van den Broek
| nebbiolo2 | Linux (Ubuntu 22.04.2 LTS) / x86_64 | OK | OK | OK | |||||||||
| palomino4 | Windows Server 2022 Datacenter / x64 | OK | OK | OK | OK | |||||||||
| lconway | macOS 12.6.5 Monterey / x86_64 | OK | OK | OK | OK | |||||||||
| kjohnson1 | macOS 13.6.1 Ventura / arm64 | see weekly results here | ||||||||||||
| kunpeng2 | Linux (openEuler 22.03 LTS-SP1) / aarch64 | OK | OK | OK | ||||||||||
|
To the developers/maintainers of the GeneBreak package: - Allow up to 24 hours (and sometimes 48 hours) for your latest push to git@git.bioconductor.org:packages/GeneBreak.git to reflect on this report. See Troubleshooting Build Report for more information. - Use the following Renviron settings to reproduce errors and warnings. - If 'R CMD check' started to fail recently on the Linux builder(s) over a missing dependency, add the missing dependency to 'Suggests:' in your DESCRIPTION file. See Renviron.bioc for more information. - See Martin Grigorov's blog post for how to debug Linux ARM64 related issues on a x86_64 host. |
| Package: GeneBreak |
| Version: 1.32.0 |
| Command: /home/biocbuild/R/R-4.3.1/bin/R CMD check --install=check:GeneBreak.install-out.txt --library=/home/biocbuild/R/R-4.3.1/site-library --no-vignettes --timings GeneBreak_1.32.0.tar.gz |
| StartedAt: 2023-11-02 10:44:53 -0000 (Thu, 02 Nov 2023) |
| EndedAt: 2023-11-02 10:48:18 -0000 (Thu, 02 Nov 2023) |
| EllapsedTime: 204.3 seconds |
| RetCode: 0 |
| Status: OK |
| CheckDir: GeneBreak.Rcheck |
| Warnings: 0 |
##############################################################################
##############################################################################
###
### Running command:
###
### /home/biocbuild/R/R-4.3.1/bin/R CMD check --install=check:GeneBreak.install-out.txt --library=/home/biocbuild/R/R-4.3.1/site-library --no-vignettes --timings GeneBreak_1.32.0.tar.gz
###
##############################################################################
##############################################################################
* using log directory ‘/home/biocbuild/bbs-3.18-bioc/meat/GeneBreak.Rcheck’
* using R version 4.3.1 (2023-06-16)
* using platform: aarch64-unknown-linux-gnu (64-bit)
* R was compiled by
gcc (GCC) 10.3.1
GNU Fortran (GCC) 10.3.1
* running under: openEuler 22.03 (LTS-SP1)
* using session charset: UTF-8
* using option ‘--no-vignettes’
* checking for file ‘GeneBreak/DESCRIPTION’ ... OK
* checking extension type ... Package
* this is package ‘GeneBreak’ version ‘1.32.0’
* checking package namespace information ... OK
* checking package dependencies ... OK
* checking if this is a source package ... OK
* checking if there is a namespace ... OK
* checking for hidden files and directories ... OK
* checking for portable file names ... OK
* checking for sufficient/correct file permissions ... OK
* checking whether package ‘GeneBreak’ can be installed ... OK
* checking installed package size ... OK
* checking package directory ... OK
* checking ‘build’ directory ... OK
* checking DESCRIPTION meta-information ... OK
* checking top-level files ... OK
* checking for left-over files ... OK
* checking index information ... OK
* checking package subdirectories ... OK
* checking R files for non-ASCII characters ... OK
* checking R files for syntax errors ... OK
* checking whether the package can be loaded ... OK
* checking whether the package can be loaded with stated dependencies ... OK
* checking whether the package can be unloaded cleanly ... OK
* checking whether the namespace can be loaded with stated dependencies ... OK
* checking whether the namespace can be unloaded cleanly ... OK
* checking loading without being on the library search path ... OK
* checking dependencies in R code ... OK
* checking S3 generic/method consistency ... OK
* checking replacement functions ... OK
* checking foreign function calls ... OK
* checking R code for possible problems ... NOTE
.glmbreak: no visible global function definition for ‘glm’
.glmbreak: no visible global function definition for ‘predict’
addGeneAnnotation,CopyNumberBreakPoints: no visible global function
definition for ‘head’
bpStats,CopyNumberBreakPoints: no visible global function definition
for ‘sd’
bpStats,CopyNumberBreakPoints: no visible global function definition
for ‘p.adjust’
Undefined global functions or variables:
glm head p.adjust predict sd
Consider adding
importFrom("stats", "glm", "p.adjust", "predict", "sd")
importFrom("utils", "head")
to your NAMESPACE file.
* checking Rd files ... OK
* checking Rd metadata ... OK
* checking Rd cross-references ... OK
* checking for missing documentation entries ... OK
* checking for code/documentation mismatches ... OK
* checking Rd \usage sections ... OK
* checking Rd contents ... OK
* checking for unstated dependencies in examples ... OK
* checking contents of ‘data’ directory ... OK
* checking data for non-ASCII characters ... OK
* checking data for ASCII and uncompressed saves ... OK
* checking files in ‘vignettes’ ... OK
* checking examples ... OK
Examples with CPU (user + system) or elapsed time > 5s
user system elapsed
CopyNumberBreakPointGenes-class 7.622 0.120 7.756
recurrentGenes-CopyNumberBreakPointGenes-method 6.606 0.039 6.658
bpStats-CopyNumberBreakPoints-method 6.280 0.067 6.360
bpPlot-CopyNumberBreakPoints-method 6.308 0.032 6.351
* checking for unstated dependencies in vignettes ... OK
* checking package vignettes in ‘inst/doc’ ... OK
* checking running R code from vignettes ... SKIPPED
* checking re-building of vignette outputs ... SKIPPED
* checking PDF version of manual ... OK
* DONE
Status: 1 NOTE
See
‘/home/biocbuild/bbs-3.18-bioc/meat/GeneBreak.Rcheck/00check.log’
for details.
GeneBreak.Rcheck/00install.out
############################################################################## ############################################################################## ### ### Running command: ### ### /home/biocbuild/R/R-4.3.1/bin/R CMD INSTALL GeneBreak ### ############################################################################## ############################################################################## * installing to library ‘/home/biocbuild/R/R-4.3.1/site-library’ * installing *source* package ‘GeneBreak’ ... ** using staged installation ** R ** data ** byte-compile and prepare package for lazy loading Creating a new generic function for ‘segmentData’ in package ‘GeneBreak’ ** help *** installing help indices ** building package indices ** installing vignettes ** testing if installed package can be loaded from temporary location ** testing if installed package can be loaded from final location ** testing if installed package keeps a record of temporary installation path * DONE (GeneBreak)
GeneBreak.Rcheck/GeneBreak-Ex.timings
| name | user | system | elapsed | |
| CopyNumberBreakPointGenes-class | 7.622 | 0.120 | 7.756 | |
| CopyNumberBreakPoints-class | 2.122 | 0.048 | 2.174 | |
| accessOptions-CopyNumberBreakPoints-method | 0.724 | 0.048 | 0.774 | |
| addGeneAnnotation-CopyNumberBreakPoints-method | 2.061 | 0.040 | 2.104 | |
| bpFilter-CopyNumberBreakPoints-method | 1.628 | 0.012 | 1.643 | |
| bpGenes-CopyNumberBreakPointGenes-method | 2.413 | 0.056 | 2.473 | |
| bpPlot-CopyNumberBreakPoints-method | 6.308 | 0.032 | 6.351 | |
| bpStats-CopyNumberBreakPoints-method | 6.280 | 0.067 | 6.360 | |
| breakpointData-CopyNumberBreakPoints-method | 1.289 | 0.240 | 1.532 | |
| breakpointsPerGene-CopyNumberBreakPointGenes-method | 2.383 | 0.244 | 2.631 | |
| callData-CopyNumberBreakPoints-method | 1.397 | 0.235 | 1.635 | |
| featureChromosomes-CopyNumberBreakPoints-method | 0.721 | 0.036 | 0.758 | |
| featureInfo-CopyNumberBreakPoints-method | 2.738 | 0.096 | 2.839 | |
| featuresPerGene-CopyNumberBreakPointGenes-method | 2.294 | 0.024 | 2.322 | |
| geneChromosomes-CopyNumberBreakPointGenes-method | 2.316 | 0.024 | 2.345 | |
| geneInfo-CopyNumberBreakPointGenes-method | 2.092 | 0.056 | 2.152 | |
| getBreakpoints | 1.754 | 0.028 | 1.785 | |
| namesFeatures-CopyNumberBreakPoints-method | 1.098 | 0.040 | 1.141 | |
| recurrentGenes-CopyNumberBreakPointGenes-method | 6.606 | 0.039 | 6.658 | |
| sampleNames-CopyNumberBreakPoints-method | 1.173 | 0.028 | 1.204 | |
| segmentData-CopyNumberBreakPoints-method | 1.047 | 0.224 | 1.276 | |