| Back to Multiple platform build/check report for BioC 3.18: simplified long |
|
This page was generated on 2023-11-02 11:40:43 -0400 (Thu, 02 Nov 2023).
| Hostname | OS | Arch (*) | R version | Installed pkgs |
|---|---|---|---|---|
| nebbiolo2 | Linux (Ubuntu 22.04.2 LTS) | x86_64 | 4.3.1 (2023-06-16) -- "Beagle Scouts" | 4729 |
| palomino4 | Windows Server 2022 Datacenter | x64 | 4.3.1 (2023-06-16 ucrt) -- "Beagle Scouts" | 4463 |
| lconway | macOS 12.6.5 Monterey | x86_64 | 4.3.1 Patched (2023-06-17 r84564) -- "Beagle Scouts" | 4478 |
| kunpeng2 | Linux (openEuler 22.03 LTS-SP1) | aarch64 | 4.3.1 (2023-06-16) -- "Beagle Scouts" | 4464 |
| Click on any hostname to see more info about the system (e.g. compilers) (*) as reported by 'uname -p', except on Windows and Mac OS X | ||||
| Package 812/2266 | Hostname | OS / Arch | INSTALL | BUILD | CHECK | BUILD BIN | ||||||||
| GENIE3 1.24.0 (landing page) Van Anh Huynh-Thu
| nebbiolo2 | Linux (Ubuntu 22.04.2 LTS) / x86_64 | OK | OK | OK | |||||||||
| palomino4 | Windows Server 2022 Datacenter / x64 | OK | OK | OK | OK | |||||||||
| lconway | macOS 12.6.5 Monterey / x86_64 | OK | OK | OK | OK | |||||||||
| kjohnson1 | macOS 13.6.1 Ventura / arm64 | see weekly results here | ||||||||||||
| kunpeng2 | Linux (openEuler 22.03 LTS-SP1) / aarch64 | OK | OK | OK | ||||||||||
|
To the developers/maintainers of the GENIE3 package: - Allow up to 24 hours (and sometimes 48 hours) for your latest push to git@git.bioconductor.org:packages/GENIE3.git to reflect on this report. See Troubleshooting Build Report for more information. - Use the following Renviron settings to reproduce errors and warnings. - If 'R CMD check' started to fail recently on the Linux builder(s) over a missing dependency, add the missing dependency to 'Suggests:' in your DESCRIPTION file. See Renviron.bioc for more information. - See Martin Grigorov's blog post for how to debug Linux ARM64 related issues on a x86_64 host. |
| Package: GENIE3 |
| Version: 1.24.0 |
| Command: /home/biocbuild/R/R-4.3.1/bin/R CMD INSTALL GENIE3 |
| StartedAt: 2023-11-01 20:08:34 -0000 (Wed, 01 Nov 2023) |
| EndedAt: 2023-11-01 20:08:54 -0000 (Wed, 01 Nov 2023) |
| EllapsedTime: 20.0 seconds |
| RetCode: 0 |
| Status: OK |
##############################################################################
##############################################################################
###
### Running command:
###
### /home/biocbuild/R/R-4.3.1/bin/R CMD INSTALL GENIE3
###
##############################################################################
##############################################################################
* installing to library ‘/home/biocbuild/R/R-4.3.1/site-library’
* installing *source* package ‘GENIE3’ ...
** using staged installation
** libs
using C compiler: ‘gcc (GCC) 10.3.1’
gcc -I"/home/biocbuild/R/R-4.3.1/include" -DNDEBUG -I/usr/local/include -fPIC -g -O2 -Wall -c GENIE3.c -o GENIE3.o
GENIE3.c: In function ‘find_the_best_threshold_multiregr’:
GENIE3.c:1368:24: warning: ‘best_threshold’ may be used uninitialized in this function [-Wmaybe-uninitialized]
1368 | current_threshold.f=best_threshold;
| ~~~~~~~~~~~~~~~~~~~^~~~~~~~~~~~~~~
GENIE3.c:1370:27: warning: ‘best_info’ may be used uninitialized in this function [-Wmaybe-uninitialized]
1370 | current_threshold_info=best_info;
| ~~~~~~~~~~~~~~~~~~~~~~^~~~~~~~~~
GENIE3.c: In function ‘build_one_tree_ensemble’:
GENIE3.c:1052:7: warning: ‘fp’ may be used uninitialized in this function [-Wmaybe-uninitialized]
1052 | write_one_tree(current_tree, fp);
| ^~~~~~~~~~~~~~~~~~~~~~~~~~~~~~~~
GENIE3.c: In function ‘find_the_best_threshold_symb_multiregr’:
GENIE3.c:1466:27: warning: ‘best_info’ may be used uninitialized in this function [-Wmaybe-uninitialized]
1466 | current_threshold_info=best_info;
| ~~~~~~~~~~~~~~~~~~~~~~^~~~~~~~~~
GENIE3.c: In function ‘compute_ltrees_variable_importance_multiregr_separate’:
GENIE3.c:1762:10: warning: ‘flag_continue’ may be used uninitialized in this function [-Wmaybe-uninitialized]
1762 | return flag_continue;
| ^~~~~~~~~~~~~
gcc -shared -L/home/biocbuild/R/R-4.3.1/lib -L/usr/local/lib -o GENIE3.so GENIE3.o -L/home/biocbuild/R/R-4.3.1/lib -lR
installing to /home/biocbuild/R/R-4.3.1/site-library/00LOCK-GENIE3/00new/GENIE3/libs
** R
** inst
** byte-compile and prepare package for lazy loading
in method for ‘GENIE3’ with signature ‘"SummarizedExperiment"’: no definition for class “SummarizedExperiment”
in method for ‘GENIE3’ with signature ‘"ExpressionSet"’: no definition for class “ExpressionSet”
** help
*** installing help indices
** building package indices
** installing vignettes
** testing if installed package can be loaded from temporary location
** checking absolute paths in shared objects and dynamic libraries
** testing if installed package can be loaded from final location
** testing if installed package keeps a record of temporary installation path
* DONE (GENIE3)