| Back to Multiple platform build/check report for BioC 3.18: simplified long |
|
This page was generated on 2023-11-02 11:40:38 -0400 (Thu, 02 Nov 2023).
| Hostname | OS | Arch (*) | R version | Installed pkgs |
|---|---|---|---|---|
| nebbiolo2 | Linux (Ubuntu 22.04.2 LTS) | x86_64 | 4.3.1 (2023-06-16) -- "Beagle Scouts" | 4729 |
| palomino4 | Windows Server 2022 Datacenter | x64 | 4.3.1 (2023-06-16 ucrt) -- "Beagle Scouts" | 4463 |
| lconway | macOS 12.6.5 Monterey | x86_64 | 4.3.1 Patched (2023-06-17 r84564) -- "Beagle Scouts" | 4478 |
| kunpeng2 | Linux (openEuler 22.03 LTS-SP1) | aarch64 | 4.3.1 (2023-06-16) -- "Beagle Scouts" | 4464 |
| Click on any hostname to see more info about the system (e.g. compilers) (*) as reported by 'uname -p', except on Windows and Mac OS X | ||||
| Package 618/2266 | Hostname | OS / Arch | INSTALL | BUILD | CHECK | BUILD BIN | ||||||||
| EBImage 4.44.0 (landing page) Andrzej Oleś
| nebbiolo2 | Linux (Ubuntu 22.04.2 LTS) / x86_64 | OK | OK | OK | |||||||||
| palomino4 | Windows Server 2022 Datacenter / x64 | OK | OK | OK | OK | |||||||||
| lconway | macOS 12.6.5 Monterey / x86_64 | OK | OK | OK | OK | |||||||||
| kjohnson1 | macOS 13.6.1 Ventura / arm64 | see weekly results here | ||||||||||||
| kunpeng2 | Linux (openEuler 22.03 LTS-SP1) / aarch64 | OK | OK | OK | ||||||||||
|
To the developers/maintainers of the EBImage package: - Allow up to 24 hours (and sometimes 48 hours) for your latest push to git@git.bioconductor.org:packages/EBImage.git to reflect on this report. See Troubleshooting Build Report for more information. - Use the following Renviron settings to reproduce errors and warnings. - If 'R CMD check' started to fail recently on the Linux builder(s) over a missing dependency, add the missing dependency to 'Suggests:' in your DESCRIPTION file. See Renviron.bioc for more information. - See Martin Grigorov's blog post for how to debug Linux ARM64 related issues on a x86_64 host. |
| Package: EBImage |
| Version: 4.44.0 |
| Command: /home/biocbuild/R/R-4.3.1/bin/R CMD INSTALL EBImage |
| StartedAt: 2023-11-01 20:32:37 -0000 (Wed, 01 Nov 2023) |
| EndedAt: 2023-11-01 20:32:56 -0000 (Wed, 01 Nov 2023) |
| EllapsedTime: 18.2 seconds |
| RetCode: 0 |
| Status: OK |
##############################################################################
##############################################################################
###
### Running command:
###
### /home/biocbuild/R/R-4.3.1/bin/R CMD INSTALL EBImage
###
##############################################################################
##############################################################################
* installing to library ‘/home/biocbuild/R/R-4.3.1/site-library’
* installing *source* package ‘EBImage’ ...
** using staged installation
** libs
using C compiler: ‘gcc (GCC) 10.3.1’
using C++ compiler: ‘g++ (GCC) 10.3.1’
gcc -I"/home/biocbuild/R/R-4.3.1/include" -DNDEBUG -I/usr/local/include -fPIC -g -O2 -Wall -c EBImage.c -o EBImage.o
gcc -I"/home/biocbuild/R/R-4.3.1/include" -DNDEBUG -I/usr/local/include -fPIC -g -O2 -Wall -c clahe.c -o clahe.o
clahe.c: In function ‘CLAHE’:
clahe.c:223:19: warning: suggest parentheses around ‘+’ inside ‘>>’ [-Wparentheses]
223 | uiSubY = uiYSize+1 >> 1; uiYU = uiNrY-1; uiYB = uiYU;
| ~~~~~~~^~
clahe.c:235:23: warning: suggest parentheses around ‘+’ inside ‘>>’ [-Wparentheses]
235 | uiSubX = uiXSize+1 >> 1; uiXL = uiNrX - 1; uiXR = uiXL;
| ~~~~~~~^~
g++ -std=gnu++17 -I"/home/biocbuild/R/R-4.3.1/include" -DNDEBUG -I/usr/local/include -fPIC -g -O2 -Wall -c distmap.cpp -o distmap.o
gcc -I"/home/biocbuild/R/R-4.3.1/include" -DNDEBUG -I/usr/local/include -fPIC -g -O2 -Wall -c drawCircle.c -o drawCircle.o
g++ -std=gnu++17 -I"/home/biocbuild/R/R-4.3.1/include" -DNDEBUG -I/usr/local/include -fPIC -g -O2 -Wall -c floodFill.cpp -o floodFill.o
gcc -I"/home/biocbuild/R/R-4.3.1/include" -DNDEBUG -I/usr/local/include -fPIC -g -O2 -Wall -c getFrames.c -o getFrames.o
gcc -I"/home/biocbuild/R/R-4.3.1/include" -DNDEBUG -I/usr/local/include -fPIC -g -O2 -Wall -c haralick.c -o haralick.o
gcc -I"/home/biocbuild/R/R-4.3.1/include" -DNDEBUG -I/usr/local/include -fPIC -g -O2 -Wall -c medianFilter.c -o medianFilter.o
g++ -std=gnu++17 -I"/home/biocbuild/R/R-4.3.1/include" -DNDEBUG -I/usr/local/include -fPIC -g -O2 -Wall -c morphology.cpp -o morphology.o
morphology.cpp: In instantiation of ‘void compute_lookup_table_for_line_erode(type***, type*, int, int, chordSet*, PointXY) [with type = int]’:
morphology.cpp:253:39: required from ‘void erode_dilate(type*, type*, PointXY, int, int, chordSet*, type***) [with type = int]’
morphology.cpp:340:27: required from ‘void _morphology(type*, type*, PointXY, int, SEXP, int) [with type = int; SEXP = SEXPREC*]’
morphology.cpp:374:79: required from here
morphology.cpp:196:14: warning: statement has no effect [-Wunused-value]
196 | for (i; i < 0; ++i) {
| ^
morphology.cpp:199:14: warning: statement has no effect [-Wunused-value]
199 | for (i; i < maxX; ++i) {
| ^
morphology.cpp:203:14: warning: statement has no effect [-Wunused-value]
203 | for (i; i < size.x + set->maxXoffset; ++i) {
| ^
morphology.cpp: In instantiation of ‘void compute_lookup_table_for_line_dilate(type***, type*, int, int, chordSet*, PointXY) [with type = int]’:
morphology.cpp:257:39: required from ‘void erode_dilate(type*, type*, PointXY, int, int, chordSet*, type***) [with type = int]’
morphology.cpp:340:27: required from ‘void _morphology(type*, type*, PointXY, int, SEXP, int) [with type = int; SEXP = SEXPREC*]’
morphology.cpp:374:79: required from here
morphology.cpp:163:14: warning: statement has no effect [-Wunused-value]
163 | for (i; i < 0; ++i) {
| ^
morphology.cpp:166:14: warning: statement has no effect [-Wunused-value]
166 | for (i; i < maxX; ++i) {
| ^
morphology.cpp:170:14: warning: statement has no effect [-Wunused-value]
170 | for (i; i < size.x + set->maxXoffset; ++i) {
| ^
morphology.cpp: In instantiation of ‘void compute_lookup_table_for_line_erode(type***, type*, int, int, chordSet*, PointXY) [with type = double]’:
morphology.cpp:253:39: required from ‘void erode_dilate(type*, type*, PointXY, int, int, chordSet*, type***) [with type = double]’
morphology.cpp:340:27: required from ‘void _morphology(type*, type*, PointXY, int, SEXP, int) [with type = double; SEXP = SEXPREC*]’
morphology.cpp:377:76: required from here
morphology.cpp:196:14: warning: statement has no effect [-Wunused-value]
196 | for (i; i < 0; ++i) {
| ^
morphology.cpp:199:14: warning: statement has no effect [-Wunused-value]
199 | for (i; i < maxX; ++i) {
| ^
morphology.cpp:203:14: warning: statement has no effect [-Wunused-value]
203 | for (i; i < size.x + set->maxXoffset; ++i) {
| ^
morphology.cpp: In instantiation of ‘void compute_lookup_table_for_line_dilate(type***, type*, int, int, chordSet*, PointXY) [with type = double]’:
morphology.cpp:257:39: required from ‘void erode_dilate(type*, type*, PointXY, int, int, chordSet*, type***) [with type = double]’
morphology.cpp:340:27: required from ‘void _morphology(type*, type*, PointXY, int, SEXP, int) [with type = double; SEXP = SEXPREC*]’
morphology.cpp:377:76: required from here
morphology.cpp:163:14: warning: statement has no effect [-Wunused-value]
163 | for (i; i < 0; ++i) {
| ^
morphology.cpp:166:14: warning: statement has no effect [-Wunused-value]
166 | for (i; i < maxX; ++i) {
| ^
morphology.cpp:170:14: warning: statement has no effect [-Wunused-value]
170 | for (i; i < size.x + set->maxXoffset; ++i) {
| ^
gcc -I"/home/biocbuild/R/R-4.3.1/include" -DNDEBUG -I/usr/local/include -fPIC -g -O2 -Wall -c nativeRaster.c -o nativeRaster.o
gcc -I"/home/biocbuild/R/R-4.3.1/include" -DNDEBUG -I/usr/local/include -fPIC -g -O2 -Wall -c normalize.c -o normalize.o
gcc -I"/home/biocbuild/R/R-4.3.1/include" -DNDEBUG -I/usr/local/include -fPIC -g -O2 -Wall -c objects.c -o objects.o
objects.c: In function ‘paintObjects’:
objects.c:21:30: warning: unused variable ‘dp’ [-Wunused-variable]
21 | double *obj, *src, *tgt, dp, val;
| ^~
objects.c: In function ‘stackObjects’:
objects.c:295:10: warning: ‘res’ may be used uninitialized in this function [-Wmaybe-uninitialized]
295 | return res;
| ^~~
In file included from objects.h:5,
from objects.c:1:
/home/biocbuild/R/R-4.3.1/include/Rdefines.h:143:28: warning: ‘dim’ may be used uninitialized in this function [-Wmaybe-uninitialized]
143 | #define SET_DIM(x, n) Rf_setAttrib(x, R_DimSymbol, n)
| ^~~~~~~~~~~~
objects.c:192:13: note: ‘dim’ was declared here
192 | SEXP res, dim, xys, img;
| ^~~
gcc -I"/home/biocbuild/R/R-4.3.1/include" -DNDEBUG -I/usr/local/include -fPIC -g -O2 -Wall -c ocontour.c -o ocontour.o
g++ -std=gnu++17 -I"/home/biocbuild/R/R-4.3.1/include" -DNDEBUG -I/usr/local/include -fPIC -g -O2 -Wall -c propagate.cpp -o propagate.o
propagate.cpp: In function ‘SEXPREC* propagate(SEXP, SEXP, SEXP, SEXP)’:
propagate.cpp:174:31: warning: ‘mask’ may be used uninitialized in this function [-Wmaybe-uninitialized]
174 | if (! mask_in[IJ(p.i, p.j)]) continue;
| ^
propagate.cpp:197:8: note: ‘mask’ was declared here
197 | int *mask;
| ^~~~
gcc -I"/home/biocbuild/R/R-4.3.1/include" -DNDEBUG -I/usr/local/include -fPIC -g -O2 -Wall -c spatial.c -o spatial.o
g++ -std=gnu++17 -I"/home/biocbuild/R/R-4.3.1/include" -DNDEBUG -I/usr/local/include -fPIC -g -O2 -Wall -c thresh.cpp -o thresh.o
thresh.cpp: In instantiation of ‘void _thresh(T*, int*, int, int, int, int, double) [with T = int]’:
thresh.cpp:50:76: required from here
thresh.cpp:64:42: warning: unused variable ‘i’ [-Wunused-variable]
64 | int xi, yi, u, k, l, ou, nu, ov, nv, i;
| ^
thresh.cpp: In instantiation of ‘void _thresh(T*, int*, int, int, int, int, double) [with T = double]’:
thresh.cpp:53:76: required from here
thresh.cpp:64:42: warning: unused variable ‘i’ [-Wunused-variable]
g++ -std=gnu++17 -I"/home/biocbuild/R/R-4.3.1/include" -DNDEBUG -I/usr/local/include -fPIC -g -O2 -Wall -c tile.cpp -o tile.o
tile.cpp: In function ‘SEXPREC* tile(SEXP, SEXP, SEXP)’:
tile.cpp:24:17: warning: unused variable ‘ims’ [-Wunused-variable]
24 | SEXP res, dm, ims;
| ^~~
tile.cpp: In function ‘SEXPREC* untile(SEXP, SEXP, SEXP)’:
tile.cpp:161:29: warning: unused variable ‘y’ [-Wunused-variable]
161 | int nprotect=0, i, j, im, y, iim;
| ^
tile.cpp:162:18: warning: unused variable ‘dat’ [-Wunused-variable]
162 | SEXP res, dim, dat;
| ^~~
tile.cpp:163:11: warning: unused variable ‘src’ [-Wunused-variable]
163 | double *src, *tgt;
| ^~~
tile.cpp:163:17: warning: unused variable ‘tgt’ [-Wunused-variable]
163 | double *src, *tgt;
| ^~~
gcc -I"/home/biocbuild/R/R-4.3.1/include" -DNDEBUG -I/usr/local/include -fPIC -g -O2 -Wall -c tools.c -o tools.o
g++ -std=gnu++17 -I"/home/biocbuild/R/R-4.3.1/include" -DNDEBUG -I/usr/local/include -fPIC -g -O2 -Wall -c transpose.cpp -o transpose.o
g++ -std=gnu++17 -I"/home/biocbuild/R/R-4.3.1/include" -DNDEBUG -I/usr/local/include -fPIC -g -O2 -Wall -c watershed.cpp -o watershed.o
g++ -std=gnu++17 -shared -L/home/biocbuild/R/R-4.3.1/lib -L/usr/local/lib -o EBImage.so EBImage.o clahe.o distmap.o drawCircle.o floodFill.o getFrames.o haralick.o medianFilter.o morphology.o nativeRaster.o normalize.o objects.o ocontour.o propagate.o spatial.o thresh.o tile.o tools.o transpose.o watershed.o -L/home/biocbuild/R/R-4.3.1/lib -lR
installing to /home/biocbuild/R/R-4.3.1/site-library/00LOCK-EBImage/00new/EBImage/libs
** R
** inst
** byte-compile and prepare package for lazy loading
Creating a new generic function for ‘abind’ in package ‘EBImage’
** help
*** installing help indices
** building package indices
** installing vignettes
** testing if installed package can be loaded from temporary location
** checking absolute paths in shared objects and dynamic libraries
** testing if installed package can be loaded from final location
** testing if installed package keeps a record of temporary installation path
* DONE (EBImage)