| Back to Multiple platform build/check report for BioC 3.18: simplified long |
|
This page was generated on 2023-11-02 11:40:36 -0400 (Thu, 02 Nov 2023).
| Hostname | OS | Arch (*) | R version | Installed pkgs |
|---|---|---|---|---|
| nebbiolo2 | Linux (Ubuntu 22.04.2 LTS) | x86_64 | 4.3.1 (2023-06-16) -- "Beagle Scouts" | 4729 |
| palomino4 | Windows Server 2022 Datacenter | x64 | 4.3.1 (2023-06-16 ucrt) -- "Beagle Scouts" | 4463 |
| lconway | macOS 12.6.5 Monterey | x86_64 | 4.3.1 Patched (2023-06-17 r84564) -- "Beagle Scouts" | 4478 |
| kunpeng2 | Linux (openEuler 22.03 LTS-SP1) | aarch64 | 4.3.1 (2023-06-16) -- "Beagle Scouts" | 4464 |
| Click on any hostname to see more info about the system (e.g. compilers) (*) as reported by 'uname -p', except on Windows and Mac OS X | ||||
| Package 541/2266 | Hostname | OS / Arch | INSTALL | BUILD | CHECK | BUILD BIN | ||||||||
| DepecheR 1.18.0 (landing page) Jakob Theorell
| nebbiolo2 | Linux (Ubuntu 22.04.2 LTS) / x86_64 | OK | OK | OK | |||||||||
| palomino4 | Windows Server 2022 Datacenter / x64 | OK | OK | OK | OK | |||||||||
| lconway | macOS 12.6.5 Monterey / x86_64 | OK | OK | OK | OK | |||||||||
| kjohnson1 | macOS 13.6.1 Ventura / arm64 | see weekly results here | ||||||||||||
| kunpeng2 | Linux (openEuler 22.03 LTS-SP1) / aarch64 | OK | OK | OK | ||||||||||
|
To the developers/maintainers of the DepecheR package: - Allow up to 24 hours (and sometimes 48 hours) for your latest push to git@git.bioconductor.org:packages/DepecheR.git to reflect on this report. See Troubleshooting Build Report for more information. - Use the following Renviron settings to reproduce errors and warnings. - If 'R CMD check' started to fail recently on the Linux builder(s) over a missing dependency, add the missing dependency to 'Suggests:' in your DESCRIPTION file. See Renviron.bioc for more information. - See Martin Grigorov's blog post for how to debug Linux ARM64 related issues on a x86_64 host. |
| Package: DepecheR |
| Version: 1.18.0 |
| Command: /home/biocbuild/R/R-4.3.1/bin/R CMD check --install=check:DepecheR.install-out.txt --library=/home/biocbuild/R/R-4.3.1/site-library --no-vignettes --timings DepecheR_1.18.0.tar.gz |
| StartedAt: 2023-11-02 09:55:21 -0000 (Thu, 02 Nov 2023) |
| EndedAt: 2023-11-02 09:58:36 -0000 (Thu, 02 Nov 2023) |
| EllapsedTime: 195.1 seconds |
| RetCode: 0 |
| Status: OK |
| CheckDir: DepecheR.Rcheck |
| Warnings: 0 |
##############################################################################
##############################################################################
###
### Running command:
###
### /home/biocbuild/R/R-4.3.1/bin/R CMD check --install=check:DepecheR.install-out.txt --library=/home/biocbuild/R/R-4.3.1/site-library --no-vignettes --timings DepecheR_1.18.0.tar.gz
###
##############################################################################
##############################################################################
* using log directory ‘/home/biocbuild/bbs-3.18-bioc/meat/DepecheR.Rcheck’
* using R version 4.3.1 (2023-06-16)
* using platform: aarch64-unknown-linux-gnu (64-bit)
* R was compiled by
gcc (GCC) 10.3.1
GNU Fortran (GCC) 10.3.1
* running under: openEuler 22.03 (LTS-SP1)
* using session charset: UTF-8
* using option ‘--no-vignettes’
* checking for file ‘DepecheR/DESCRIPTION’ ... OK
* this is package ‘DepecheR’ version ‘1.18.0’
* package encoding: UTF-8
* checking package namespace information ... OK
* checking package dependencies ... OK
* checking if this is a source package ... OK
* checking if there is a namespace ... OK
* checking for hidden files and directories ... OK
* checking for portable file names ... OK
* checking for sufficient/correct file permissions ... OK
* checking whether package ‘DepecheR’ can be installed ... OK
* used C++ compiler: ‘g++ (GCC) 10.3.1’
* checking C++ specification ... NOTE
Specified C++11: please drop specification unless essential
* checking installed package size ... OK
* checking package directory ... OK
* checking ‘build’ directory ... OK
* checking DESCRIPTION meta-information ... OK
* checking top-level files ... OK
* checking for left-over files ... OK
* checking index information ... OK
* checking package subdirectories ... OK
* checking R files for non-ASCII characters ... OK
* checking R files for syntax errors ... OK
* checking whether the package can be loaded ... OK
* checking whether the package can be loaded with stated dependencies ... OK
* checking whether the package can be unloaded cleanly ... OK
* checking whether the namespace can be loaded with stated dependencies ... OK
* checking whether the namespace can be unloaded cleanly ... OK
* checking loading without being on the library search path ... OK
* checking dependencies in R code ... OK
* checking S3 generic/method consistency ... OK
* checking replacement functions ... OK
* checking foreign function calls ... OK
* checking R code for possible problems ... OK
* checking Rd files ... OK
* checking Rd metadata ... OK
* checking Rd cross-references ... OK
* checking for missing documentation entries ... OK
* checking for code/documentation mismatches ... OK
* checking Rd \usage sections ... OK
* checking Rd contents ... OK
* checking for unstated dependencies in examples ... OK
* checking contents of ‘data’ directory ... OK
* checking data for non-ASCII characters ... OK
* checking data for ASCII and uncompressed saves ... OK
* checking line endings in C/C++/Fortran sources/headers ... OK
* checking line endings in Makefiles ... OK
* checking compilation flags in Makevars ... OK
* checking for GNU extensions in Makefiles ... OK
* checking for portable use of $(BLAS_LIBS) and $(LAPACK_LIBS) ... OK
* checking use of PKG_*FLAGS in Makefiles ... OK
* checking compiled code ... NOTE
Note: information on .o files is not available
File ‘/home/biocbuild/R/R-4.3.1/site-library/DepecheR/libs/DepecheR.so’:
Found ‘rand’, possibly from ‘rand’ (C)
Found ‘srand’, possibly from ‘srand’ (C)
Compiled code should not call entry points which might terminate R nor
write to stdout/stderr instead of to the console, nor use Fortran I/O
nor system RNGs nor [v]sprintf. The detected symbols are linked into
the code but might come from libraries and not actually be called.
See ‘Writing portable packages’ in the ‘Writing R Extensions’ manual.
* checking files in ‘vignettes’ ... OK
* checking examples ... OK
* checking for unstated dependencies in ‘tests’ ... OK
* checking tests ...
Running ‘testthat.R’
OK
* checking for unstated dependencies in vignettes ... OK
* checking package vignettes in ‘inst/doc’ ... OK
* checking running R code from vignettes ... SKIPPED
* checking re-building of vignette outputs ... SKIPPED
* checking PDF version of manual ... OK
* DONE
Status: 2 NOTEs
See
‘/home/biocbuild/bbs-3.18-bioc/meat/DepecheR.Rcheck/00check.log’
for details.
DepecheR.Rcheck/00install.out
############################################################################## ############################################################################## ### ### Running command: ### ### /home/biocbuild/R/R-4.3.1/bin/R CMD INSTALL DepecheR ### ############################################################################## ############################################################################## * installing to library ‘/home/biocbuild/R/R-4.3.1/site-library’ * installing *source* package ‘DepecheR’ ... ** using staged installation ** libs using C++ compiler: ‘g++ (GCC) 10.3.1’ using C++11 g++ -std=gnu++11 -I"/home/biocbuild/R/R-4.3.1/include" -DNDEBUG -I../inst/include -pthread -I'/home/biocbuild/R/R-4.3.1/site-library/Rcpp/include' -I'/home/biocbuild/R/R-4.3.1/site-library/RcppEigen/include' -I/usr/local/include -fPIC -g -O2 -Wall -c Clusterer.cpp -o Clusterer.o g++ -std=gnu++11 -I"/home/biocbuild/R/R-4.3.1/include" -DNDEBUG -I../inst/include -pthread -I'/home/biocbuild/R/R-4.3.1/site-library/Rcpp/include' -I'/home/biocbuild/R/R-4.3.1/site-library/RcppEigen/include' -I/usr/local/include -fPIC -g -O2 -Wall -c InterfaceUtils.cpp -o InterfaceUtils.o g++ -std=gnu++11 -I"/home/biocbuild/R/R-4.3.1/include" -DNDEBUG -I../inst/include -pthread -I'/home/biocbuild/R/R-4.3.1/site-library/Rcpp/include' -I'/home/biocbuild/R/R-4.3.1/site-library/RcppEigen/include' -I/usr/local/include -fPIC -g -O2 -Wall -c RcppExports.cpp -o RcppExports.o g++ -std=gnu++11 -shared -L/home/biocbuild/R/R-4.3.1/lib -L/usr/local/lib -o DepecheR.so Clusterer.o InterfaceUtils.o RcppExports.o -L/home/biocbuild/R/R-4.3.1/lib -lR if test -e "/usr/bin/strip" && test -e "/bin/uname" && [[ `uname` == "Linux" ]] ; then /usr/bin/strip --strip-debug DepecheR.so; fi rm *.o installing to /home/biocbuild/R/R-4.3.1/site-library/00LOCK-DepecheR/00new/DepecheR/libs ** R ** data ** inst ** byte-compile and prepare package for lazy loading ** help *** installing help indices ** building package indices ** installing vignettes ** testing if installed package can be loaded from temporary location ** checking absolute paths in shared objects and dynamic libraries ** testing if installed package can be loaded from final location ** testing if installed package keeps a record of temporary installation path * DONE (DepecheR)
DepecheR.Rcheck/tests/testthat.Rout
R version 4.3.1 (2023-06-16) -- "Beagle Scouts"
Copyright (C) 2023 The R Foundation for Statistical Computing
Platform: aarch64-unknown-linux-gnu (64-bit)
R is free software and comes with ABSOLUTELY NO WARRANTY.
You are welcome to redistribute it under certain conditions.
Type 'license()' or 'licence()' for distribution details.
R is a collaborative project with many contributors.
Type 'contributors()' for more information and
'citation()' on how to cite R or R packages in publications.
Type 'demo()' for some demos, 'help()' for on-line help, or
'help.start()' for an HTML browser interface to help.
Type 'q()' to quit R.
> library(testthat)
> library(DepecheR)
>
> test_check("DepecheR")
[1] "Done with k-means"
[1] "Now the first bit is done, and the iterative part takes off"
[1] "Clusters 1 to 1 smoothed in 14.6303720474243 . Now, 0 clusters are left."
[1] "Done with k-means"
[1] "Now the first bit is done, and the iterative part takes off"
[1] "Clusters 1 to 1 smoothed in 9.10655832290649 . Now, 0 clusters are left."
[ FAIL 0 | WARN 0 | SKIP 0 | PASS 24 ]
>
> proc.time()
user system elapsed
7.462 1.383 103.177
DepecheR.Rcheck/DepecheR-Ex.timings
| name | user | system | elapsed | |
| dAllocate | 0.127 | 0.004 | 0.131 | |
| dColorPlot | 0.123 | 0.004 | 0.128 | |
| dColorVector | 0.148 | 0.000 | 0.154 | |
| dContours | 2.366 | 1.070 | 4.459 | |
| dDensityPlot | 0.171 | 0.003 | 0.176 | |
| dResidualPlot | 0.180 | 0.001 | 0.181 | |
| dScale | 0.431 | 0.019 | 0.452 | |
| dSplsda | 0.160 | 0.004 | 0.164 | |
| dViolins | 0.411 | 0.008 | 0.431 | |
| dWilcox | 0.170 | 0.004 | 0.174 | |
| depeche | 0.182 | 0.000 | 0.182 | |
| groupProbPlot | 0.257 | 0.000 | 0.258 | |
| nUniqueNeighDons | 0.246 | 0.000 | 0.247 | |
| neighSmooth | 0.229 | 0.000 | 0.229 | |